Workbook
Name Document_array: {"Book1"}
Name GG: {"Book1"}
Name 급여대장본부지자체구분: '[1]1 자원총괄'!#REF!
Name 김옥희조리사: '[1]1 자원총괄'!#REF!
Name 다복동급여대장: {"Book1","09직원급여(08년기준).xls"}
Name ㅇㅇㅇㅇㅇㅇ: '[2]1 자원총괄'!#REF!
Name 종____로__말소자: '[1]1 자원총괄'!#REF!

Sheet 예산총칙
A2: 예 산 총 칙
A4: 제1조 사회복지법인 혜원 부산영도시니어클럽의 2026년도 예산서 세입 · 세출 예산 총칙은
C5: =D16 -> 16274270000 | D5: =D16 -> 16274270000
A7: 제2조 1. 세입세출의 명세는 세입 · 세출 예산서와 같다.
A8: 2. 세입의 주요재원은 다음과 같다.
C10: 사업수입 | D10: =SUM(예산총괄표!F7:F8) -> 1754973200
C11: 보조금수입 | D11: =SUM(예산총괄표!F9:F11) -> 14129014040
C12: 후원금수입 | D12: =SUM(예산총괄표!F12:F13) -> 6000000
C13: 전입금 | D13: =SUM(예산총괄표!F14:F15) -> 4000000
C14: 이월금 | D14: =SUM(예산총괄표!F16:F17) -> 352214129
C15: 잡수입 | D15: =SUM(예산총괄표!F18:F20) -> 28068631
C16: 계 | D16: =SUM(D10:E15) -> 16274270000
B18: 3. 세출의 내용은 다음과 같다.
C20: 사무비 | D20: =SUM(예산총괄표!L7:L20) -> 502607968
C21: 재산조성비 | D21: =SUM(예산총괄표!L20:L20) -> 0
C22: 사업비 | D22: =SUM(예산총괄표!L21:L67) -> 15613338714
C23: 잡지출
C24: 예비비 및 기타 | D24: =SUM(예산총괄표!L68:L69) -> 158323318
C25: 계 | D25: =SUM(D20:E24) -> 16274270000
A27: 제3조 예산비용이 긴박한 경우 시설의 장이 우선 집행하고 이사회의 결의를 얻도록 한다.

Sheet 예산총괄표
A1: 부산영도시니어클럽 2026년 예산 총괄표
L2: (단위 : 원)
A4: 순번 | B4: 세입 | H4: 세출
B5: 관 | C5: 항 | D5: 목 | E5: 예산액 | H5: 관 | I5: 항 | J5: 목 | K5: 예산액
E6: 전년도(A) | F6: 당해년도(B) | G6: 증감액(C=B-A) | K6: 전년도(A) | L6: 당해년도(B) | M6: 증감액(C=B-A)
A7: 1 | B7: 사업수입 | C7: 사업수입 | D7: 노인일자리사업수입 | E7: 1284733000 | F7: 1389360000 | G7: =F7-E7 -> 104627000 | H7: 사무비 | I7: 인건비 | J7: 급여 | K7: 283517600 | L7: 315387600 | M7: =L7-K7 -> 31870000
A8: 2 | D8: 고유사업수입 | E8: 306453900 | F8: 365613200 | G8: =F8-E8 -> 59159300 | J8: 제수당 | K8: 53029740 | L8: 70279090 | M8: =L8-K8 -> 17249350
A9: 3 | B9: 보조금수입 | C9: 보조금수입 | D9: 국고보조금 | E9: 5523067220 | F9: 6830684020 | G9: =F9-E9 -> 1307616800 | J9: 퇴직금 및 퇴직적립금 | K9: 28562160 | L9: 31640480 | M9: =L9-K9 -> 3078320
A10: 4 | D10: 시도보조금 | E10: 3118130750 | F10: 3797585010 | G10: =F10-E10 -> 679454260 | J10: 사회보험부담금 | K10: 33495380 | L10: 40680880 | M10: =L10-K10 -> 7185500
A11: 5 | D11: 시군구보조금 | E11: 2845427250 | F11: 3500745010 | G11: =F11-E11 -> 655317760 | J11: 기타후생경비 | K11: 15920000 | L11: 16200000 | M11: =L11-K11 -> 280000
A12: 6 | B12: 후원금수입 | C12: 후원금수입 | D12: 지정후원금 | G12: =F12-E12 -> 0 | H12: 사무비 | I12: 업무추진비 | J12: 기관운영비 | K12: 607000 | L12: 1000000 | M12: =L12-K12 -> 393000
A13: 7 | D13: 비지정후원금 | E13: 6000000 | F13: 6000000 | G13: =F13-E13 -> 0 | J13: 회의비 | K13: 126100 | L13: 300000 | M13: =L13-K13 -> 173900
A14: 8 | B14: 전입금 | C14: 전입금 | D14: 법인전입금 | E14: 4000000 | F14: 4000000 | G14: =F14-E14 -> 0 | H14: 사무비 | I14: 운영비 | J14: 여비 | K14: 380920 | L14: 300000 | M14: =L14-K14 -> -80920
A15: 9 | D15: 법인전입금(후원금) | G15: =F15-E15 -> 0 | J15: 수용비 및 수수료 | K15: 21222136 | L15: 10595050 | M15: =L15-K15 -> -10627086
A16: 10 | B16: 이월금 | C16: 이월금 | D16: 전년도이월금 | E16: 321593071 | F16: 352214129 | G16: =F16-E16 -> 30621058 | J16: 공공요금 | K16: 2958970 | L16: 2700000 | M16: =L16-K16 -> -258970
A17: 11 | D17: 전년도이월금(후원금) | G17: =F17-E17 -> 0 | J17: 제세공과금 | K17: 5605710 | L17: 5800000 | M17: =L17-K17 -> 194290
A18: 12 | B18: 잡수입 | C18: 잡수입 | D18: 불용매각대 | E18: 0 | G18: =F18-E18 -> 0 | J18: 차량비 | K18: 441280 | L18: 600000 | M18: =L18-K18 -> 158720
A19: 13 | D19: 기타예금이자수입 | E19: 334007 | F19: 394761 | G19: =F19-E19 -> 60754 | J19: 기타운영비 | K19: 4626060 | L19: 7124868 | M19: =L19-K19 -> 2498808
A20: 14 | D20: 기타잡수입 | E20: 19932906 | F20: 27673870 | G20: =F20-E20 -> 7740964 | H20: 재산조성비 | I20: 시설비 | J20: 시설장비유지비 | K20: 0 | L20: 0 | M20: =L20-K20 -> 0
A21: 15 | E21: 0 | F21: 0 | G21: 0 | H21: 사업비 | I21: 사업단사업비 | J21: 방아깨비사업비 | K21: 291115138 | L21: 304475000 | M21: =L21-K21 -> 13359862
A22: 16 | E22: 0 | F22: 0 | G22: 0 | J22: 어울림사업비 | K22: 497216000 | L22: 504780000 | M22: =L22-K22 -> 7564000
A23: 17 | E23: 0 | F23: 0 | G23: 0 | J23: 주차장관리사업비 | K23: 309928500 | L23: 355433000 | M23: =L23-K23 -> 45504500
A24: 18 | E24: 0 | F24: 0 | G24: 0 | J24: 요리조리사업비 | K24: 503297453 | L24: 538027914 | M24: =L24-K24 -> 34730461
A25: 19 | E25: 0 | F25: 0 | G25: 0 | J25: 싱싱가게사업비 | K25: 196467570 | L25: 264658800 | M25: =L25-K25 -> 68191230
A26: 20 | E26: 0 | F26: 0 | G26: 0 | J26: 풀잎0℃카페사업비 | K26: 305889860 | L26: 352452000 | M26: =L26-K26 -> 46562140
A27: 21 | E27: 0 | F27: 0 | G27: 0 | J27: 금비사업비 | K27: 211964000 | L27: 211710800 | M27: =L27-K27 -> -253200
A28: 22 | E28: 0 | F28: 0 | G28: 0 | J28: 공공시설봉사사업비 | K28: 475170000 | L28: 471800000 | M28: =L28-K28 -> -3370000
A29: 23 | E29: 0 | F29: 0 | G29: 0 | J29: 맑은누리사업비 | K29: 269600000 | L29: 269600000 | M29: =L29-K29 -> 0
A30: 24 | E30: 0 | F30: 0 | G30: 0 | J30: 학교환경관리사업비 | K30: 630190000 | M30: =L30-K30 -> -630190000
A31: 25 | E31: 0 | F31: 0 | G31: 0 | J31: 자원순환사사업비 | K31: 660520000 | L31: 640300000 | M31: =L31-K31 -> -20220000
A32: 26 | E32: 0 | F32: 0 | G32: 0 | J32: 횡단보도관리사업비 | K32: 687480000 | L32: 687480000 | M32: =L32-K32 -> 0
A33: 27 | E33: 0 | F33: 0 | G33: 0 | J33: 지역공원클린사업사업비 | K33: 593120000 | L33: 572900000 | M33: =L33-K33 -> -20220000
A34: 28 | E34: 0 | F34: 0 | G34: 0 | J34: 푸른바다사업비 | K34: 337000000 | L34: 337000000 | M34: =L34-K34 -> 0
A35: 29 | E35: 0 | F35: 0 | G35: 0 | J35: 학교교통지킴이사업비 | K35: 778470000 | M35: =L35-K35 -> -778470000
A36: 30 | E36: 0 | F36: 0 | G36: 0 | J36: 교통안전활동사업비 | K36: 576270000 | L36: 572900000 | M36: =L36-K36 -> -3370000
A37: 31 | E37: 0 | F37: 0 | G37: 0 | J37: 안전생활서비스사업비 | K37: 998752000 | L37: 1642016000 | M37: =L37-K37 -> 643264000
A38: 32 | E38: 0 | F38: 0 | G38: 0 | J38: 지역아동센터봉사사업비 | K38: 507840000 | L38: 575552000 | M38: =L38-K38 -> 67712000
A39: 33 | E39: 0 | F39: 0 | G39: 0 | J39: 마을지킴이사업비 | K39: 338560000 | L39: 507840000 | M39: =L39-K39 -> 169280000
A40: 34 | E40: 0 | F40: 0 | G40: 0 | J40: 기타시설지원사업비 | K40: 482448000 | M40: =L40-K40 -> -482448000
A41: 35 | E41: 0 | F41: 0 | G41: 0 | J41: 공익증진서비스사업비 | K41: 93104000 | M41: =L41-K41 -> -93104000
A42: 36 | E42: 0 | F42: 0 | G42: 0 | J42: 소방안전사업비 | K42: 67712000 | L42: 84640000 | M42: =L42-K42 -> 16928000
A43: 37 | E43: 0 | F43: 0 | G43: 0 | J43: 장애인시설지원사업비 | K43: 93104000 | M43: =L43-K43 -> -93104000
A44: 38 | E44: 0 | F44: 0 | G44: 0 | J44: 보육교사도우미사업비 | K44: 770224000 | L44: 1083392000 | M44: =L44-K44 -> 313168000
A45: 39 | E45: 0 | F45: 0 | G45: 0 | J45: 치안지킴이사업비 | K45: 236971140 | L45: 338560000 | M45: =L45-K45 -> 101588860
A46: 40 | E46: 0 | F46: 0 | G46: 0 | J46: 담당자사업비 | K46: 571710000 | L46: 744048000 | M46: =L46-K46 -> 172338000
A47: 41 | J47: 실버보금자리사업비 | K47: 35000000 | L47: 35000000 | M47: =L47-K47 -> 0
A48: 42 | E48: 0 | F48: 0 | G48: 0 | J48: 마을탐방사업비 | K48: 143888000 | L48: 169280000 | M48: =L48-K48 -> 25392000
A49: 43 | E49: 0 | F49: 0 | G49: 0 | J49: 마을지기 | K49: 169280000 | L49: 169280000 | M49: =L49-K49 -> 0
A50: 44 | E50: 0 | F50: 0 | G50: 0 | J50: 우체국지원사업비 | K50: 135424000 | M50: =L50-K50 -> -135424000
A51: 45 | J51: 위기가구관리사업비 | K51: 93104000 | M51: =L51-K51 -> -93104000
A52: 46 | E52: 0 | F52: 0 | G52: 0 | J52: 마을건강파트너사업비 | K52: 67712000 | M52: =L52-K52 -> -67712000
A53: 47 | E53: 0 | F53: 0 | G53: 0 | J53: ESG사업비 | K53: 296240000 | M53: =L53-K53 -> -296240000
A54: 48 | G54: 0 | J54: 폐의약품사업비 | K54: 0 | L54: 168500000 | M54: =L54-K54 -> 168500000
A55: 49 | G55: 0 | J55: 환경지킴이사업비 | K55: 0 | L55: 303300000 | M55: =L55-K55 -> 303300000
A56: 50 | G56: 0 | J56: 생활지원사업비 | K56: 0 | L56: 110032000 | M56: =L56-K56 -> 110032000
A57: 51 | G57: 0 | J57: 행정지원사업비 | K57: 0 | L57: 414736000 | M57: =L57-K57 -> 414736000
A58: 52 | G58: 0 | J58: 안전관리사업비 | K58: 0 | L58: 118496000 | M58: =L58-K58 -> 118496000
A59: 53 | G59: 0 | J59: 돌봄지원사업비 | K59: 0 | L59: 152352000 | M59: =L59-K59 -> 152352000
A60: 54 | G60: 0 | J60: ESG환경도슨튼사업비 | K60: 0 | L60: 507840000 | M60: =L60-K60 -> 507840000
A61: 55 | G61: 0 | J61: 스쿨존도우미사업비 | K61: 0 | L61: 700960000 | M61: =L61-K61 -> 700960000
A62: 56 | G62: 0 | J62: 스쿨존지킴이사업비 | K62: 0 | L62: 687480000 | M62: =L62-K62 -> 687480000
J63: 복지시설사업비 | L63: 643264000 | M63: =L63-K63 -> 643264000
A64: 58 | G64: 0 | H64: 사업비 | I64: 사업단지원사업비 | J64: 시장형지원사업비 | K64: 16964230 | M64: =L64-K64 -> -16964230
A65: 60 | E65: 0 | F65: 0 | G65: 0 | H65: 사업비 | I65: 사업단지원사업비 | J65: 기타사업지원사업비 | K65: 12028560 | L65: 11000000 | M65: =L65-K65 -> -1028560
A66: 61 | E66: 0 | F66: 0 | G66: 0 | H66: 사업비 | I66: 일반사업비 | J66: 홍보사업비 | K66: 955507 | L66: 0 | M66: =L66-K66 -> -955507
A67: 62 | E67: 0 | F67: 0 | G67: 0 | H67: 사업비 | I67: 고유사업비 | J67: 고유사업비 | K67: 300235070 | L67: 362253200 | M67: =L67-K67 -> 62018130
A68: 63 | H68: 예비비 및 기타 | I68: 예비비 및 기타 | J68: 예비비 | K68: 129823277 | L68: 31481672 | M68: =L68-K68 -> -98341605
A69: 64 | E69: 0 | F69: 0 | G69: 0 | H69: 예비비 및 기타 | I69: 예비비 및 기타 | J69: 반환금 | K69: 94400743 | L69: 126841646 | M69: =L69-K69 -> 32440903
A70: 합계 | E70: =SUM(E7:E69) -> 13429672104 | F70: =SUM(F7:F69) -> 16274270000 | G70: =SUM(G7:G69) -> 2844597896 | H70: 합계 | K70: =SUM(K7:K69) -> 13429672104 | L70: =SUM(L7:L69) -> 16274270000 | M70: =SUM(M7:M69) -> 2844597896

Sheet 세입내역서
A1: 부산영도시니어클럽 2026년 예산 세입내역서
I2: (단위 : 원)
A3: 순번 | B3: 구분 | C3: 관 | D3: 항 | E3: 목 | F3: 예산액 | I3: 산출내역
F4: 전년도(A) | G4: 당해년도(B) | H4: 증감액 (C=B-A)
A5: 1 | B5: 세입 | C5: 사업수입 | D5: 사업수입 | E5: 노인일자리사업수입 | F5: 1284733000 | G5: 1389360000 | H5: 104627000 | I5: 싱싱가게사업수입 16,695,000*12개월,0℃카페사업단수입 20,000,000*12개월,주차장사업수입 20,000,000*12개월,요리조리사업수입 22,975,000*12개월,방아깨비사업수입 19,170,000*12개월,어울림사업수입 7,500,000*12개월,금비사업수입 9,440,000*12개월
A6: 2 | B6: 세입 | C6: 사업수입 | D6: 사업수입 | E6: 고유사업수입 | F6: 306453900 | G6: 365613200 | H6: 59159300 | I6: 지킴이사업 수입금 28,000,000*12개월,지킴이이자 1,970,지킴이사업 전년도 이월금 26,596,230+3,000,000,지킴이잡수입 15,000원
A7: 3 | B7: 세입 | C7: 보조금수입 | D7: 보조금수입 | E7: 국고보조금 | F7: 5523067220 | G7: 6830684020 | H7: 1307616800 | I7: 어울림국고 389,820,000*50%,싱싱가게국고 53,400,000*50%,공공시설국고 ,471,800,000*50%,자원순환국고 640,300,000*50%,%.마을탐방국고 169,280,000*50%,안전생활국고 1,642,016,000*50%,국고보조금 135,424,000*50%,방아깨비국고 26,700,000*50%,푸른바다국고 337,000,000*50%,소방안전국고보조금 84,640,000*50%,담당자국고보조금 744,048,000*50%,ESG국고 296,240,000*50%,생활지원국고110,032,000*50%,ESG환경도슨트국고보조금 507,840,000*50%,주차장국고 66,750,000*50%,금비국고 2,670,000*35명*50%, 보육교사국고보조금 1,083,392,040*50% ,선도모델국고보조금 17,000,000,폐의약품수거국고 168,500,000*50%,스쿨존지킴이국고687,480,000*50%,요리조리국고보조금 2,670,000*80명*50%,0℃카페사업단국고 80,100,000*50%,횡단보도관리국고 687,480,000*50%,지역아동국고 575,552,000*50%,행정지원국고보조금 414,736,000*50%,스쿨존도우미국고 700,960,000*50%,마을지기국고보조금 169,280,000*50%,동네환경클린국고 303,300,000*50%,돌봄국고보조금 152,352,000*50%,맑은누리국고 269,600,000*50%,지역공원클린국고 572,900,000*50%,,마을지킴이국고보조금 507,840,000*50%,치안지킴이국고보조금338,560,000*50%,인센티브국고 15,000,000,안전관리국고보조금 118,496,000*50%
A8: 4 | B8: 세입 | C8: 보조금수입 | D8: 보조금수입 | E8: 시도보조금 | F8: 3118130750 | G8: 3797585010 | H8: 679454260 | I8: 금비시도 2,670,000*35명*25%,횡단보도관리시도 687,480,000*25%,스쿨존도우미시도 700,960,000*25%,기관시도(운영비)48,846,000.싱싱가게시도 53,400,000*25%,푸른바다시도 337,000,000*25%,기관운영시도보조금(인건비) 327,437,000,마을지기시도보조금 169,280,000*25%,방아깨비시도 26,700,000*25%,기관운영시도보조금(시간외) 20,160,000,보육교사시도보조금1,083,392,040*25%,담당자시도보조금 744,048,000*25%,생활지원시도110,032,000*25%,기관운영시도보조금(복지포인트) 1,200,000,카페사업단시도보조금 2,670,000*30명*25%,폐의약품수거시도 168,500,000*25%,행정지원시도보조금 414,736,000*25%,안전관리시도보조금118,496,000*25%,주차장시도 66,750,000*25%,지역공원클린시도 572,900,000*25%,동네환경클린시도 303,300,000*25%,스쿨존지킴이시도 687,480,000*25%,어울림시도 389,820,000*25%,공공시설봉사시도 471,800,000*25%,맑은누리시도보조금 269,600,000*25%,소방안전시도보조금 84,640,000*25%,자원순환시도 640,300,000*25%,지역아동시도 575,552,000*25%,돌봄시도보조금 152,352,000*25%,ESG환경도슨트시도보조금 507,840,000*25%,요리조리시도보조금 2,670,000*80명*25%,안전생활시도 1,642,016,000*25%,,마을지킴이시도보조금 507,840,000*25%,치안지킴이시도 338,560,000*25%,마을탐방시도 169,280,000*25%,기관운영시도보조금(관리자) 600,000
A9: 5 | B9: 세입 | C9: 보조금수입 | D9: 보조금수입 | E9: 시군구보조금 | F9: 2845427250 | G9: 3500745010 | H9: 655317760 | I9: 주차장시군구 66,750,000*25%,요리조리사업단보조금 2,670,000*80명*25%,ESG환경도슨트시군구보조금 507,840,000*25%,방아깨비시군구 26,700,000*25%,싱싱가게시군구 53,400,000*25%,맑은누리시군구 269,600,000*25%,자원순환시군구 640,300,000*25%,푸른바다시군구 337,000,000*25%,마을탐방시군구 169,280,000*25%,스쿨존도우미시군구 700,960,000*25%,카페사업단시군구보조금 2,670,000*30명*25%,횡단보도시군구보조금 687,480,000*25%,마을지킴이시군구보조금 507,840,000*25%,소방안전시군구보조금 84,640,000*25%,동네환경클린시군구 303,300,000*25%,어울림시군구 389,820,000*25%,돌봄시군구보조금 152,352,*25%,지역아동시군구 575,552,000*25%,공공시설봉사시군구 471,800,000*25%,치안지킴이시군구 338,560,000*25%,마을지기시도보조금 69,280,000*25%,기관운영시군구보조금(운영비) 8,620,000,안전관리시군구보조금 118,496,*25%,스쿨존지킴이시군구 687,480,000*25%,금비시군구 2,670,000*35명*25%,지역공원클린시군구 572,900,000*25%,안전생활시군구 1,642,016,000*25%,보육교사시군구보조금 1,083,392,040*25%,담당자시군구보조금 744,048,000*25%,생활지원시군구 643,264,000*25%,기관운영시군구보조금(인건비) 57,783,000,보금자리사업단시도보조금 35,000,0000*100%,폐의약품수거시군구 168,500,000*25%,행정지원시군구보조금 414,736,000,*25%
A10: 6 | B10: 세입 | C10: 후원금수입 | D10: 후원금수입 | E10: 비지정후원금 | F10: 6000000 | G10: 6000000 | H10: 0 | I10: 비지정후원금 6,000,000
A11: 7 | B11: 세입 | C11: 전입금 | D11: 전입금 | E11: 법인전입금 | F11: 4000000 | G11: 4000000 | H11: 0 | I11: 법인전입(자) 4,000,000
A12: 8 | B12: 세입 | C12: 이월금 | D12: 이월금 | E12: 전년도이월금 | F12: 321593071 | G12: 352214129 | H12: 30621058 | I12: 방아깨비전년도이월금(보-이자) 971,방아깨비전년도이월금(수) 2,587,730+44,947,000,공공시설전년도이월금(보-이자) 16,051,마을지킴이전년도이월금(보-이자) 9,003,공익증전년도이월금 (보-이자) 2,163,소방안전사업전년도이월금(보조금-예금이자) 1,403,보금자리전년도이월금(보-이자) 788,보행정보이월금 2,361,우체국 전년도이월금 (보-이자) 2,060,기관(보)이자 15,129 복지포인트 20,000 시간외 1,142,870,전년도이월금(보-이자) 990,싱싱가게전년도이월금(수입금) 1,524,000+10,895,000,카페전년도이월금(보-이자) 4,415,카페전년도이월금(수) 2,150,000+32,600,000,푸른바다 전년도이월금(보조금-예금이자) 11,599,보육교사사업전년도이월금(보조금-예금이자) 15,000,ESG환경도슨트전년도이월금(보-이자) 9,003,스쿨존지킴이전년도이월금(보-이자) 12,592,어울림전년도이월금(보-이자) 15,648,어울림전년도이월금(보) 113,390,907,어울림전년도이월금(수) 852,000+25,000,000,주차장전년도이월금(보-이자) 1,913,주차장전년도이월금(수입금) 2,170,000+43,900,000,서포터즈이월금 3,782,옛이야기(신중년)이월금 13,안전생활전년도이월금(보-이자) 23,037,안전생활전년도이월금(자부담-기타잡수입) 6,513,490 사회보험환급금",마을탐방전년도이월금(보-이자) 3,302,생활지원전년도이월금(보-이자) 2,163 횡단보도관리전년도이월금(보-이자) 18,652,지역공원클린전년도이월금(보-이자) 14,296,치안지킴이사업전년도이월금(보-이자) 6,531,기관운영(자)전년도이월금 158,190,마을지기전년도이월금 4,346원(보조금-이자) 4,436,국민(후)전년도이월 1,000,000,스쿨존도우미전년도이월금(보-이자) 15,209,금비전년도이월금(보-이자) 4,346,금비전년도이월금(수입금) 1,083,600+5,025,000,자원순환전년도이월금(보-이자) 15,840,기관(인센)이월금 36,요리조리전년도이월금(보조금-기타예금이자) 6,498,요리조리전년도이월금(사회보험환급금) 190,950,요리조리전년도이월금(수입금) 2,480,000+49,000,000,맑은누리전년도이월금(보-이자) 6,231,담당자전년도이월금(잡수입) 1,178,434,담당자전년도이월금(보-이자) 13,703,담당자전년도이월금(보) 4,112,756
A13: 9 | B13: 세입 | C13: 잡수입 | D13: 잡수입 | E13: 기타예금이자수입 | F13: 334007 | G13: 394761 | H13: 60754 | I13: 싱싱(수)이자수입 3,200,보육교사사업기타예금이자수입(보조금) 20,000,치안지킴이사업이자(보-이자) 10,469,국민(후)이자수입 1,000,방아깨비 이자수입(보) 1,029 금비이자(보) 5,654,기관(보)이자수입 16,000,방아깨비 이자수입(수) 6,000,싱싱(보)이자수입 1,510,금비이자(수) 5,000,소방안전사업기타예금이자수입(보조금) 1,597,마을탐방이자(보) 6,698,폐의약품수거이자(보) 10,000,돌봄이자(보) 2,000,스쿨존도우미이자(보) 14,791,법인(자)이자수입 1,775,카페이자수입(보) 4,585,맑은누리이자(보) 8,769,안전생활전년도이월금(보-이자) 30,463,안전관리이자(보) 2,000,스쿨존지킴이이자(보) 17,408,기관(자)이자수입 1,000,기관(인센)이자수입 1,000,요리조리이자(보) 4,606,카페이자수입(수) 2,000,공공시설이자(보) 18,949,횡단보도관리이자(보) 18,348,보금자리(보-이자) 1,212,자원순환이자(보) 19,160,지역공원클린이자(보) 15,704,마을지킴이이자(보-이자) 13,997,담당자이자수입 15,107,동네환경클린이자(보) 10,000,생활지원이자(보)1,837,ESG환경도슨트이자(보-이자) 13,997,어울림이자(보-이자) 7,445,어울림이자(수-이자) 8,000,주차장이자(보) 1,787,푸른바다사업단 기타예금이자수입(보조금) 11,401,지역아동 이자 11,304원(보),마을지기이자 3,654원(보조금) 3,654,행정지원이자(보) 5,000,주차장이자(수) 13,000,예금이자수입(수입금) 5,000
A14: 13 | C14: 잡수입 | D14: 잡수입 | E14: 기타잡수입 | F14: 19932906 | G14: 27673870 | H14: 7740964 | I14: 싱싱가게잡수입(수) 500,000,(자부담-기타잡수입) 8,983,010 사회보험환급금,담당자잡수입 1,500,000,방아깨비잡수입 2,500,000,주차장잡수입 5,000,000,기관(자)잡수입 실습비 등 5,000,000,기관운영(수)지킴이 잡수입 4,000,000,요리조리 고용 및 산재 환급금 190,946
C15: 합계 | F15: =SUM(F5:F14) -> 13429672104 | G15: =SUM(G5:G14) -> 16274270000 | H15: =SUM(H5:H14) -> 2844597896

Sheet 세출내역서
A1: 부산영도시니어클럽 2026년 예산 세출내역서
I2: (단위 : 원)
A3: 순번 | B3: 구분 | C3: 관 | D3: 항 | E3: 목 | F3: 예산액 | I3: 산출내역
F4: 전년도(A) | G4: 당해년도(B) | H4: 증감액 (C=B-A)
A5: 1 | B5: 세출 | C5: 사무비 | D5: 인건비 | E5: 급여 | F5: 283517600 | G5: 315387600 | H5: 31870000 | I5: 관장(25/26호봉9월) 5,381,220*8월+5,426,000*4월,과장(14/15호봉2월) 4,169,970*1월+4,263,910*11월,선임복지(14/15호봉9월) 3,432,410*8월+3,509,620*4월,복지사1(9/10호봉9월) 2,794,400*8월+2,878,850*4월,복지사2(7/8호봉2월) 2,595,290*1월+2,697,900*11월,복지사3(6/7호봉6월) 2,501,860*5월+2,595,290*7월,복지사4(6/7호봉12월) 2,595,290,사무원(8/9호봉6월) 2,662,820*5월+2,741,870*7월,복지사5(4호봉) 2,376,500*11월
A6: 2 | B6: 세출 | C6: 사무비 | D6: 인건비 | E6: 제수당 | F6: 53029740 | G6: 70279090 | H6: 17249350 | I6: 명절휴가비 6,484,330+5,060,320+4,165,210+3,403,950+3,175,910+3,058,290+3,242,810+2,851,800,가족수당 170,000*12월*3+310,000*12월+20,000*12월*2명+90,000*12월+40,000*12월,시간외수당 4,028,710+3,288,330+2,687,330+2,544,120+2,414,440+2,560,120+2,251,420,관리자 수당 50,000*12회,선도모델담당자수당 6,000,000,(수)담당자시간외수당 600,000
A7: 3 | B7: 세출 | C7: 사무비 | D7: 인건비 | E7: 퇴직금 및 퇴직적립금 | F7: 28562160 | G7: 31640480 | H7: 3078320 | I7: 퇴직금및퇴직적립 2,632,540*12월,(자)담당자시간외수당 50,000
A8: 4 | B8: 세출 | C8: 사무비 | D8: 인건비 | E8: 사회보험부담금 | F8: 33495380 | G8: 40680880 | H8: 7185500 | I8: 건강보험 13,628,040 장기요양 1,790,680, 국민연금 18,006,480, 고용보험 4,359,430 산재보험 2,896,250
A9: 5 | B9: 세출 | C9: 사무비 | D9: 인건비 | E9: 기타후생경비 | F9: 15920000 | G9: 16200000 | H9: 280000 | I9: 직원복지포인트 150,000*8명,직원인센티브 15,000,000*1회
A10: 6 | B10: 세출 | C10: 사무비 | D10: 업무추진비 | E10: 기관운영비 | F10: 607000 | G10: 1000000 | H10: 393000 | I10: (자)유관기관 업무 100,000*5회,(후)유관기관업무 100,000*5회
A11: 7 | B11: 세출 | C11: 사무비 | D11: 업무추진비 | E11: 회의비 | F11: 126100 | G11: 300000 | H11: 173900 | I11: (자)운영위원회의비 100,000*3회
A12: 8 | B12: 세출 | C12: 사무비 | D12: 운영비 | E12: 여비 | F12: 380920 | G12: 300000 | H12: -80920 | I12: 여비 100,000*3회
A13: 9 | B13: 세출 | C13: 사무비 | D13: 운영비 | E13: 수용비 및 수수료 | F13: 21222136 | G13: 10595050 | H13: -10627086 | I13: 신문구독료 15,000*12월 정수기관리비 72,000*4회 복사기 임대료 352,000*12회 LH상가관리,임대비 70,000*12월 정품소프트웨어 2,200,000*1회 회계 감사.검증비 550,000*1회+(후)500,000*1회 홈페이지 유지보수 1,000,000*1회 전기안전진단비 80,000*1회 기타소모품 구입 2,293,950+(자)416,700*3회+(후)1,351,000+(수)1,400,000 퇴직수수료 (자)250,000*1회+(후)250,000*1회 (자)LH114호임대보증금 100,000*1회
A14: 10 | B14: 세출 | C14: 사무비 | D14: 운영비 | E14: 공공요금 | F14: 2958970 | G14: 2700000 | H14: -258970 | I14: 전화요금 100,000*12월,전기요금 100,000*12월,상하수도요금 50,000*6월
A15: 11 | B15: 세출 | C15: 사무비 | D15: 운영비 | E15: 제세공과금 | F15: 5605710 | G15: 5800000 | H15: 194290 | I15: 부산시니어 협회비 200,000*12월,전국시니어 협회비 170,000*12월,화재, 영업배상보험 350,000*1회,레이차량보험및자동차세 500,000*1회,(자)직원상해보험 10,000*31명,(후)찬조금 100,000*2회
A16: 12 | B16: 세출 | C16: 사무비 | D16: 운영비 | E16: 차량비 | F16: 441280 | G16: 600000 | H16: 158720 | I16: 차량수리비 등 200,000*3회
... A26: 21 | B26: 세출 | C26: 사업비 | D26: 사업단사업비 | E26: 맑은누리사업비 | F26: 269600000 | G26: 269600000 | H26: 0 | I26: 회의비 12,000*80명*2회,활동비 290,000*80명*11개월,유류비 보조 40,000*1회,팀장비 40,000*4명*11회,"청소용품 5,000*40개,쓰레기봉투(50L*5개) 12,000*15개,문구류 25,300*1회,문화활동비 30,000*80명*1회,"상해보험료 16,500*80명*1회,안전조끼 17,000*20명*1회,장갑 1,000*80명*2회,마스크 3,000*80명*1회,혹서기 물품 5,000*80명*1회,혹한기 물품 5,000*80명*1회,명절수당 1,300,200*2회,명절퇴직금 108,350*2회,가족수당 퇴직금 60,000*1회,담당자보험부족분 77,600*1회,경력수당 100,000*3개월,가족수당 60,000*12개월,워크북 5,000*80명*1회,간식비 4,000*80명*2회
A27: 22 | B27: 세출 | C27: 사업비 | D27: 사업단사업비 | E27: 학교환경관리사업비 | F27: 630190000 | G27: 0 | H27: -630190000
A28: 23 | B28: 세출 | C28: 사업비 | D28: 사업단사업비 | E28: 자원순환사업비 | F28: 660520000 | G28: 640300000 | H28: -20220000 | I28: 유류비 보조 40,000*4회,"워크북 5,000*190명*1회,간식비 4,500*190명*2회, 문화활동비 30,000*190명*1회,전화요금 80,000*1회,"상해보험료 16,500*190명*1회,안전조끼 17,000*190명*1회,장갑 1,000*190명*2회,마스크 3,000*190명*1회,혹서기 물품 5,000*190명*1회,혹한기 물품 5,000*190명*1회,팀장비 40,000*10명*11회,활동비 290,000*190명*11개월,교육참가비 150,000*1회,회의비 12,000*190명*2회,"PC/모니터 1,300,000*1개,책상세트 600,000*1개,"명절수당 1,300,200*2회,명절퇴직금 108,350*2회,가족수당 퇴직금 60,000*1회 담당자보험부족분 77,600*1회,경력수당 100,000*3개월,가족수당 60,000*12개월,청소용품 5,000*95개,쓰레기봉투(50L*5개) 12,000*30개,재활용품 수거그물망 20,000*16개,문구류 145,300*1회,출장비 100,000*1회
A29: 24 | B29: 세출 | C29: 사업비 | D29: 사업단사업비 | E29: 횡단보도관리사업비 | F29: 687480000 | G29: 687480000 | H29: 0 | I29: 활동비 290,000*204명*11개월,팀장수당 40,000*8명*11회,워크북 5,000*204명*1회,간식비 4,000*204명*2회,"명절수당 1,300,200*2회,명절퇴직금 108,350*2회,가족수당 퇴직금 60,000*1회,담당자사회보험료부족분 77,600*1회,경력수당 100,000*3개월,가족수당 60,000*12개월,유류비 보조 40,000*4회,"리플렛 제작 500,000*1회,현수막 제작 16,000*4회,"깃발 및 깃대 13,000*102개*1회기장수수료 250,000*1회,문구류 113,300*1회,PC/모니터 1,300,000*1개,책상세트 600,000*1개,교육참가비 150,000*1회,"상해보험료 16,500*204명*1회,안전조끼 17,000*204명*1회,마스크 3,000*204명*1회,모자 10,000*102명*1회,혹서기 물품 5,000*204명*1회,혹한기 물품 5,000*204명*1회,출장비 108,320*1회,출장교통비 155,300*1회,회의비 12,000*204명*2회,문화활동비 32,000*204명*1회,전화요금 80,000*1회
A30: 25 | B30: 세출 | C30: 사업비 | D30: 사업단사업비 | E30: 지역공원클린사업사업비 | F30: 593120000 | G30: 572900000 | H30: -20220000 | I30: 회의비 12,000*170명*2회,팀방비 40,000*12명*11회,활동비 290,000*170명*11개월,문화활동비 33,000*170명*1회,교육참가비 150,000*1회,출장비 100,000*1회,상해보험료 16,500*170명*1회,안전조끼 17,000*170명*1회,장갑 1,000*170명*2회,마스크 3,000*170명*1회,혹서기 물품 5,000*170명*1회,혹한기 물품 5,000*170명*1회,"명절수당 1,300,200*2회,명절퇴직금 108,350*2회,가족수당 퇴직금 60,000*1회,담당자보험부족분 77,600*1회,경력수당 100,000*3개월,가족수당 60,000*12개월,유류비 보조 40,000*1회,"청소용품 5,000*85개 쓰레기봉투(50L*5개) 12,000*20개,문구류 245,300*1회","워크북 5,000*170명*1회,간식비 4,000*170명*2회"
A31: 26 | B31: 세출 | C31: 사업비 | D31: 사업단사업비 | E31: 푸른바다사업비 | F31: 337000000 | G31: 337000000 | H31: 0 | I31: 활동비 290,000*100명*1개월, 상해보험료 16,500*100명*1회,안전조끼 17,000*50명*1회,장갑 1,000*100명*2회, 마스크 3,000*100명*1회,혹서기 물품 5,000*100명*1회,혹한기 물품 5,000*100명*1회, 회의비 12,000*100명*2회, 워크북 5,000*100명*1회,간식비 4,000*100명*1회, 팀장수당 40,000*8명*11회, 청소용품 5,000*50개,쓰레기봉투(50L*5개) 12,000*15개,문구류 75,300*1회, 문화활동비 27,000*100명*1회, 명절수당 1,300,200*2회,명절퇴직금 108,350*2회,가족수당 퇴직금 60,000*1회,담당자사회보험료부족분 77,600*1회,경력수당 100,000*3개월,가족수당 60,000*12개월, 푸른바다사업단 차년도이월금(보조금-기타예금이자) 11,401, 푸른바다사업단 사업반환금(보조금-예금이자) 11.599
A32: 27 | B32: 세출 | C32: 사업비 | D32: 사업단사업비 | E32: 학교교통지킴이사업비 | F32: 778470000 | G32: 0 | H32: -778470000
A33: 28 | B33: 세출 | C33: 사업비 | D33: 사업단사업비 | E33: 교통안전활동사업비 | F33: 576270000 | G33: 572900000 | H33: -3370000 | I33: 활동비 290,000*170명*11개월,전화요금 80,000*1회,팀장수당 40,000*10명*11회,출장비 100,000*1회,교육참가비 150,000*1회,유류비 보조 40,000*1회,상해보험료 16,500*170명*1회,안전조끼 17,000*170명*1회,마스크 3,000*170명*1회,모자 10,000*85명*1회,혹서기 물품 5,000*170명*1회,혹한기 물품 5,000*170명*1회,문화활동비 28,000*170명*1회,명절수당 1,300,200*2회,명절퇴직금 108,350*2회,가족수당 퇴직금 60,000*1회,담당자사회보험료부족분 77,600*1, 경력수당 100,000*3개월,가족수당 60,000*12개월,워크북 5,000*170명*1회,간식비 4,000*170명*2회,리플렛 제작 500,000*1회,현수막 제작 16,000*4회,깃발 및 깃대 13,000*85개*1회,기장수수료 250,000*1회,문구류 131,300*1회,회의비 12,000*170명*2회
A34: 29 | B34: 세출 | C34: 사업비 | D34: 사업단사업비 | E34: 안전생활서비스사업비 | F34: 998752000 | G34: 1642016000 | H34: 643264000 | I34: 급여 634,000×194명×10개월, 혹서기안전물품5,000×194×1,혹한기안전물품5,000×194×1, 연차 31,710×194명×8회, 주휴 126,840×194명×10개월, 참여자 조끼 9,500×194개×1회, 간담회비 13,000×194명×2회, 교육비 5,000×194명×3회, 문화활동비 60,000×194명×1회, 비품구입비(PC 등) 1,800,000×1회, 유류비 40,000×2회, 전화요금 100,000×1회, 건강보험 28,360×194명×10개월, 요양보험 3,670×194명×10개월, 고용보험 3,600×194명×10개월, 산재보험 7,400×194명×10개월, 기본급 장녀금액 200×194×10개월,급여명세서 발송수수료 500,000×2회(반기),기장수수료 50,000×12회,문구류 285,580×1회,청소용품 구입 50,000×2회,노무사 자문료 165,000×4회,현수막 제작비 66,000×1회, 리플렛 제작비 500,000×1회, 명절수당 1,300,200×2회,명절퇴직금 108,350×2회,가족수당퇴직금 60,000×12회,담당자보험부족분 77,600×1회,가족수당 60,000×6개월,경력수당 50,000×3개월, 배상책임보험 4,500×194명×1회, (자부담-기타잡수입) 8,983,010 사회보험환급금, 안전생활전년도이월금(보-이자) 23,037,안전생활전년도이월금(자부담-기타잡수입) 6,513,490 사회보험환급금, 안전생활전년도이월금(보-이자) 30,463
A35: 30 | B35: 세출 | C35: 사업비 | D35: 사업단사업비 | E35: 지역아동센터봉사사업비 | F35: 507840000 | G35: 575552000 | H35: 67712000 | I35: 안전물품 5,000×68명×2회, 보건증 3,000×68명×1회,잠복결핵 50,000×50명×1회,, 인건비 634,000×68명×10개월, 연차 31,710×68명×8회, 주휴 126,840×68명×10개월, 사업평가회 15,000×68명×1회, 교육비 5,000×68명×3회,워크북제작5,000×68명×1회, 문화활동비 30,000×68명×1회, 전화요금 100,000×1회, 건강보험 28,360×68명×10개월, 요양보험 3,670×68명×10개월, 고용보험 3,600×68명×10개월, 산재보험 7,400×68명×10개월, 기본급 잔여금액 200×68명×10개월,문구류구입 9,460×1회, 명절수당 1,300,200×2회,명절퇴직금 108,350×2회,사회보험부족분 77,600×1회,가족수당 60,000×6개월,가족수당퇴직금 60,000×12월/12월, 배상책임보험료 4,500×68명×1회, 지역아동 이자 11,304(보) , 지역아동 전년도이월금 13,696원(보-이자)
A36: 31 | B36: 세출 | C36: 사업비 | D36: 사업단사업비 | E36: 마을지킴이사업비 | F36: 338560000 | G36: 507840000 | H36: 169280000 | I36: 급여 634,000*60명*10개월, 모기기피제 3,000*60명, 활동용품(경광봉) 구입비 12,000*30개 =360,000, 주휴 126,840*60명*10개월, 연차 31,710*60명*8회, 안전조끼 구입비 15,000*70개 , 사업평가회비 15,000*60명*1회, 교육비 5,000*60명*4회 = 1.200,000, 워크북 제작비 5,000*60*1회=300,000, 문화활동비 15,000원*60명*1회 , 건강보험료 28,360*60명*10개월, 요양보험료 3,670*60명*10개월, 고용보험료 5,040*60명*10개월, 산재보험료 7,400*60명*10개월, 급여잔액 200*60명*10개월 = 120,000, 문자수수료 50,000*2분기 = 100,000, 문구류 588,500, 경력수당 50,000*3개월 = 150,000, 가족수당 60,000*6개월 =360,000 , 가족수당퇴직금 60,000*12개월/12월=60,000, 담당자보험부족분 77,600*1회, 명절수당 1,300,200*2회 =2,600,400, 명절퇴직금 108,350*2회 =216,700, 참여자배상책임보험료 4,500*60명*1회, 마을지킴이차년도이월금(보-이자) 13,997, 마을지킴이이자(보-이자) 9,003
A37: 32 | B37: 세출 | C37: 사업비 | D37: 사업단사업비 | E37: 기타시설지원사업비 | F37: 482448000 | G37: 0 | H37: -482448000
A38: 33 | B38: 세출 | C38: 사업비 | D38: 사업단사업비 | E38: 공익증진서비스사업비 | F38: 93104000 | G38: 0 | H38: -93104000
A39: 34 | B39: 세출 | C39: 사업비 | D39: 사업단사업비 | E39: 소방안전사업비 | F39: 67712000 | G39: 84640000 | H39: 16928000 | I39: ='[3]2026년 본예산_소방안전사업단(10명)'!$H$15 -> 안전물품 5,000원*10명*1회, 인건비 634,000원*10명*10개월, 연차수당 31,710원*80회, 주휴수당 126,840원*10명*10개월, 건강보험 28,360원*10명*10개월, 요양보험 3,670원*10명*10개월, 고용보험 3,600원*10명*10개월, 산재보험 7,360원*10명*10개월, 교육비5,000원*10명*4회, 피복비 5,000*10명, 회의 및 간담회비 18,000원*10명*1회, 배상책임보험 4,500원*10명*1회, 문회활동비 40,000원*10명*1회, 전화요금 50,000원*1회, LH114호 임대료 23,480*12개월, LH114호 관리비 약11,374원*12회, 참여자 명찰 10,000원*2명, 문구류 구입비 246,950원*1회, 기본급 잔여금액 200원*10명*10개월, 유류비보조 40,000원*1회, 소방안전차년도이월금(보-이자) 1,597, 소방안전사업반환금(보-이자) 1,403
A40: 35 | B40: 세출 | C40: 사업비 | D40: 사업단사업비 | E40: 장애인시설지원사업비 | F40: 93104000 | G40: 0 | H40: -93104000
A41: 36 | B41: 세출 | C41: 사업비 | D41: 사업단사업비 | E41: 보육교사도우미사업비 | F41: 770224000 | G41: 1083392000 | H41: 313168000 | I41: ='[4]26년 보육교사 본예산(128명)'!$I$16 -> 인건비 634,000원*128명*10개월, 안전물품 5,000원*128명*2회, 연차수당 31,710원*128명*7회, 주휴수당 126,840원*128명*10개월, 회의 및 간담회비25.000원*128명*1회, 워크북제작5,000원*128명, 교육비 5000원*128명*2, 문회활동비 60,000원*128명*1회, 전화요금 80,000원*1회, 26,360원*128명*10개월, 3,670원*128명*10개월, 3,600원*128명*10개월, 7,400원*128명*10개월, 기본급 잔여금액 200원*128명*10개월 잠복결핵검사50,000원*128명 보건증검사3000원*128명 문자수수료 50,000원2분기 기장수수료50,000원*12회, 가족수당 60,000원*6개월 가족수당퇴직금 60,000x12개월/12월 명절수당 1,300,200x2회 명절퇴직금 108,350x2회 담당자보험부족분 77,600x1회 경력수당 50,000x3회 , 참여자배상책임보험료 4,500원*128명*1회, 보육교사이자(보) 20,000원, 보육교사전년도이월금(보-이자) 15,000
A42: 37 | B42: 세출 | C42: 사업비 | D42: 사업단사업비 | E42: 치안지킴이사업비 | F42: 236971140 | G42: 338560000 | H42: 101588860 | I42: ='[5]25년 본예산'!$Y$16 -> 급여 634,000*40명*10개월, 모기기피제 3,000*40명, 연차 31,710*40명*7회, 주휴 126,840*40명*10개월, 안전조끼 구입비 15,000*40개 , 사업평가회비 15,000*40명*1회, 교육비 5,000*40명*4회 = 800,000, 워크북 제작비 5,000*40*1회=200,000, 문화활동비 20,000원*40명*1회 , 건강보험료 28,360*40명*10개월, 요양보험료 3,670*40명*10개월, 고용보험료 5,400*40명*10개월, 산재보험료 7,360*40명*10개월, 급여잔액 200*40명*10개월, 문자수수료 50,000*2분기, 문구류 484,500, 경력수당 50,000*3개월 = 150,000, 가족수당 60,000*6개월 =360,000 , 가족수당퇴직금 60,000*12개월/12월=60,000, 담당자보험부족분 77,600*1회, 명절수당 1,300,200*2회 =2,600,400, 명절퇴직금 108,350*2회 =216,700, 배상책임보험료 4,500원*40명, 치안지킴이 차년도이월금(보-이자) 10,469, 치안지킴이반환금(보-이자) 6,531
A43: 38 | B43: 세출 | C43: 사업비 | D43: 사업단사업비 | E43: 담당자사업비 | F43: 571710000 | G43: 744048000 | H43: 172338000 | I43: 담당자퇴직적립 2,167,000*24명,담당자인건비 2,167,000*24명*12월,담당자고용부담금 2,831,000*24명
A44: 39 | B44: 세출 | C44: 사업비 | D44: 사업단사업비 | E44: 실버보금자리사업비 | F44: 35000000 | G44: 35000000 | H44: 0 | I44: ='[6]2023 예산(초)'!$J$12 -> 인건비 350,000*7명*9개월, 팀장비 30,000*1명*9개월, 회의및간담회비 13,000*7명*3회, 자재비 90,000*6가구*9개월 수리비 500,000*3가구 소모품 구입비 234,000, 재료구입비 200,000*25가구, 유류비 보조 25,000*4회, 참여자사회보험료 20,000*10개월, 교육비 3,000*3회*7명 강사비 240,000*1회, 피복비 30,000*7명, 보금자리차년도이월금(보-이자) 1,212, 보금자리반환금(보조금-기타예금이자) 788
A45: 40 | B45: 세출 | C45: 사업비 | D45: 사업단사업비 | E45: 마을탐방사업비 | F45: 143888000 | G45: 169280000 | H45: 25392000 | I45: ='[7]26년 마을탐방 본예산(20명)'!$I$17 -> 급여 634,000*20명*10개월, 안전물품구입비 10,000*20명, 연차 31,710*20명*5회, 주휴 126,840*20명*10개월, 회의 및 간담회비 20,000*20명*1회, 교육비5,000*20명*2회, 문화행사비 35,000*20명*1회, 주유비 40,000*1회, 전화요금 50,000*1회, 건강보험료 28,360*20명*10개월, 요양보험료 3,670*20명*10개월, 고용보험료 3,600*20명*10개월, 산재보험료7,360*20명*10개월, 기본급 잔여금액 200*20명*10개월 문자발송수수료 50,000*2회 사무용품구입비 58,300*1회, 명절수당 1,300,200*2회 명절퇴직금 108,350*2회 가족수당퇴직금 60,000*12월/12월 담당자보험부족분 77,600*1회 가족수당 60,000*6월 경력수당 50,000*3회, 참여자배상책임보험료 4,500원*20명*1회, 마을탐방이자(보) 6,698, 마을탐방전년도이월금(보-이자) 3,302
A46: 41 | B46: 세출 | C46: 사업비 | D46: 사업단사업비 | E46: 마을지기사업비 | F46: 169280000 | G46: 169280000 | H46: 0 | I46: ='[8]26년 마을지기 본예산(20명)'!$I$14 -> 안전물품 5,000×20명×2회, 인건비 634,000×20명×10개월, 연차 31,710×20명×7회, 주휴 126,840×20명×10개월, 사업평가회 15,000×20명×1회, 교육비 5,000×20명×3회 , 문화활동비 30,000×20명×1회, 전화요금 50,000×1회, 건강보험 28,360×20명×10개월, 요양보험 3,670×20명×10개월, 고용보험 3,600×20명×10개월, 산재보험 7,400×20명×10개월, 기본급 잔여금액 200×20명×10개월 문구류구입 230,450×1회, 홍보비 200,000×1회, 명절수당 1,300,200×1회 명절퇴직금 108,350×1회 사회보험부족분 77,600×1회 가족수당 60,000×6개월 경력수당 50,000×3회 가족수당퇴직금 60,000×12월/12월, 배상책임보험료 4,500×20명×1회, 마을지기이자 3,654원(보조금) 3,654, 마을지기전년도이월금 4,346원(보-이자) 4,346
A47: 42 | B47: 세출 | C47: 사업비 | D47: 사업단사업비 | E47: 우체국지원사업비 | F47: 135424000 | G47: 0 | H47: -135424000
A48: 43 | B48: 세출 | C48: 사업비 | D48: 사업단사업비 | E48: 위기가구관리사업비 | F48: 93104000 | G48: 0 | H48: -93104000
A49: 44 | B49: 세출 | C49: 사업비 | D49: 사업단사업비 | E49: 마을건강파트너사업비 | F49: 67712000 | G49: 0 | H49: -67712000
A50: 41 | B50: 세출 | C50: 사업비 | D50: 사업단사업비 | E50: ESG사업비 | F50: 296240000 | G50: 0 | H50: -296240000
A51: 42 | B51: 세출 | C51: 사업비 | D51: 사업단사업비 | E51: 폐의약품사업비 | F51: 0 | G51: 168500000 | H51: 168500000 | I51: ='[9]2026 본예산'!$K$18 -> 활동비 290,000*50명*11개월, 상해보험료 16,500*50명*1회 안전조끼 17,000*50명*1회 장갑 1,000*50명*2회 마스크 3,000*50명*1회 혹서기 물품 5,000*50명*1회 혹한기 물품 5,000*50명*1회, 팀장수당 40,000*6명*11회, 워크북 5,000*50명*1회 간식비 4,500*50명*2회, 회의비 12,000*50명*1회, 청소용품 5,000*25개 쓰레기봉투(50L*5개) 12,000*10개 문구류 250,000*1회 폐의약품수거박스제작 30,000*5개 기장수수료 250,000*1회, 문화활동비 30,000*50명*1회, 전화요금 80,000*1회, 유류비보조 40,000*4회, 폐의약품수거차년도이월금(보-이자) 10,000, 폐의약품수거반환금(보-이자)
A52: 43 | B52: 세출 | C52: 사업비 | D52: 사업단사업비 | E52: 환경지킴이사업비 | F52: 0 | G52: 303300000 | H52: 303300000 | I52: ='[10]2026 본예산'!$K$18 -> 활동비 290,000*90명*11개월, 상해보험료 16,500*90명*1회 안전조끼 17,000*30명*1회 장갑 1,000*90명*2회 마스크 3,000*90명*1회 혹서기 물품 5,000*90명*1회 혹한기 물품 5,000*90명*1회, 팀장수당 40,000*9명*11회, 워크북 5,000*90명*1회 간식비 4,500*90명*1회, 회의비 12,000*90명*1회, 청소용품 5,000*90개 쓰레기봉투(50L*5개) 12,000*20개 문구류 45,300*1회, 문화활동비 25,000*90명*1회, 명절수당 1,300,200*2회 명절퇴직금 108,350*2회 가족수당 퇴직금 60,000*1회 담당자보험부족분 77,600*1회 경력수당 100,000*3개월 가족수당 60,000*12개월, 동네환경클린차년도이월금(보-이자) 10,000, 동네환경클린반환금(보-이자)
A53: 44 | B53: 세출 | C53: 사업비 | D53: 사업단사업비 | E53: 생활지원사업비 | F53: 0 | G53: 110032000 | H53: 110032000 | I53: ='[11]26년 본예산'!$I$16 -> 급여 634,000*13명*10개월, 연차 31,710*13명*8회, 주휴 126,840*13명*10개월, 사업평가회 15,000*13명*1회, 교육비5,000*13명*5회 워크북제작비 5,000*13명*1회, 문화활동비 30,000*13명*1회, 건강보험료 28,360*13명*10회, 요양보험료 3,670*13명*10회, 고용보험료 3,600*13명*10회, 산재보험료 7,400*13명*10회, 기본급 잔여금액 200×13명×10개월 문구류 구입비 415,610×1회, 명절퇴직금 108,350×1회 담당자보험부족분 77,600×1회 가족수당 60,000×6개월 경력수당 50,000×3회 가족수당퇴직금 60,000×12월/12월, 배상책임보험료 4,500*13명*1회, 생활지원이자(보) 1,837, 생활지원전년도이월금(보-이자) 2,163
A54: 45 | B54: 세출 | C54: 사업비 | D54: 사업단사업비 | E54: 행정지원사업비 | F54: 0 | G54: 414736000 | H54: 414736000 | I54: ='[12]26년 마을탐방 본예산(20명)'!$J$19 -> 인건비 634,000원*49명*10개월, 안전물품 5,000원*49명*2회, 연차수당 31,710원*49명*7회, 주휴수당 126,840원*49명*10개월, 피복비 10,000*49명, 회의 및 간담회비 18,000원*49명*1회, 워크북제작 5,000원*49명*1회 교육비 5,000원*49명*6회, 문회활동비 40,000원*49명*1회, 유류비보조 40,000원*5회, 전화요금 50,000원*1회, 건강보험료 28,360*49명*10개월, 요양보험 3,670*49명*10개월, 고용보험 3,600*49명*10개월, 산재보험 7,360*49명*10개월, 기본급 잔여금액 200*49명*10개월 사무용품구입비 412,570원*1회, 가족수당 60,000×6개월 가족수당퇴직금 60,000×12월/12월 명절수당 1,300,200원×2회 명절퇴직금 108,350×2회 담당자보험부족분 77,600원×1회 경력수당 50,000×3회, 참여자배상책임보험료 4,500원*49명*1회, 행정지원이자(보) 5,000원, 행정지원전년도이월금(보-이자) 0
A55: 46 | B55: 세출 | C55: 사업비 | D55: 사업단사업비 | E55: 안전관리사업비 | F55: 0 | G55: 118496000 | H55: 118496000 | I55: ='[13]26년 마을탐방 본예산(20명)'!$I$17 -> 인건비 634,000원*14명*10개월, 안전물품 5,000원*14명*2회, 연차수당 31,710원*14명*9회, 주휴수당 126,840원*14명*10개월, 피복비 10,000*14명, 회의 및 간담회비 18,000원*14명*1회, 교육비5,000*14명*6회 / 워크북제작비 5,000*14명*1회, 문회활동비 50,000원*14명*1회, 유류비보조 40,000원*1회, 전화요금 50,000원*1회, 건강보험료 28,360*14명*10회, 요양보험료 3,670*14명*10회, 고용보험료 3,600*14명*10회, 산재보험료 7,400*14명*10회, 기본급 잔여금액 200*14명*10개월 사무용품구입비 16,340*1회, 참여자배상책임보험료 4,500원*24명*1회, 안전관리이자(보) 2,000원, 안전관리전년도이월금(보-이자) 0
A56: 47 | B56: 세출 | C56: 사업비 | D56: 사업단사업비 | E56: 돌봄지원사업비 | F56: 0 | G56: 152352000 | H56: 152352000 | I56: ='[14]26년 마을탐방 본예산(20명)'!$I$17 -> 인건비 634,000원*18명*10개월, 안전물품 5,000원*18명*2회, 연차수당 31,710원*18명*6회, 주휴수당 126,840원*18명*10개월, ,, 회의 및 간담회비 15,000원*18명*1회, 워크북제작 5,000원*18명*1회 교육비 5,000원*18명*6회, 문회활동비 40,000원*18명*1회, 유류비보조 40,000원*5회, 전화요금 50,000원*1회, 건강보험료 28,360*18명*10개월, 요양보험 3,670*18명*10개월, 고용보험 3,600*18명*10개월, 산재보험 7,400*18명*10개월, 기본급 잔여금액 200*18명*10개월 사무용품구입비 147,570원*1회, 가족수당 60,000×6개월 가족수당퇴직금 60,000×12월/12월 명절수당 1,300,200원×1회 명절퇴직금 108,350×1회 담당자보험부족분 77,600원×1회 경력수당 50,000×3회, 참여자배상책임보험료 4,500원*18명*1회, 돌봄지원이자(보) 2,000원, 돌봄지원전년도이월금(보-이자) 0
A57: 48 | B57: 세출 | C57: 사업비 | D57: 사업단사업비 | E57: ESG환경도슨튼사업비 | F57: 0 | G57: 507840000 | H57: 507840000 | I57: ='[15]2025년 본예산'!$V$15 -> 급여 634,000*60명*10개월, 혹한기 안전물품 5,000*60명*1회, 혹서기 안전물품 5,000*60명*1회, 주휴수당 126,840*60명*10개월, 연차수당 31,710*60명*7회, 팀장수당 40,000*4명*10개월, 안전조끼 구입비 13,000*60개*1회, 사업평가회비 13,000*60명*1회, 교육비 5,000*60명*3회, 문화활동비 30,000원*60명*1회 , 전화요금 90,000*1회, 건강보험료 28,360*60명*10개월, 요양보험료 3,670*60명*10개월, 고용보험료 3,600*60명*10개월, 산재보험료 7,400*60명*10개월, 기본금 급여잔액 200*60명*10개월, 배상책임보험 4,500*60명*1회, 기장수수료 50,000*12회, 문자수수료 50,000*2분기, 재료비 717,500*1회, 홍보비 300,000*1회, 가족수당 60,000*6개월, 가족수당퇴직금 60,000*12개월/12월, 명절수당 1,300,200*2회, 명절퇴직금 108,350*2회, 담당자보험부족분 77,600*2회, 경력수당 50,000*3회, ESG환경도슨트차년도이월금(보-이자) 13,997, ESG환경도슨트이자(보-이자) 9,003
A58: 49 | B58: 세출 | C58: 사업비 | D58: 사업단사업비 | E58: 스쿨존도우미사업비 | F58: 0 | G58: 700960000 | H58: 700960000 | I58: ='[16]2026 본예산'!$I$17 -> 참여자활동비 290,000원*208명*11회, 팀장수당 40,000*20명*11회, 상해보험 16,500*208명*1회 안전조끼 17,000*208명*1회 마스크 3,000*208명*1회 모자 10,000*208명*1회 장갑 5,000*104*2회 혹서기물품 5,000*208명*1회 혹한기물품 5,000*208명*1회, 식사비 12,000*208*1회, 워크북 5,000*208명*1회 간식비 4,500*208명*1회, 깃발 3,000*52 깃대 10,000*52 문구류 195,300*1회, 문화활동비 30,000*208명*1회, 출장비 100,000*1회, 유류비보조 40,000*1회, 교육참가비 150,000*1회, 명절수당 1,300,200*2회 명절퇴직금 108,350*2회 가족수당퇴직금 60,000*1회 담당자보험부족분 77,600*1회 경력수당 100,000*3개월 가족수당 60,000*12개월, 스쿨존도우미차년도이월금(보-이자) 14,791, 스쿨존도우미반환금(보-이자) 15,209
A59: 50 | B59: 세출 | C59: 사업비 | D59: 사업단사업비 | E59: 스쿨존지킴이사업비 | F59: 0 | G59: 687480000 | H59: 687480000 | I59: ='[17]2026 본예산'!$I$18 -> 팀장수당 40,000*18명*11회, 상해보험 16,500*204명*1회 안전조끼 17,000*204명*1회 마스크 3,000*204명*1회 모자 10,000*204명*1회 장갑 5,000*102*2회 혹서기물품 5,000*204명*1회 혹한기물품 5,000*204명*1회, 식사비 12,000*204*1회, 워크북 5,000*204명*1회 간식비 4,500*204.명*1회, 깃발 3,000*51 깃대 10,000*51 문구류 82300*1 기장수수료 250,000*1회, 문화활동비 32,000*204명*1회, 출장비 100,000*1회, 유류비보조 40,000*1회, 교육참가비 150,000*1회, 전화요금 80000*1회, 명절수당 1,300,200*2회 명절퇴직금 108,350*2회 가족수당퇴직금 60,000*1회 담당자보험부족분 77,600*1회 경력수당 100,000*3개월 가족수당 60,000*12개월, 스쿨존지킴이차년도이월금(보-이자) 17,408, 스쿨존지킴이반환금(보-이자) 12,592
B60: 세출 | C60: 사업비 | D60: 사업단사업비 | E60: 복지시설사업비 | F60: 0 | G60: 643264000 | H60: 643264000 | I60: 요양보험료 3,670*76명*10회,배상책임보험료 4,500*76명*1회,고용보험료 3,600*76명*10회,혹한기안전물품 5,000*76명,혹서기안전물품 5,000*76명,주휴 126,840*76명*10개월,사업평가회 20,000*76명*1회,전화요금 100,000*1회,급여 634,000*76명*10개월,교육비5,000*76명*5회 / 워크북제작비 5,000*76명*1회,문화활동비 40,000*76명*1회,기본급 잔여금액 200×76명×10개월,보건증 발급비 3,000×76명×1회 문구류 구입비 296,420×1회,기장수수료 50,000×12회,문자수수료 50,000×2회,유류비 40,000*4회,산재보험료 7,400*76명*10회,연차 31,710*76명*8회,건강보험료 28,360*76명*10회,명절수당 1,300,200×2회,명절퇴직금 108,350×2회,담당자보험부족분 77,600×1회,가족수당 60,000×6개월,경력수당 50,000×3회,가족수당퇴직금 60,000×12월/12월
B61: 세출 | C61: 사업비 | D61: 사업단지원사업비 | E61: 시장형지원사업비 | F61: 16964230 | G61: 0 | H61: -16964230
B62: 세출 | C62: 사업비 | D62: 사업단지원사업비 | E62: 기타사업지원사업비 | F62: 12028560 | G62: 11000000 | H62: -1028560 | I62: 선도모델지원사업비 11,000,000
B63: 세출 | C63: 사업비 | D63: 일반사업비 | E63: 홍보사업비 | F63: 955507 | G63: 0 | H63: -955507
B64: 세출 | C64: 사업비 | D64: 고유사업비 | E64: 고유사업비 | F64: 0 | G64: 362253200 | H64: 362253200 | I64: 참여자 인건비1,439,296원*19명*12개월 피복비 30,000*19명*1회 현수막구입비 400,000원*2회 회의비 15,000*19명*2회 참여자 사회보험료 49,918원*19명*12개월 "기장수수료 50,000원*12개월 명절선물구입비 30,000*16명*2회 문자발송이용료 20,000*2회 계약보증보험료 50,000*1회 소모품 구입(생수, 핫팩 등) 200,000원*6회 안전용품 구입(기피제, 핫팩,안전화 등) 200,000*3회 기타소모품비 13,922,329" 기관차량 유류비보조 40,000원*5회 업무협의 식대비 100,000*2회
B65: 세출 | C65: 예비비 및 기타 | D65: 예비비 및 기타 | E65: 예비비 | F65: 129823277 | G65: 31481672 | H65: -98341605 | I65: 치안지킴이 차년도이월금(보-이자) 10,469,마을탐방이자(보) 6,698,행정지원이자(보) 5,000원,지킴이사업단 차년도이월금 3,360,000,공공시설봉사차년도이월금(보-이자)18,949,맑은누리차년도이월금(보-이자) 8,769,푸른바다사업단 차년도이월금(보조금-기타예금이자) 11,401,마을지킴이차년도이월금(보-이자) 13,997,소방안전차년도이월금(보-이자) 1,597,보육교사이자(보) 20,000원,생활지원이자(보) 1,837,카페차년도이월금(보-이자) 4,585,카페예비비(수) 2,400,000,지역공원클린차년도이월금(보-이자) 15,704,폐의약품수거차년도이월금(보-이자) 10,000,돌봄지원이자(보) 2,000원,스쿨존도우미차년도이월금(보-이자) 14,791,스쿨존지킴이차년도이월금(보-이자) 17,408,기관(보)차년도이월금(보-이자) 16,000,기관(보)차년도이월금(잡수입) 500,000,국민(후)차년도이월금 1,500,000,방아깨비차년도이월금(보-이자) 1,029,방아깨비차년도이월금(수) 2,300,400,방아깨비차년도이월금(수-이자) 5,293,금비차년도이월금(보-이자) 5,654,금비예비비(수) 1,132,800,기관(인센)차년도이월 1,000,횡단보도관리차년도이월금(보-이자) 18,348,마을지기이자 3,654원(보조금) 3,654,동네환경클린차년도이월금(보-이자) 10,000,안전관리이자(보) 2,000원,어울림차년도이월금(보-이자) 7,445,어울림차년도이월금(보),어울림차년도이월금(수) 900,000,자원순환차년도이월금(보-이자) 19,160,안전생활전년도이월금(보-이자) 30,463,(자부담-기타잡수입) 8,983,010 사회보험환급금,기관(자)차년도이월금 1,200,000,주차장차년도이월금(보-이자) 1,787,주차장예비비(수) 2,400,000,요리조리차년도이월금(보-이자) 4,606,요리조리차년도이월금(참여자보험금환급금) 190,946,요리조리예비비(수) 2,757,000,싱싱가게차년도이월금(보-이자) 1,510,싱싱가게예비비(수) 2,003,400,담당자차년도이월금(이자) 15,107,담당자차년도이월금(잡) 1,500,000,ESG환경도슨트차년도이월금(보-이자) 13,997
B66: 세출 | C66: 예비비 및 기타 | D66: 예비비 및 기타 | E66: 반환금 | F66: 94400743 | G66: 126841646 | H66: 32440903 | I66: 요리조리반환금(보조금-기타예금이자) 6,498,요리조리반환금(자부담) 190,950,지역공원클린반환금(보-이자) 14,296,보육교사전년도이월금(보-이자) 15,000,금비반환금(보-이자) 4,346,스쿨존지킴이반환금(보-이자) 12,592 카페반환금(보-이자) 4,415,푸른바다사업단 사업반환금(보조금-예금이자) 11.599,보행정보반환금 2,361,주차장반환금(보-이자) 1,913,지역아동 전년도이월금 13,696원(보-이자),마을지기전년도이월금 4,346원(보-이자) 4,346, 기관(보)이자 15,065, 복지포인트 20,000, 시간외 1,142,870,기관(인센)반환금 97,어울림반환금(보-이자) 15,648,어울림반환금(보) 113,390,90,싱싱가게비반환금(보-이자) 990,공공시설봉사반환금(보-이자) 16,051,자원순환반환금(보-이자) 15,840,횡단보도관리반환금(보-이자) 16,652,안전생활전년도이월금(보-이자) 23,037,안전생활전년도이월금(자부담-기타잡수입) 6,513,490, 담당자반환금(보) 4,112,756,담당자반환금(보-이자) 13,703,담당자반환금(잡수입) 1,178,434,서포터즈반환금 3,782,스쿨존도우미반환금(보-이자) 15,209 소방안전사업반환금(보-이자) 1,403,보금자리반환금(이자) 788,방아깨비반환금(보-이자) 971,맑은누리반환금(보-이자) 6,231,마을지킴이이자(보-이자) 9,003,치안지킴이반환금(보-이자) 6,531,마을탐방전년도이월금(보-이자) 3,302 ,옛이야기반환금 13,ESG환경도슨트이자(보-이자) 9,003
B67: 세출 | C67: (전년도2025)사업비 | D67: 고유사업비 | E67: 고유사업비 | F67: 300235070 | G67: 0 | H67: -300235070
A68: 51 | C68: 합계 | F68: =SUM(F5:F67) -> 13429672104 | G68: =SUM(G5:G67) -> 16274270000 | H68: =G68-F68 -> 2844597896

Sheet 임직원보수일람표
A1: 부산영도시니어클럽 2026년 임․직원보수일람표
J2: ( 단위 : 원)
A3: 순위 | B3: 직종 또는 직위(급) | C3: 성명 | D3: 본봉 | E3: 수당 | H3: 계 | I3: 공제액 | J3: 차감지급액
E4: 명절휴가비 | F4: 가족수당 | G4: 시간외
A5: 1 | B5: 관장 | C5: 김정현 | D5: 64753760 | E5: 6484330 | F5: 2040000 | G5: 600000 | H5: =SUM(D5:G5) -> 73878090 | I5: 7928110 | J5: =SUM(H5-I5) -> 65949980
A6: 2 | B6: 과장 | C6: 예귀정 | D6: 51072980 | E6: 5060320 | F6: 3720000 | G6: 4028710 | H6: =SUM(D6:G6) -> 63882010 | I6: 6855400 | J6: =SUM(H6-I6) -> 57026610
A7: 3 | B7: 선임사회복지사 | C7: 엄경준 | D7: 41497760 | E7: 4165210 | F7: 2040000 | G7: 3288330 | H7: =SUM(D7:G7) -> 50991300 | I7: 5472050 | J7: =SUM(H7-I7) -> 45519250
A8: 4 | B8: 사회복지사 | C8: 이준희 | D8: 33870600 | E8: 3403950 | F8: 240000 | G8: 2687330 | H8: =SUM(D8:G8) -> 40201880 | I8: 4314200 | J8: =SUM(H8-I8) -> 35887680
A9: 5 | B9: 사회복지사 | C9: 김선교 | D9: 32272190 | E9: 3175910 | F9: 2040000 | G9: 2544120 | H9: =SUM(D9:G9) -> 40032220 | I9: 4296000 | J9: =SUM(H9-I9) -> 35736220
A10: 6 | B10: 사회복지사 | C10: 이미네 | D10: 30676330 | E10: 3058290 | F10: 240000 | G10: 2414440 | H10: =SUM(D10:G10) -> 36389060 | I10: 3905040 | J10: =SUM(H10-I10) -> 32484020
A11: 7 | B11: 사회복지사 | C11: 권수정 | D11: 2595290 | E11: 0 | F11: 0 | G11: 0 | H11: =SUM(D11:G11) -> 2595290 | I11: 278490 | J11: =SUM(H11-I11) -> 2316800
A12: 8 | B12: 사회복지사 | C12: 신규 | D12: 26141500 | E12: 2851800 | F12: 480000 | G12: 2251420 | H12: =SUM(D12:G12) -> 31724720 | I12: 3404490 | J12: =SUM(H12-I12) -> 28320230
A13: 9 | B13: 사무원 | C13: 권수란 | D13: 32507190 | E13: 3242810 | F13: 1080000 | G13: 2560120 | H13: =SUM(D13:G13) -> 39390120 | I13: 4227100 | J13: =SUM(H13-I13) -> 35163020
