Workbook

Sheet 예산총칙
A3: 예 산 총 칙
B5: 제1조 사회복지법인 혜원 부산영도시니어클럽의 2025년도 3차 추경 예산안 세입 · 세출 예산
B6: =D17 -> 13429672104 | C6: =D17 -> 13429672104
B8: 제2조 1. 세입세출의 명세는 세입 · 세출 예산서와 같다.
B9: 2. 세입의 주요재원은 다음과 같다.
C11: 사업수입 | D11: =SUM(총괄표!F7:F8) -> 1591186900
C12: 보조금수입 | D12: =SUM(총괄표!F9:F11) -> 11486625220
C13: 후원금 | D13: =SUM(총괄표!F12:F13) -> 6000000
C14: 법인전입금 | D14: =SUM(총괄표!F14:F15) -> 4000000
C15: 이월금 | D15: =SUM(총괄표!F16:F17) -> 321593071
C16: 잡수입 | D16: =SUM(총괄표!F18:F20) -> 20266913
C17: 계 | D17: =SUM(D11:E16) -> 13429672104
B19: 3. 세출의 내용은 다음과 같다.
C21: =[1]총괄표!G6 -> 사무비 | D21: =SUM(총괄표!L7:L20) -> 450493056
C22: =[1]총괄표!G27 -> 재산조성비 | D22: =SUM(총괄표!L20) -> 0
C23: =[1]총괄표!G31 -> 사업비 | D23: =SUM(총괄표!L21:L58) -> 12754955028
C24: 잡지출 | D24: 0
C25: 예비비 및 기타 | D25: =SUM(총괄표!L59:L60) -> 224224020
C26: 계 | D26: =SUM(D21:E25) -> 13429672104
B28: 제3조 예산비용이 긴박한 경우 시설의 장이 우선 집행하고 이사회의 결의를 얻도록 한다.
B29: 제4조 예비비는 예산의 1% 이내로 한다.

Sheet 예산변경사유서
A2: 부산영도시니어클럽
A3: 2025년 3차 추가경정 사유서
A5: 부산영도시니어클럽에서는 2025년도 3차 추경을 통해 예산을 13,394,881,000원에서 34,791,104원 증가한 13,429,672,104원으로 변경하고자 하며 항목별 변경사유는 아래와 같다.
A6: -아 래-
A7: 1. 총 평
A8: 2025년 부산영도시니어클럽 3차 추경은 세입의 경우 예산의 재편성으로 수입 증가, 세출의 경우 사무실 확장 및 직원 휴게공간의 확보를 위한 수용비 및 수수료의 증가하였고 사업비에서 공동체 사업비 지출 증가 및 예산 규모 조정에 따라 사업비 대폭 증가로 예산 변경에 대한 사유가 발생하였다.
A9: 2. 항목별 변경사유
A10: 세 입 | C10: 세 출
A11: 예산항목 | B11: 변경사유 | C11: 예산항목 | D11: 변경사유
A12: 사업단수입 | B12: 1,550,486,411원에서 1,591,186,900원으로 40,700,489원 증가 ○ 공동체사업단의 사업수입은 전반적으로 감소한 반면 기존 사업수입 세목에 포함 되었던 고유사업인 지킴이사업단의 사업수입을 별개의 목으로 예산을 재편성하였으며 하반기 혁신센터의 신규 참여자 선발 등 사업을 확대 추진한 바, 최종적으로 40,700,489원 증가함 | C12: 사무비 | D12: 447,892,760원에서 450,493,056원으로 2,600,296원 증가 ○ 직원의 출산휴가 및 육아휴직으로 인건비 일부 감소, 노인일자리 지침 변경으로 인해 사무실 확장 및 휴게공간을 확보하기 위한 공사로 수용비 및 수수료의 증가 반영
A13: 보조금수입 | B13: 11,488,085,000원에서 11,486,625,220원으로 1,459,780원 감소 ○ 시간외수당, 복지포인트 일부 추가 보조금 수입 반영 및 선도모델사업비 보조금 수입 감소 | C13: 재산조성비 | D13: 1,000,000원에서 0원으로 감소 반영
A14: 후원금 | B14: 변동없음 | C14: 사업비 | D14: 12,623,551,208원에서 12,754,955,028원으로 131,403,820원으로 증가 ○ 공동체사업단의 사업비 지출 증가 및 예비비 1% 이내 편성에 따라 사업비로 편입 반영
A15: 전입금 | B15: 변동없음 | C15: 잡지출 | D15: 해당없음
A16: =[2]총괄표!A32 -> 이월금 | B16: 321,593,084원에서 321,593,071원으로 13원 감소 | C16: 예비비 및 기타 | D16: 322,437,032원에서 224,224,020원으로 98,213,012원 감소 ○ 예산규모 조정 및 예비비 1% 이내 편성 지침에 따라 감소
A17: =[2]총괄표!A35 -> 잡수입 | B17: 24,716,505원에서 20,266,913원으로 4,449,592원 감소 ○ 1년미만 퇴사자 퇴직적립금 환급, 사업단사회보험 기관부담금 환급, 부가세 환급 등 환급금액의 일부 확정된 금액 반영으로 감소

Sheet 총괄표
A1: 부산영도시니어클럽 2025년 3차 추가경정예산서
L2: (단위 : 원)
A4: 순번 | B4: 세입 | H4: 세출
B5: 관 | C5: 항 | D5: 목 | E5: 예산액 | H5: 관 | I5: 항 | J5: 목 | K5: 예산액
E6: 당초 | F6: 추경 | G6: 증감액 | K6: 당초 | L6: 추경 | M6: 증감액
A7: 1 | B7: 사업수입 | C7: 사업수입 | D7: 노인일자리사업수입 | E7: 1550486411 | F7: 1284733000 | G7: =F7-E7 -> -265753411 | H7: 사무비 | I7: 인건비 | J7: 급여 | K7: 285909200 | L7: 283517600 | M7: =L7-K7 -> -2391600
A8: 2 | D8: 고유사업수입 | E8: 0 | F8: 306453900 | G8: =F8-E8 -> 306453900 | J8: 제수당 | K8: 51484610 | L8: 53029740 | M8: =L8-K8 -> 1545130
A9: 3 | B9: 보조금수입 | C9: 보조금수입 | D9: 국고보조금 | E9: 5525527000 | F9: 5523067220 | G9: =F9-E9 -> -2459780 | J9: 퇴직금 및 퇴직적립금 | K9: 29072650 | L9: 28562160 | M9: =L9-K9 -> -510490
A10: 4 | D10: 시도보조금 | E10: 3117130500 | F10: 3118130750 | G10: =F10-E10 -> 1000250 | J10: 사회보험부담금 | K10: 33365590 | L10: 33495380 | M10: =L10-K10 -> 129790
A11: 5 | D11: 시군구보조금 | E11: 2845427500 | F11: 2845427250 | G11: =F11-E11 -> -250 | J11: 기타후생경비 | K11: 15840000 | L11: 15920000 | M11: =L11-K11 -> 80000
A12: 6 | B12: 후원금수입 | C12: 후원금수입 | D12: 지정후원금 | E12: 0 | F12: 0 | G12: =F12-E12 -> 0 | H12: 사무비 | I12: 업무추진비 | J12: 기관운영비 | K12: 770000 | L12: 607000 | M12: =L12-K12 -> -163000
A13: 7 | D13: 비지정후원금 | E13: 6000000 | F13: 6000000 | G13: =F13-E13 -> 0 | J13: 회의비 | K13: 300000 | L13: 126100 | M13: =L13-K13 -> -173900
A14: 8 | B14: 전입금 | C14: 전입금 | D14: 법인전입금 | E14: 4000000 | F14: 4000000 | G14: =F14-E14 -> 0 | H14: 사무비 | I14: 운영비 | J14: 여비 | K14: 1000000 | L14: 380920 | M14: =L14-K14 -> -619080
A15: 9 | D15: 법인전입금(후원금) | E15: 0 | F15: 0 | G15: =F15-E15 -> 0 | J15: 수용비 및 수수료 | K15: 15191000 | L15: 21222136 | M15: =L15-K15 -> 6031136
A16: 10 | B16: 이월금 | C16: 이월금 | D16: 전년도이월금 | E16: 321593084 | F16: 321593071 | G16: =F16-E16 -> -13 | J16: 공공요금 | K16: 3480000 | L16: 2958970 | M16: =L16-K16 -> -521030
A17: 11 | D17: 전년도이월금(후원금) | E17: 0 | F17: 0 | G17: =F17-E17 -> 0 | J17: 제세공과금 | K17: 5615710 | L17: 5605710 | M17: =L17-K17 -> -10000
A18: 12 | B18: 잡수입 | C18: 잡수입 | D18: 불용매각대 | E18: 0 | F18: 0 | G18: =F18-E18 -> 0 | J18: 차량비 | K18: 1000000 | L18: 441280 | M18: =L18-K18 -> -558720
A19: 13 | D19: 기타예금이자수입 | E19: 385752 | F19: 334007 | G19: =F19-E19 -> -51745 | J19: 기타운영비 | K19: 4864000 | L19: 4626060 | M19: =L19-K19 -> -237940
A20: 14 | D20: 기타잡수입 | E20: 24330753 | F20: 19932906 | G20: =F20-E20 -> -4397847 | H20: 재산조성비 | I20: 시설비 | J20: 시설장비유지비 | K20: 1000000 | L20: 0 | M20: =L20-K20 -> -1000000
A21: 15 | E21: 0 | F21: 0 | G21: 0 | H21: 사업비 | I21: 사업단사업비 | J21: 방아깨비사업비 | K21: 266158422 | L21: 291115138 | M21: =L21-K21 -> 24956716
A22: 16 | E22: 0 | F22: 0 | G22: 0 | J22: 어울림사업비 | K22: 473884000 | L22: 497216000 | M22: =L22-K22 -> 23332000
A23: 17 | E23: 0 | F23: 0 | G23: 0 | J23: 주차장관리사업비 | K23: 307093712 | L23: 309928500 | M23: =L23-K23 -> 2834788
A24: 18 | E24: 0 | F24: 0 | G24: 0 | J24: 요리조리사업비 | K24: 450415127 | L24: 503297453 | M24: =L24-K24 -> 52882326
A25: 19 | E25: 0 | F25: 0 | G25: 0 | J25: 싱싱가게사업비 | K25: 190063000 | L25: 196467570 | M25: =L25-K25 -> 6404570
A26: 20 | E26: 0 | F26: 0 | G26: 0 | J26: 0℃카페사업비 | K26: 284738000 | L26: 305889860 | M26: =L26-K26 -> 21151860
A27: 21 | E27: 0 | F27: 0 | G27: 0 | J27: 금비사업비 | K27: 212788857 | L27: 211964000 | M27: =L27-K27 -> -824857
A28: 22 | E28: 0 | F28: 0 | G28: 0 | J28: 공공시설봉사사업비 | K28: 475170000 | L28: 475170000 | M28: =L28-K28 -> 0
A29: 23 | E29: 0 | F29: 0 | G29: 0 | J29: 맑은누리사업비 | K29: 269600000 | L29: 269600000 | M29: =L29-K29 -> 0
A30: 24 | E30: 0 | F30: 0 | G30: 0 | J30: 학교환경관리사업비 | K30: 630190000 | L30: 630190000 | M30: =L30-K30 -> 0
A31: 25 | E31: 0 | F31: 0 | G31: 0 | J31: 자원순환사업비 | K31: 660520000 | L31: 660520000 | M31: =L31-K31 -> 0
A32: 26 | E32: 0 | F32: 0 | G32: 0 | J32: 횡단보도관리사업비 | K32: 687480000 | L32: 687480000 | M32: =L32-K32 -> 0
A33: 27 | E33: 0 | F33: 0 | G33: 0 | J33: 지역공원클린사업사업비 | K33: 593120000 | L33: 593120000 | M33: =L33-K33 -> 0
... A48: 42 | E48: 0 | F48: 0 | G48: 0 | J48: 지킴이사업비 | K48: 295975150 | L48: 0 | M48: =L48-K48 -> -295975150
A49: 43 | J49: 마을탐방사업비 | K49: 143888000 | L49: 143888000 | M49: =L49-K49 -> 0
A50: 44 | J50: 마을지기사업비 | K50: 169280000 | L50: 169280000 | M50: =L50-K50 -> 0
A51: 45 | J51: 우체국지원사업비 | K51: 135424000 | L51: 135424000 | M51: =L51-K51 -> 0
A52: 46 | J52: 위기가구관리사업비 | K52: 93104000 | L52: 93104000 | M52: =L52-K52 -> 0
A53: 47 | E53: 0 | F53: 0 | G53: 0 | J53: 마을건강파트너사업비 | K53: 67473890 | L53: 67712000 | M53: =L53-K53 -> 238110
A54: 48 | E54: 0 | F54: 0 | G54: 0 | J54: ESG사업비 | K54: 296240000 | L54: 296240000 | M54: =L54-K54 -> 0
A55: 49 | E55: 0 | F55: 0 | G55: 0 | H55: 사업비 | I55: 사업단지원사업비 | J55: 시장형지원사업비 | K55: 17799230 | L55: 16964230 | M55: =L55-K55 -> -835000
...

Sheet 세입
A1: 부산영도시니어클럽 2025년 3차 추가경정예산서(세입내역서)
I2: (단위 : 원)
A3: 순번 | B3: 구분 | C3: 관 | D3: 항 | E3: 목 | F3: 예산액 | I3: 산출내역
F4: 당초 | G4: 추경 | H4: 증감액
A5: 1 | B5: 세입 | C5: 사업수입 | D5: 사업수입 | E5: 노인일자리사업수입 | F5: 1550486411 | G5: 1284733000 | H5: =G5-F5 -> -265753411 | I5: 방아깨비사업수입 21,564,416*12개월,주차장사업수입 18,033,333*12개월,어울림사업수입 7,100,000*12개월,0℃카페사업단사업수입 ,7,916,666*12개월,금비사업수입 9,030,000*12개월,싱싱가게사업수입 12,700,000*12회,요리조리사업수입 20,666,666*12개월
A6: 2 | B6: 세입 | C6: 사업수입 | D6: 사업수입 | E6: 고유사업수입 | G6: 306453900 | H6: =G6-F6 -> 306453900 | I6: 지킴이사업수입 219,742,730(1월~10월) + 80,257,270(11월, 12월),지킴이전년도이월금(수) 6,451,906,지킴이이자(수) 1,994
A7: 3 | C7: 보조금수입 | D7: 보조금수입 | E7: 국고보조금 | F7: 5525527000 | G7: 5523067220 | H7: =G7-F7 -> -2459780 | I7: 어울림국고 371,130,000*50%,주차장국고 66,750,000*50%,맑은누리국고 269,600,000*50%,지역공원국고593,120,000*50%,안전생활국고보조금 988,752,000*50%,치안지킴이국고보조금 236,992,000*50%,요리조리국고보조금 2,670,000*90명*50%,싱싱가게사업단국고보조금 40,050,000*50%,공공시설국고 475,170,000*50%,푸른바다국고 337,000,000*50%,소방안전국고보조금 7,712,000*50%,마을탐방국고 143,888,000*50%,선도모델국고 14,540,220,마을건강파트너사업단국고보조금 7,712,000*50%,ESG국고 296,240,000*50%,지역아동국고 507,840,000*50%,담당자국고보조금 571,710,000*50%,마을지기국고보조금 169,280,000*50%,보육교사 국고보조금770,224,000*50%,위기가구관리사업단국고보조금93,104,000*50,횡단보도관리국고 687,480,000*50%,교통안전국고 576,270,000*50%,마을지킴이국고보조금 38,560,000*50%,기타시설국고 482,448,000*50%,공익증진국고보조금 93,104,000*50%,장애인시설국93,104,000*50%,인센티브국고 15,000,000,국고보조금 135,424,000*50%,방아깨비국고 26,700,000*50%,금비국고88,110,000*50%,카페사업단국고보조금 2,670,000*30명*50%,학교환경관리국고 630,190,000*50%,자원순환국고660,520,000*50%,학교교통국고보조 778,470,000*50%
A8: 4 | E8: 시도보조금 | F8: 3117130500 | G8: 3118130750 | H8: =G8-F8 -> 1000250 | I8: 카페사업단시도보조금 2,670,000*30명*25%,지역아동시도보조금 507,840,000*25%,마을지킴이국고보조금 338,560,000*25%,ESG시도 296,240,000*25%,싱싱가게사업단시도보조금 40,050,000*25%,금비시도 88,110,000*50%,교통안전시도 576,270,000*25%,기관시도(인건비) 311,917,200,담당자시도보조금 571,710,000*25%,기관시도(운영비) 48,846,050,맑은누리시도보조금 269,600,000*25%,자원순환시도 660,520,000*25%,안전생활시도보조금 988,752,000*25%,보육교사 시도보조금770,224,000*25%,치안지킴이 시도보조금 236,992,000*25%,우체국시도보조금 135,424,000*25%,기관시도(복지) 940,000,공공시설시도 475,170,000*25%,횡단보도관리시도 687,480,000*25%,소방안전시도보조금 67,712,000*25% 마을건강파트너사업단시도보조금 67,712,000*25%,요리조리시도보조금 2,670,000*90명*25%,기관시도(시간외) 9,664,000,마을탐방시도보조금 143,888,000*25%,마을지기시도보조금 169,280,000*25%,어울림시도 371,130,000*25%,주차장시도 66,750,000*25%,공익증진시도보조금 93,104,000*25%,학교환경관리시도 630,190,000*25%,지역공원시도 593,120,000*25%,푸른바다시도 337,000,000*25%,위기가구관리사업단시도보조금 93,104,000*25%,방아깨비시도 26,700,000*25% 학교교통시도보조 778,470,000*25%,기타시설시도보조금 482,440,000*25%,장애인시설 시도보조금 93,104,000*25%
A9: 5 | E9: 시군구보조금 | F9: 2845427500 | G9: 2845427250 | H9: =G9-F9 -> -250 | I9: 치안지킴이 시군구보조금 236,992,000*25%,기관시군구(인건비) 55,043,800,요리조리사업단보조금 2,670,000*90명*25%,소방안전 시군구보조금 16,928,000*25%,보육교사 시군구보조금770,224,000*25%,우체국시군구보조금 135,424,000*25%,기관시군구(운영비) 8,619,950,위기가구관리사업단시군구보조금 93,104,000*25%,마을건강파트너사업단시군구보조금 67,712,000*25%,방아깨비시군구 26,700,000*25%금비시군구 88,110,000*50%,지역공원시군구보조금 593,120,000*25%,안전생활시군구보조금 988,752,000*25%,기타시설시군구보조금 482,440,000*25%,담당자시군구보조금 571,710,,000*25%,푸른바다시군구 37,000,000*25%,학교교통시군구보조 778,470,000*25%,ESG시군구 296,240,000*25%,싱싱가게사업단시군구보조금40,050,000*25%,카페사업단시군구보조금 2,670,000*30명*25%,환경개선시군구보조금 660,520,000*25%,보금자리사업단시도보조금 35,000,0000*100%,마을지기시도보조금 69,280,000*25%,공공시설시군구 475,170,000*25%,공익증진시군구 93,104,000*25%,마을탐방시군구보조금 143,888,000*25%,주차장시군구 66,750,000*25%,맑은누리시군구 269,600,000*25%,학교환경시군구 630,190,000*25%,횡단보도시군구보조금 687,480,000*25%,지역아동 시군구보조금 507,840,000*25%,마을지킴이 시군구보조금 338,560,000*25%,어울림시군구 371,130,000*25%,교통안전시군구 576,270,000*25% 장애인시설 시군구보조금 93,104,000*25%
A10: 6 | C10: 후원금수입 | D10: 후원금수입 | E10: 지정후원금 | H10: =G10-F10 -> 0
A11: 7 | E11: 비지정후원금 | F11: 6000000 | G11: 6000000 | H11: =G11-F11 -> 0 | I11: 비지정후원금 6,000,000
A12: 8 | C12: 전입금 | D12: 전입금 | E12: 법인전입금 | F12: 4000000 | G12: 4000000 | H12: =G12-F12 -> 0 | I12: 법인전입(자) 4,000,000
A13: 9 | E13: 법인전입금(후원금) | H13: =G13-F13 -> 0
A14: 10 | C14: 이월금 | D14: 이월금 | E14: 전년도이월금 | F14: 321593084 | G14: 321593071 | H14: =G14-F14 -> -13 | I14: 공공시설전년도이월금(보-이자) 13,949,맑은누리전년도이월금 (보-이자)6,769,치안지킴이전년도이월금(보-이자) 6,469,국민(후)전년도이월 1,000,000,국민(후-이자)전년도이월 71,기관(보) 61,910 기관(보)이자 11,802 복지포인트 16,680 시간외 648,850,어울림전년도이월금(보-이자) 6,702,어울림전년도이월금(보) 39,165,657,어울림전년도이월금(수) 51,591,135,푸른바다전년도이월금 (보조금-예금이자) 8,401,법인(자)이월금 931,825,방아깨비전년도이월금(보-이자) 210,방아깨비전년도이월금(수) 29,773,293,자원순환전년도이월금(보-이자) 15,160,지역공원전년도이월금(보-이자)15,704,지역아동전년도이월금 (보-이자) 11,304,교통안전전년도이월금(보-이자) 14,299,우체국 전년도이월금 (보-이자) 2,060,옛이야기(신중년)이월금 13,요리조리전년도이월금(보조금) 18,690,000,요리조리전년도이월금(보조금-기타예금이자) 5,702,요리조리전년도이월금(사회보험환급금) 191,850,요리조리전년도이월금(수입금) 37,471,923,전년도이월금(보-이자) 323,싱싱가게전년도이월금(수입금) 5,009,867,안전생활전년도이월금(보조금-예금이자) 23,037,안전생활전년도이월금(자부담-기타잡수입) 6,513,490,장애인시설전년도이월금 (보-이자) 2,014,담당자전년도이월금(잡수입) 1,357,824,담당자전년도이월금(보-이자) 13,097,담당자전년도이월금(보) 27,346,060,보행정보이월금 2,361,카페전년도이월금(보-이자) 585,카페전년도이월금(수) 32,904,546,학교교통전년도이월금(보-이자) 13,611,마을지킴이전년도이월금 (보-이자) 10,997,마을지기전년도이월금 (보-이자) 3,654,기관(인센)이월금 4,학교환경 전년도이월금 (보-이자) 12,592,보육교사전년도이월금 (보-이자) 11,440,주차장전년도이월금(보-이자) 1,087,주차장전년도이월금(수입금) 45,254,223,금비전년도이월금(보-이자) 2,654,금비전년도이월금(수입금) 16,575,857,기타시설전년도이월금 (보-이자) 7,843,소방안전전년되월금 (보조금-예금이자) 1,597,보금자리전년도이월금(보조금-기타예금이자) 930,보금자리반환금(보조금-인건비)156,070,서포터즈이월금 3,782,횡단보도관리전년도이월금(보-이자) 16,348,공익증전년도이월금 (보-이자) 2,163,마을탐방전년도이월금 (보-이자) 3,698,기관(자)이월금 227,684
A15: 11 | E15: 전년도이월금(후원금) | H15: =G15-F15 -> 0
A16: 12 | C16: 잡수입 | D16: 잡수입 | E16: 불용매각대 | H16: =G16-F16 -> 0
A17: 13 | E17: 기타예금이자수입 | F17: 385752 | G17: 334007 | H17: =G17-F17 -> -51745 | I17: 기관(자)이자수입 100,법인(자)이자수입 150,횡단보도관리이자(보) 18,652,주차장이자(보) 1,913,주차장이자(수) 6,789,금비기타예금이자수입(보조금) 4,346,학교환경 이자(보) 17,408,기타시설지원이(보) 12,157,소방안전사업기타예금이자수입(보조금) 1,403,ESG사업기타예금이자수입(보조금) 10,000,기관(인센)이자수입 36,방아깨비 이자수입(수) 4,707,싱싱(수)이자수입 3,133,공공시설이자(보) 16,051,치안지킴이이자수입 (보) 6,531,마을지기이자수입 (보) 4,346,마을건강파트너사업기타예금이자수입(보조금) 10,000,요리조리이자(보) 6,498,푸른바다 가타예금이자수입(보조금) 11,599,안전생활기타예금이자수입(보조금) 15,719,보육교사도우미이자 (보) 10,560,싱싱(보)이자수입 990,카페이자수입(보) 4,415,금비기타예금이자수입(수입금) 1,743,학교교통이자수입(보) 16,389,마을지킴이이자(보) 9,003,장애인시설이자(보) 1,986,보금자리(보-이자) 788,어울림이자(보-이자) 15,648,예금이자수입(수입금) 5,530,마을탐방이자수입 (보) 3,302,기관(보)이자수입 15,129,맑은누리이자(보)6,231,공익증이자(보) 1,837,담당자이자수입 13,019,지킴이이자 1,994,우제국이자(보) 2,940,국민(후)이자수입 358,부산(후)이자수입 206,위기가구관리사업기타예금이자수입(보조금) 3,000,방아깨비 이자수입(보) 971,어울림이자(수-이자) 8,391,카페이자수입(수) 2,500,환경개선이자(보) 15,840,지역공원이자(보) 14,296,교통안전이자 (보) 13,701,지역아동이자 (보) 13,696,지킴이이자(수) 1,994
A18: 14 | E18: 기타잡수입 | F18: 24330753 | G18: 19932906 | H18: =G18-F18 -> -4397847 | I18: 기관(자)잡수입 실습비 등 2,811,960,사회보험환급금 8,983,010,1년 미만 퇴직자 퇴직금 159,640,방아깨비잡수입 2,000,000,어울림잡수입 138,474,요리조리 고용 및 산재 환급금 190,950,싱싱가게잡수입(수) 528,570,카페잡수입 32814,주차장잡수입 3,087,488,담당자잡수입 2,000,000
C19: 합계 | F19: =SUM(F5:F18) -> 13394881000 | G19: =SUM(G5:G18) -> 13429672104 | H19: =SUM(H5:H18) -> 34791104

Sheet 세출
A1: 부산영도시니어클럽 2025년 3차 추가경정예산서(세출내역서)
I2: (단위 : 원)
A3: 순번 | B3: 구분 | C3: 관 | D3: 항 | E3: 목 | F3: 예산액 | I3: 산출내역
F4: 당초 | G4: 추경 | H4: 증감액
A5: 1 | B5: 세출 | C5: 사무비 | D5: 인건비 | E5: 급여 | F5: 285909200 | G5: 283517600 | H5: =G5-F5 -> -2391600 | I5: 관장(24/25호봉9월) 5,222,100*8월+5,275,700*4월=62,879,600,과장(13/14호봉2월) 3,613,100*1월+3,699,100*9월+4,088,200*2월=45,081,400,선임복지사(13/14호봉9월) 3,286,200*8월+3,365,100*4월=39,750,000,복지사1(8/9호봉9월) 2,645,000*8월+2,739,600*4월=32,118,400,복지사2(7호봉2월)2,544,400*9월+1,477,400=24,377,000,복지사3(5/6호봉6월) 2,391,600*4월+2,452,800*7월=26,736,000,복지사4(5/6호봉12월) 2,391,600*8월+1,993,000*1월+291,600*2월=21,709,000,사무원(7/8호봉6월) 2,518,400*5월+2,610,600*7월=30,866,200
A6: 2 | E6: 제수당 | F6: 51484610 | G6: 53029740 | H6: =G6-F6 -> 1545130 | I6: 담당자시간외수당 301,020+149,000,담당자시간외수당 182,110,명절휴가비 26,853,180,가족수당 9,620,650 시간외수당 8,521,120,선도모델담당자수당 6,000,000
A7: 3 | E7: 퇴직금 및 퇴직적립금 | F7: 29072650 | G7: 28562160 | H7: =G7-F7 -> -510490 | I7: 담당자시간외수당 퇴직적립금 25,090,선도모델수당 퇴직적립금 500,030,담당자시간외수당 퇴직적립금 15,180,퇴직금및퇴직적립 28,006,680
A8: 4 | E8: 사회보험부담금 | F8: 33365590 | G8: 33495380 | H8: =G8-F8 -> 129790 | I8: 선도모델수당 사회보험료 391,900,건강보험 11,384,590 장기요양 1,473,880 국민연금 13,646,470 고용보험 4,292,470 산재보험 2,306,070
A9: 5 | E9: 기타후생경비 | F9: 15840000 | G9: 15920000 | H9: =G9-F9 -> 80000 | I9: 직원복지포인트 820,000*1회, 100,000*1명,직원인센티브 15,000,000*1회
A10: 6 | C10: 사무비 | D10: 업무추진비 | E10: 기관운영비 | F10: 770000 | G10: 607000 | H10: =G10-F10 -> -163000 | I10: 유관기간업무 507,000*1회,유관기관 업무 100,000*1회
A11: 7 | E11: 회의비 | F11: 300000 | G11: 126100 | H11: =G11-F11 -> -173900 | I11: 운영위원회의비 126,100*1회
A12: 8 | C12: 사무비 | D12: 운영비 | E12: 여비 | F12: 1000000 | G12: 380920 | H12: =G12-F12 -> -619080 | I12: 여비 380,920*1회
A13: 9 | E13: 수용비 및 수수료 | F13: 15191000 | G13: 21222136 | H13: =G13-F13 -> 6031136 | I13: LH114호임대보증금 97,000,공인인증서 발급수수료 4,400,퇴직수수료 154,971,퇴직수수료 366,345*1회,신문구독료 15,000*12월,정수기관리비 36,000*4회,복사기 임대료 333,666*12회,LH상가관리,임대비 72,501*12월,정품소프트웨어 2,200,000*1회,회계 감사.검증비 550,000*1회,홈페이지 유지보수 1,089,000*1회,전기안전진단비 64,680,직원표창꽃다발 280,000,간의의자구입비 1,350,000,기타소모품 구입 9,067,726
A14: 10 | E14: 공공요금 | F14: 3480000 | G14: 2958970 | H14: =G14-F14 -> -521030 | I14: 전화요금 118,214*12월,전기요금 102,900*12월,상하수도요금 50,935*6회
A15: 11 | E15: 제세공과금 | F15: 5615710 | G15: 5605710 | H15: =G15-F15 -> -10000 | I15: 부산시니어 협회비 200,000*12월,전국시니어 협회비 170,000*12월,화재, 영업배상보험 342,000*1회,레이차량보험및자동차세 453,710*1회,직원상해보험 10,000*27명,어울림 찬조금 100,000*1회
A16: 12 | E16: 차량비 | F16: 1000000 | G16: 441280 | H16: =G16-F16 -> -558720 | I16: 차량수리비 등 441,280*1회
A17: 13 | E17: 기타운영비 | F17: 4864000 | G17: 4626060 | H17: =G17-F17 -> -237940 | I17: 직원워크숍 1,652,000,보수교육비 28,000*7명+28,000*18명,내.외부교육비 350,000*1회,신원보증보험가입 143,390*1회+289,040*1회,직원 해외연수비 400,000*2회,야근식대비 439,930*1회,직원회식비 300,000*1회
A18: 14 | C18: 재산조성비 | D18: 시설비 | E18: 시설장비유지비 | F18: 1000000 | G18: 0 | H18: =G18-F18 -> -1000000
A19: 15 | C19: 사업비 | D19: 사업단사업비 | E19: 방아깨비사업비 | F19: 266158422 | G19: 291115138 | H19: =G19-F19 -> 24956716 | I19: 스타렉스 보험료 1,284,850* 1회,인건비 392,151원*10명*12회,스티커구입 682,500*4회,포장상자구입 2,670,800*3회,홍보 249,628*5회,고용/산재 보험료 106,830*12개월,차량유류비 70,000*36회,자가품질검사비 200,000*12회,볶음깨통 구입비 375,000*12회,박스구입비 200,000*12회 ,공병, 마개 구입비 500,000*12 기타소모품 구입비 14,790,940,문화행사비 51,203*10명,세금(부가세포함) 3,869,755*4회,참깨구입 215,000*30포대*15회,들깨구입 121,450*20포대*20회,담당자처우개선비 419,400*2회,에어컨 구입비 1,364,000,세척기 구입비 1,210,000,비닐실링기 구입비 92,900,공공요금 644,466*12회,460,000*4회 = 1,840,000,480,000*8회 = 3,840,000,피복비 1,000*8명*1회
A20: 16 | E20: 어울림사업비 | F20: 473884000 | G20: =507216007-10000000-7 -> 497216000 | H20: =G20-F20 -> 23332000 | I20: 문화행사비 35,000*139명*1회,작업장 월세 500,000*12개월,교육비 4,700*139명*4회,인건비 171,400*139명*12개월,우편발송비 2,300,000*12,차량렌트비 외 485,000*12,혜원사보비닐봉투구입 2,000,000*2,소모품 외 814,790*4,명절선물비 30,000*139*2회,비품 및 기장수수료 외 555,000*12회,문화활동선물비 25,000*139*1회,출장비 108,320*1회,홍보비 264,000*1회,간담회 7,200*139명,개발원 교육 305,300*1회,가족수당 외 104,520*1회,고용,산재보험료 270,000*12개월,전기료 및 인터넷요금 등 225,000*12개월,정수기 렌탈 외 127,800, 유류비 40,000*4회*12개월,앞치마 9,200*139명,넥클러 100,000*1회
A21: 17 | E21: 주차장관리사업비 | F21: 307093712 | G21: =329928500-20000000 -> 309928500 | H21: =G21-F21 -> 2834788 | I21: 단말기요금 36,488원*12회,문화활동비 27,857*25명*2회,보험 6,950*25명*12회,유류비 40,000원*1회,51,500원*2회,처우개선비 419,400*1회,세금 2,794,350*5회,교육비 3,245*25명*12회,피복비 7,560*25명*1회,기장수수료 200,000*12회,명절선물비 30,180*25명*2회,소모품구입비외 10,000,000*1회,수탁료 14,013,794*10회,회의비 13,800*25명*1회,인건비 379,981원*25명*12회,보험료 199,600*1회
A22: 18 | E22: 요리조리사업비 | F22: 450415127 | G22: =523297453-20000000 -> 503297453 | H22: =G22-F22 -> 52882326 | I22: 유류비 44,000*25회,부가세4,177,825*4회, 자동차세 61,950*1회,문화활동비 36,554원*75명*2회,참여자상해보험료16,500*90*1회, 참여자 사회보험료522,000*12회,교육비 4,554원*76명*11회,피복비 11,072원*90명*2회,담당자 처우개선비 314,550*2회,스파크(01너0263)차량보험료 857,900*1회,회의및간담회비 17,000원*70명*1회,인건비373,230원*90명*12개월 (12월 인센티브 200,000원*90 포함),교육참가비 150,000*1회 홍보비 887,700원*3회,수입인지세 20,000*5회,잠복결핵검사비 50,000*3회,기장수수료 70,000*12개월 스파크(01너0263)차량 세차, 점검 및 수리비451,080*1회,공인인증서 발급비 4,400*2회,명절 선물비 참여자 27,500*75명*2회,명절 선물비 수요처 16,800*10곳*2회,법인세 조정수수료 68,183*1회,구인광고게재비 409,000*1회,문자발송서비스비 82,730*1회,노무자문료 150,000*4회, 15,000*4회,문구류 1,472,981*1회 안전용품구입비 993,700*1회,회계검증비 550,000*1회,스파크(01너0263)차량 통행료 500*5회,스파크(01너0263)차량 세차비 45,000*1회, 주거지 주차비 33,000*3회,가족수당 및 경력수당 150,000*6개월
A23: 19 | E23: 싱싱가게사업비 | F23: 190063000 | G23: 196467570 | H23: =G23-F23 -> 6404570 | I23: 영업배상책임보험 외 175,400*1회,기장수수료 90,000*12회,소모품(도시락용기외) 800,000*8회,공산품 1,309,330*12회,우편발송비 265,000*2회,차량렌트비 425,000*6회,포스기 대여료 19,500*12회,물품대금 6,700,000*12회,상하수도 요금 150,000*6회,홍보비 553,400*1회,부가세 713,320*1회,총회/간담회/평가회 식대비 8,000*15명*1회,교육참가비 50,000*1회,냉장고 440,000*1회,밥솥 140,000*1회,재료구입비 1,857,749*10회,인건비 250,750*15명*12개월,문화활동비 40,000*15회*1회,월세 869,000*8개월,피복비 933*15명,공공요금 420,000원*12개월,고용/산재 보험료 65,000*12개월
A24: 20 | E24: 풀잎0℃카페사업비 | F24: 284738000 | G24: =325889860-20000000 -> 305889860 | H24: =G24-F24 -> 21151860 | I24: 교육참가비 36,000*3회,부가세 2,436,340.5*6회,등록면허세 27,000*4회,주민세 93,750*4회,장비구입비 7,810,000*3회,재료비 5,642,895*12회,,공공요금 883,914*12회,회의비 13,000*30명*1회,기장수수료 370,000*12회,포스기 100,000*12회,소모품구입 1,000,000*12회,명절선물비 20,160*30명*2회,기타 635,908.58*12회,시설투자비 4,174,500*1회,인건비 384,639*30명*12개월,영업배상책임보험 외 531,600*1회,앞치마 등 14,600.13*30명*1회,홍보비 325,500*4회,차량유류비 40,000*48.75회,문화행사비 52,000*30명*1회,교육비 3,188*30명*3회,고용,산재보험료 241,291.66*12개월.
A25: 21 | E25: 금비사업비 | F25: 212788857 | G25: 211964000 | H25: =G25-F25 -> -824857 | I25: 부가세464,956*4회,출장비(교통+일비) 263,620*1회,현수막제작비 258,500*2회,홍보물품제작비 986,700*1회,교육참가비 150,000*1회,문화활동비15,900*33명*2회,기장수수료 30,000*12회,보건증 3,000*3명*1회 급여명세서 수수료 42,760*2회,퇴사자연차수당 963,220*1회,광고게재비409,000*2회,청소용품구입비125,980*4회,현수막제작비 316,400*3회,법인세조정수수료 272,154*1회,홍보물품구입비 1,000,000*2회 참여자 명절선물비 17,000*33명*2회,수요처 명절선물비 17,000*20곳*2회,핫팩구입비 192,000*1회 문구류구입비 271,582*1회,,안전물품구입비 345,800*2회,참여자 방한 조끼 1,500,000*1회,마스크구입비 137,785*2회,인건비471,598*33명*12개월,유류비 40,000*4회,워크북제작비 132,000*1회,교육다과비 4,528*33명*5회,상해보험료 17,500*33명*1회,사회보험료 206,910*12개월,담당자 사회보험 부족분 246,420*1회 참여자 회의비17,122*33명*1회,처우개선비 419,400*2회
A26: 22 | E26: 공공시설봉사사업비 | F26: 475170000 | G26: 475170000 | H26: =G26-F26 -> 0 | I26: 문화활동비 22,118*142명*1회,전화요금 100,680*1회,사무용책상 803,000*1회,교육비 4,500x150명x1회 참여자상해보험료 16,500원*140명*1회,명절수당 1,258,200원*1회,가족수당 20,000*6회,가족수당 40,000*2회,혹서기키트 8,500*155개*1회,출장비 155,300*1회,출장비 108,320*1회,교육참가비 150,000*1회,팀장비 40,000*8명*11개월,사업평가회 12,000*150명*1회,사원증, 명함 60,500*2회,안전용품(모기기피제)3,000*150개*1회,안전용품(핫팩) 31박스*19,870*1회,청소용품 427,500*1회,기장수수료 250,000*1회,문구류 구입비 2,012,730 *1회,인건비 290,000원*143명*10.99개월
A27: 23 | E27: 맑은누리사업비 | F27: 269600000 | G27: 269600000 | H27: =G27-F27 -> 0 | I27: 인건비290,000*82명*10.76개월, 팀장비40,000*4명*11회, 교육참가비 150,000원,참여자교육비 4,500*81명, 사업평가회 12,000*81명*1회, 사원증 16,500*1회,핫팩구입비 19,870*18박스,소득신고수수료 250,000*1회,어버이날 꽃 구입비 84,000*1회,청소용품 67,000*1회,문구료 등 3,116,860*1회, 출장비 263,620*1회, 컴퓨터구입 1,206,700*1회, 문화활동비 23,390*82명, 전화요금 83,460*1회, 상해보험 16,500*80명, 명절수당 1,258,200*1회,가족수당 40,000*7회,가족수당 60,000*2회,가족수당 54,000*1회, 유류보조 40,000*1회, 맑은누리사업단 차년도이월금(보조금-기타예금이자) 6,231, 맑은누리사업단 사업반환금(보조금-예금이자) 6,769
A28: 24 | E28: 학교환경관리사업비 | F28: 630190000 | G28: 630190000 | H28: =G28-F28 -> 0 | I28: 인건비 290,000원*11개월*187명, 팀장비 40,000×10명×11개월, 혹서기키트 1,785,000*1회,안전조끼 1,920,000*1회, 워크북제작 1,478,400*1회,11월 사업평가회(1인14,000원)*188명, 소득신고수수료 1회 *250,000,사원증 구입비 16,500*1회,물품구입비(장갑 외) 612,000*1회, 540,000*1회,봉투구입비 74,800*1회,모기기피제 612,000*1회,핫팩 구입비 774,940*1회,신원보증보험료 13500*1회,문구류 287,850*1회, 출장비 263,620*1회,문화행사 도시락 546000*1회,문화행사 비상약 구입비 49900*1회 문화행사 공연비 3,692,020*1회, 교육참가비150,000*1회, 전화요금 96,670*1회, 상해보험료 16,500×188명×1회, 가족수당(정지윤) 20,000* 12회,가족수당 20,000* 1회,명절수당 1,258,200* 2명 *2회,경력수당 100,000*1회, 유류비보조 40,000* 2회,유류비보조 30,000* 1회, 학교환경차년도이월금(보-이자) 17,408, 학교환경반환금(보-이자) 12,592
A29: 25 | E29: 자원순환사업비 | F29: 660520000 | G29: 660520000 | H29: =G29-F29 -> 0 | I29: 인건비 290,000원*198명*10.90회, 팀장비 40,000*10명*11회, 참여자 조끼 구입 2,160,000*1회,참여자 혹서기 키트 구입 2,635,000*1회,참여자 안전용품(넥쿨러) 구입 1,715,000*1회, 폐의약품 교육 간식비 4,500*10명(팀장), 사업평가회 12,000*200명*1회, 담당자 신원보증보험료 24,600*1회,소득신고 수수료 250,000*2회,청소용품 구입비 205,000*2회,모기기피제 615,000*1회,핫팩 19,870*41박스,종량제구입비 170,750*1회,문구류 구입비 116,870원*1회,사원증 16,500*1회, 출장비 100,373*3회, 문화활동비 23,030*200명*1회, 교육참가비 150,000*1회, 전화요금 90,670*1회, 참여자상해보험료 16,500원*200명*1회, 명절수당 1,258,200*6회,미사용연차수당 1,401,950*1회,가족수당 90,000*1회,가족수당 40,000*11회,가족수당 20,000*13회,가족수당 14,670*1회, 유류비 보조 40,000*6회, 자원순환전년도이월금(보-이자) 15,840, 자원순환이자(보) 15,160
A30: 26 | E30: 횡단보도관리사업비 | F30: 687480000 | G30: 687480000 | H30: =G30-F30 -> 0 | I30: 인건비 294,222*9개월*204명,인건비 264,016*2개월*214명, 팀장비 40,000*9회*8명,팀장비 40,000*2회*8명, 조끼 구입비 3,078,000*1회,혹서기 키트 구입비 1,955,000*1회,모자 구입비 2,758,800*1회, 참여자 교육비 918,000*1회, 팀장간담회다과비 400,500*1회,사업평가회 12,000*1회*214명, 참여자 소득수수료 250,000*2회,깃발 구입비 1,210,000*3회,사원증 구입비 16,500*1회,대소봉투 구입비 980,000*1회,A4용지 구입비 500,000*1회,문구류 구입비 497,630*1회, 출장비 108,320*1회,출장교통비 155,300*1회, 문화활동공연비 3,897,540*1회,문화활동식대비 784,000*1회, 교육참가비 150,000*1회, 전화요금 91,750*1회, 참여자상해보험료 16,500*1회*200명, 명절수당 1,258,200*2회,가족수당 40,000*6회,경력수당 100,000*6개월 퇴사자미사용연차수당 1,123,760*1회, 횡단보도관리차년도이월금(보-이자) 18,652, 횡단보도관리반환금(보-이자) 16,348
A31: 27 | E31: 지역공원클린사업사업비 | F31: 593120000 | G31: 593120000 | H31: =G31-F31 -> 0 | I31: 인건비290,000*179명*10.92개월, 참여자상해보험료 16,500*174명*1회, 활동조끼 14,000*200명*1회,혹서기키트 9,500*170명*1회,사업평가회 12,000*171명*1회,팀장비40,000*12명*11회, 발대식 120,000*1회,청소용품 450,000*1회,사원증 16,500*1회,문구류 142,920*1회,모기기피제 570,000*1회,참여자 소득신고 250,000*1회,핫팩 19,870*39박스, 문화활동비 22,780*174명*1회, 전화요금 85,520*1회, 출장비 263,620*1회, 유류비 보조 40,000*3회, 교육참가비 150,000*1회, 명절수당 1,258,200*2회,연차수당 732,460*1회,경력수당 100,000*8회,경력수당 50,000*1회,가족수당 40,000*7회,가족수당 20,000*3회, 지역공원클린차년도이월금(보-이자) 14,296, 지역공원클린반환금(보-이자) 15,704
A32: 28 | E32: 푸른바다사업비 | F32: 337000000 | G32: 337000000 | H32: =G32-F32 -> 0 | I32: 인건비 290,000원*100명*11회, 팀장비 40,000원*8명*11개월, 참여자조끼 2,800,000,혹서기 키트 935,000, 교육비 4,500원*103명, 회의비 11,410원*102명, 청소용품 179,100*1회,사원증 16,500*1회,문구류 91,600*1회,모기기피제 315,000*1회,기장수수료 250,000*1회,핫팩 417,270*1회,종량제봉투 31,050*1회, 출장비 188,960*1회, 사무용 컴퓨터구입비 1,206,700*1회, 문화활동비 23,030원*100명, 교육참가비 150,000*1회, 전화요금 86,730*1회, 상해보험료 16,500*100명, 명절수당 1,258,200*1회,가족수당 60,000*4개월, 푸른바다사업단 차년도이월금(보조금-기타예금이자) 11,599, 푸른바다사업단 사업반환금(보조금-예금이자) 8,401
A33: 29 | E33: 학교교통지킴이사업비 | F33: 778470000 | G33: 778470000 | H33: =G33-F33 -> 0 | I33: 참여자인건비 290,000원*231명*11개월, 팀장비 40,000원*19명*11개월, 조끼18,000원*120명*1회=2,160,000 우의 3,300원*300명*1회=990,000,모자 13,200원*235*1회=3,102,000,혹서기키트 8,500원*250개*1회=2,125,000, 간담회5,000원*230명*1회=1,150,000,사업평가회 12,000원*213명*1회=2,556,000, 깃발구입비14,050*120개=1,686,000,옴니문자발송비(상반기) 385,000*1회,기장수수료 소득신고 250,000×2회,핫팩 19,870원*93박스= 1,847,910,마스크 8,680원*150개=1,302,000,문구류1,306,660*1회, 출장비 188,960*1회, 문화활동비 22,380.68원*234명*1회, 교육참가비 150,000원*1회, 전화요금 85,120*1회, 상해보험 16,500원*234명*1회, 명절수당 1,258,200*3회=3,774,600원,가족수당 40,000*12월=480,000원,가족수당 2,670*1회, 유류비보조 40,000원*7회/50,00원*1회, 학교교통차년도이월금(보-이자) 16,389, 학교교통반환금(보-이자) 13,611
A34: 30 | E34: 교통안전활동사업비 | F34: 576270000 | G34: 576270000 | H34: =G34-F34 -> 0 | I34: 출장비 100,000*1ㅎ인건비 290,000*170명*11회 문화활동비 45,000*170명*1회 회의비 15,000*170명*2회 명절수당 1,258,200*2회 명절퇴직금 104,850*2회 가족수당퇴직금 40,000*12월 /12월 가족수당 40,000*12개월 담당자보험부족분 62,900*1회 경력수당 100,000*3개월 유류비보조 40,000*5회 팀장비 40,000*10명*11회 핫팩 500*170명*6개문구류 125,000*1회 기장수수료 250,000*1회 모기기피제 2,000*170명*1회 컴퓨터 1,500,000*1회 참여자상해보험료 16,800*170명*1회 피복비 16,000*170개*1회 마스크 400*170개*10개교육비 4,500*170명*2회 교육참가비 150,000*1회
A35: 31 | E35: 안전생활서비스사업비 | F35: 998752000 | G35: 998752000 | H35: =G35-F35 -> 0 | I35: 인건비 634,000×118명×10개월, 연차수당 31,710×118명×7.93회, 주휴 126,840×118명×9.8개월, 참여자 조끼 20,740×50개×1회, 간담회비 12,000×118명×1회, 교육참가비 150,000, 문화활동비 23,660*118명*1회 , 출장비 263,620*1회, 컴퓨터, 책상세트 등 4,306,700×1회, 유류비 40,000×2회, 전화요금 100,000×1회, 건강보험 28,360×118명×9.87개월, 요양보험 3,670×118명×9.81개월, 고용보험 3,600×118명×9.9개월, 산재보험 7,400×118명×9.9개월, 급여명세서 발송수수료 646,495×2회,기장수수료 110,000×12회,청소용품 구입 41,000×2회,노무사 자문료 165,000×2회,신청서 인쇄비 68,570×1회,인건비 31,710×6명×9.4일, 명절수당 1,219,070×4회,가족수당 300,750×12개월, 배상책임보험 4,500×118명×1회, 안전생활이자(보) 15,719,사회보험환급금 8,983,010, 안전생활전년도이월금(보-이자) 23,037,안전생활전년도이월금(자부담-기타잡수입) 6,513,490
A36: 32 | E36: 지역아동센터봉사사업비 | F36: 507840000 | G36: 507840000 | H36: =G36-F36 -> 0 | I36: 인건비 634,000*60명*10개월, 연차수당 31,710*60명*8.03회, 주휴수당 126,840*60명*9.75개월, 피복비 10383*60명, 회의비 52,800*1회,사업평가회 12,000*61명*1회, 교육비 4,463*60명*2회, 교육참가비 ,150,000*1회, 문화활동비 22,538*60명*1회, 출장비 263,620*1회, 유류비 40,000*1회, 전화요금 100,000*1회, 건강보험 28,360*60명*10개월 , 요양보험 3,670*60명*10개월 , 고용보험 3,600*60명*10개월, 산재보험 7,400*60명*10개월, 기장수수료 120,000*1회,보건증발급비 3,000*65명,잠복결핵검사비 50000*13.6명,문구류 1,184,680*1회,인건비 부족분24,870, 홍보비 198,900*1회, 가족수당 100,000*3회 명절수당 1,258,200*4회,경력수당 50,000*4회, 배상책임보험 4,500*60명*1회, 지역아동센터차년도이월금(보-이자) 13,696, 지역아동센터반환금(보-이자) 11,304
... A45: 41 | E45: 실버보금자리사업비 | F45: 35000000 | G45: 35000000 | H45: =G45-F45 -> 0 | I45: 인건비 345,556*7명*9개월,참여자사회보험료 365,325*4분기,자재비 176,685*6가구*9개월,수리비 450,000*3가구,재료비 274,610,교육비 3,300*7명*1회,강사비 310,000*1회,팀장비 30,000*1명*9개월
A46: 42 | E46: 지킴이사업비 | F46: 295975150 | G46: 0 | H46: =G46-F46 -> -295975150
A47: 43 | E47: 마을탐방사업비 | F47: 143888000 | G47: 143888000 | H47: =G47-F47 -> 0 | I47: 인건비 634,000*17명*10회, 연차 31,710*17명*8.06개월, 주휴 126,840*17명*9.75개월, 안전물품 206,250*2회, 회의비 12,000*17명*1회, 다과비 4,362*17명*6회, 문화행사비 23,059*17명*1회, 주유비 40,000*2회, 전화요금 50,520*1회, 건강보험료 28,194*17명*10개월, 요양보험료 3,649*17명*10개월, 고용보험료 3,600*17명*10개월, 산재보험료7,317*17명*10개월, 참여자인건비 200*17명*10개월,문구류 140,520*1회,26년사업접수준비물품구입 187,260*1회, 명절수당 788,600*1명*1회,가족수당 110,000*1명*6회, 보험료 4,500*17명*1회, 마을탐방차년도이월금(보-이자) 3,302, 마을탐방반환금(보-이자) 3,698
A48: 44 | E48: 마을지기사업비 | F48: 169280000 | G48: 169280000 | H48: =G48-F48 -> 0 | I48: 인건비 634,000*20명*10개월, 연차 31,710*20명*7.05, 주휴 126,840*20명*9.84개월, 혹서기키트 8,500*20개, 회의비 12,000*20명, 교육비 4,500*20명*5회, 문화활동비 22,652*20명, 컴퓨터구입비 1,300,000*1회, 전화요금 28,330*1회, 건강 28,360*20명*9.95개월, 요양 3,670*20명*9.95개월, 고용 3,600*20명*11.06개월, 산재 7,400*20명*10.11개월, 공구구입비 282,000*1회,문구류 448,980*1회,인건비부족분 198,550, 리플릿스티커 40,000*1회, 가족수당 40,000*6회,경력수당 100,000*6회, 보험 4,500*20명, 마을지기차년도이월금(보-이자) 4,346, 마을지기반환금(보-이자) 3,654
...

Sheet 임직원보수일람표
A1: 부산영도시니어클럽 2025년 임․직원보수일람표
J2: ( 단위 : 원)
A3: 순위 | B3: 직종 또는 직위(급) | C3: 성명 | D3: 본봉 | E3: 수당 | H3: 계 | I3: 공제액 | J3: 차감지급액
E4: 명절휴가비 | F4: 가족수당 | G4: 시간외
A5: 1 | B5: 관장 | C5: 김정현 | D5: 62879600 | E5: 6298650 | F5: 1680000 | G5: 0 | H5: =SUM(D5:G5) -> 70858250 | I5: 7523750 | J5: =H5-I5 -> 63334500
A6: 2 | B6: 과장 | C6: 예귀정 | D6: 45081400 | E6: 4387240 | F6: 3240000 | G6: 1648030 | H6: =SUM(D6:G6) -> 54356670 | I6: 5682740 | J6: =H6-I6 -> 48673930
A7: 3 | B7: 선임사회복지사 | C7: 엄경준 | D7: 39750000 | E7: 3990780 | F7: 1740000 | G7: 1495690 | H7: =SUM(D7:G7) -> 46976470 | I7: 4951850 | J7: =H7-I7 -> 42024620
A8: 4 | B8: 사회복지사 | C8: 이준희 | D8: 32118400 | E8: 3230760 | F8: 240000 | G8: 1210510 | H8: =SUM(D8:G8) -> 36799670 | I8: 3901260 | J8: =H8-I8 -> 32898410
A9: 5 | B9: 사회복지사 | C9: 이미네 | D9: 26736000 | E9: 1471680 | F9: 220000 | G9: 1083310 | H9: =SUM(D9:G9) -> 29510990 | I9: 3374270 | J9: =H9-I9 -> 26136720
A10: 6 | B10: 사회복지사 | C10: 권수정 | D10: 21709000 | E10: 2869920 | F10: 0 | G10: 566430 | H10: =SUM(D10:G10) -> 25145350 | I10: 3468120 | J10: =H10-I10 -> 21677230
A11: 7 | B11: 사회복지사 | C11: 김선교 | D11: 24377000 | E11: 1526640 | F11: 850650 | G11: 958720 | H11: =SUM(D11:G11) -> 27713010 | I11: 1123070 | J11: =H11-I11 -> 26589940
A12: 8 | B12: 사무원 | C12: 권수란 | D12: 30866200 | E12: 3077400 | F12: 1020000 | G12: 1153040 | H12: =SUM(D12:G12) -> 36116640 | I12: 3810940 | J12: =H12-I12 -> 32305700
C13: - | D13: 이 | E13: 하 | G13: 여 | H13: 백 | I13: -
