Workbook

Sheet 예산총칙
A3: 예 산 총 칙
B5: 제1조 사회복지법인 혜원 부산영도시니어클럽의 2025년도 2차 추경 예산안 세입 · 세출 예산
B6: =D17 -> 13394881000 | C6: =D17 -> 13394881000
B8: 제2조 1. 세입세출의 명세는 세입 · 세출 예산서와 같다.
B9: 2. 세입의 주요재원은 다음과 같다.
C11: 사업수입 | D11: =SUM(총괄표!F7) -> 1550486411
C12: 보조금수입 | D12: =SUM(총괄표!F8:F10) -> 11488085000
C13: 후원금 | D13: =SUM(총괄표!F11:F12) -> 6000000
C14: 법인전입금 | D14: =SUM(총괄표!F13:F14) -> 4000000
C15: 이월금 | D15: =SUM(총괄표!F15:F16) -> 321593084
C16: 잡수입 | D16: =SUM(총괄표!F17:F19) -> 24716505
C17: 계 | D17: =SUM(D11:E16) -> 13394881000
B19: 3. 세출의 내용은 다음과 같다.
C21: =[1]총괄표!G6 -> 사무비 | D21: =SUM(총괄표!L7:L19) -> 447892760
C22: =[1]총괄표!G27 -> 재산조성비 | D22: =SUM(총괄표!L20) -> 1000000
C23: =[1]총괄표!G31 -> 사업비 | D23: =SUM(총괄표!L21:L57) -> 12623551208
C24: 잡지출 | D24: 0
C25: 예비비 및 기타 | D25: =SUM(총괄표!L58:L59) -> 322437032
C26: 계 | D26: =SUM(D21:E25) -> 13394881000
B28: 제3조 예산비용이 긴박한 경우 시설의 장이 우선 집행하고 이사회의 결의를 얻도록 한다.
B29: 제4조 예비비는 예산의 1% 이내로 한다.

Sheet 예산변경사유서
A2: 부산영도시니어클럽
A3: 2025년 2차 추가경정 사유서
A5: 부산영도시니어클럽에서는 2025년도 2차 추경을 통해 예산을 13,489,843,000원에서 94,962,000원 감소한 13,394,881,000원으로 변경하고자 하며 항목별 변경사유는 아래와 같다.
A6: -아 래-
A7: 1. 총 평
A8: 2025년 부산영도시니어클럽 2차 추경은 세입의 경우 시군구보조금 일부 및 인센티브 수입, 후원금 수입예상을 통한 수입 증가가 있는 반면 공동체사업단 수입금 대폭 감소를 반영하여 수입 감소, 세출의 경우 인력현황 변경 및 수당, 인센티브 반영에 따른 사무비 지출 증가, 영도할매지킴이사업의 사업량 증가 반영, 우리동네 ESG센터 운영을 위한 사업단지원비가 증가하였으나 공동체사업단 전체 사업수입 조정으로 인한 사업비의 감소로 예산 변경에 대한 사유가 발생하였다.
A9: 2. 항목별 변경사유
A10: 세 입 | C10: 세 출
A11: 예산항목 | B11: 변경사유 | C11: 예산항목 | D11: 변경사유
A12: 사업단수입 | B12: 1,668,445,160원에서 1,550,486,411으로 117,958,749원 감소 ○ 공동체사업단 수입금액의 전체적인 조정 | C12: 사무비 | D12: 437,046,010원에서 447,892,760원으로 10,846,750원 증가 ○직원 현황 변동(출산휴가 및 육아휴직, 부장 승진)에 따른 인건비 변경, 선도모델담당자 수당 및 노인일자리수행기관 평가 우수에 따른 인센티브 지급 반영함
A13: 보조금수입 | B13: 11,473,085,000원에서 11,488,085,000원으로 15,000,000원 증가 ○ 고유사업인 영도할매보금자리사업단 시군구보조금 지원금액 증가 및 인센티브 반영으로 증가 | C13: 재산조성비 | D13: 변동없음
A14: 후원금 | B14: 3,000,000원에서 6,000,000원으로 3,000,000원 증가 ○ 예상 후원금 증가 | C14: 사업비 | D14: 12,690,664,720원에서 12,623,551,208원으로 67,113,512원으로 감소 ○ 공동체사업단의 전체적인 사업수익 예상금액 조정에 따른 사업비의 대폭 감소, 각 사업단별 사업량 조정 반영, 고유사업인 영도할매지킴이사업단의 경우 혁신센터와의 계약으로 사업비 증가, 우리동네ESG센터 관련 물품 구입으로 사업단지원비 증가 반영
A15: 전입금 | B15: 변동없음 | C15: 잡지출 | D15: 해당없음
A16: =[2]총괄표!A32 -> 이월금 | B16: 변동없음 | C16: 예비비 및 기타 | D16: 361,132,270원에서 322,437,032원으로 38,695,238원 감소 ○ 전체적인 사업수입 조정으로 이월금 감소 반영
A17: =[2]총괄표!A35 -> 잡수입 | B17: 19,719,756원에서 24,716,505원으로 4,996,749원 증가 ○ 1년미만 퇴사자 퇴직적립금 환급, 사업단사회보험 기관부담금 환급, 부가세 환급 등 잡수입 증가

Sheet 총괄표
A1: 부산영도시니어클럽 2025년 2차 추가경정예산서
L2: (단위 : 원)
A4: 순번 | B4: 세입 | H4: 세출
B5: 관 | C5: 항 | D5: 목 | E5: 예산액 | H5: 관 | I5: 항 | J5: 목 | K5: 예산액
E6: 당초 | F6: 추경 | G6: 증감액 | K6: 당초 | L6: 추경 | M6: 증감액
A7: 1 | B7: 사업수입 | C7: 사업수입 | D7: 사업수입 | E7: 1668445160 | F7: =1550486040+371 -> 1550486411 | G7: =F7-E7 -> -117958749 | H7: 사무비 | I7: 인건비 | J7: 급여 | K7: 290363520 | L7: 285909200 | M7: =L7-K7 -> -4454320
A8: 2 | B8: 보조금수입 | C8: 보조금수입 | D8: 국고보조금 | E8: 5515527000 | F8: 5525527000 | G8: =F8-E8 -> 10000000 | J8: 제수당 | K8: 42948900 | L8: 51484610 | M8: =L8-K8 -> 8535710
A9: 3 | D9: 시도보조금 | E9: 3117130500 | F9: 3117130500 | G9: =F9-E9 -> 0 | J9: 퇴직금 및 퇴직적립금 | K9: 27750960 | L9: 29072650 | M9: =L9-K9 -> 1321690
A10: 4 | D10: 시군구보조금 | E10: 2840427500 | F10: 2845427500 | G10: =F10-E10 -> 5000000 | J10: 사회보험부담금 | K10: 35359280 | L10: 33365590 | M10: =L10-K10 -> -1993690
A11: 5 | B11: 후원금수입 | C11: 후원금수입 | D11: 지정후원금 | E11: 0 | F11: 0 | G11: =F11-E11 -> 0 | J11: 기타후생경비 | K11: 11840000 | L11: 15840000 | M11: =L11-K11 -> 4000000
A12: 6 | D12: 비지정후원금 | E12: 3000000 | F12: 6000000 | G12: =F12-E12 -> 3000000 | H12: 사무비 | I12: 업무추진비 | J12: 기관운영비 | K12: 640000 | L12: 770000 | M12: =L12-K12 -> 130000
A13: 7 | B13: 전입금 | C13: 전입금 | D13: 법인전입금 | E13: 4000000 | F13: 4000000 | G13: =F13-E13 -> 0 | J13: 회의비 | K13: 300000 | L13: 300000 | M13: =L13-K13 -> 0
A14: 8 | D14: 법인전입금(후원금) | E14: 0 | F14: 0 | G14: =F14-E14 -> 0 | H14: 사무비 | I14: 운영비 | J14: 여비 | K14: 500000 | L14: 1000000 | M14: =L14-K14 -> 500000
A15: 9 | B15: 이월금 | C15: 이월금 | D15: 전년도이월금 | E15: 321593084 | F15: 321593084 | G15: =F15-E15 -> 0 | J15: 수용비 및 수수료 | K15: 12119350 | L15: 15191000 | M15: =L15-K15 -> 3071650
A16: 10 | D16: 전년도이월금(후원금) | E16: 0 | F16: 0 | G16: =F16-E16 -> 0 | J16: 공공요금 | K16: 3560000 | L16: 3480000 | M16: =L16-K16 -> -80000
A17: 11 | B17: 잡수입 | C17: 잡수입 | D17: 불용매각대 | E17: 0 | F17: 0 | G17: =F17-E17 -> 0 | J17: 제세공과금 | K17: 5740000 | L17: 5615710 | M17: =L17-K17 -> -124290
A18: 12 | D18: 기타예금이자수입 | E18: 371806 | F18: 385752 | G18: =F18-E18 -> 13946 | J18: 차량비 | K18: 1000000 | L18: 1000000 | M18: =L18-K18 -> 0
A19: 13 | D19: 기타잡수입 | E19: 19347950 | F19: 24330753 | G19: =F19-E19 -> 4982803 | J19: 기타운영비 | K19: 4924000 | L19: 4864000 | M19: =L19-K19 -> -60000
A20: 14 | E20: 0 | F20: 0 | G20: 0 | H20: 재산조성비 | I20: 시설비 | J20: 시설장비유지비 | K20: 1000000 | L20: 1000000 | M20: =L20-K20 -> 0
A21: 15 | E21: 0 | F21: 0 | G21: 0 | H21: 사업비 | I21: 사업단사업비 | J21: 방아깨비사업비 | K21: 215802000 | L21: =266158422 -> 266158422 | M21: =L21-K21 -> 50356422
A22: 16 | E22: 0 | F22: 0 | G22: 0 | J22: 어울림사업비 | K22: 478800000 | L22: 473884000 | M22: =L22-K22 -> -4916000
A23: 17 | E23: 0 | F23: 0 | G23: 0 | J23: 주차장관리사업비 | K23: 339225000 | L23: 307093712 | M23: =L23-K23 -> -32131288
A24: 18 | E24: 0 | F24: 0 | G24: 0 | J24: 요리조리사업비 | K24: 518627000 | L24: 450415127 | M24: =L24-K24 -> -68211873
A25: 19 | E25: 0 | F25: 0 | G25: 0 | J25: 싱싱가게사업비 | K25: 218585000 | L25: 190063000 | M25: =L25-K25 -> -28522000
A26: 20 | E26: 0 | F26: 0 | G26: 0 | J26: 풀잎0℃카페사업비 | K26: 312838000 | L26: 284738000 | M26: =L26-K26 -> -28100000
A27: 21 | E27: 0 | F27: 0 | G27: 0 | J27: 금비사업비 | K27: 213794000 | L27: 212788857 | M27: =L27-K27 -> -1005143
A28: 22 | E28: 0 | F28: 0 | G28: 0 | J28: 공공시설봉사사업비 | K28: 471800000 | L28: 475170000 | M28: =L28-K28 -> 3370000
A29: 23 | E29: 0 | F29: 0 | G29: 0 | J29: 맑은누리사업비 | K29: 269600000 | L29: 269600000 | M29: =L29-K29 -> 0
A30: 24 | E30: 0 | F30: 0 | G30: 0 | J30: 학교환경관리사업비 | K30: 633560000 | L30: 630190000 | M30: =L30-K30 -> -3370000
A31: 25 | E31: 0 | F31: 0 | G31: 0 | J31: 자원순환사업비 | K31: 674000000 | L31: 660520000 | M31: =L31-K31 -> -13480000
A32: 26 | E32: 0 | F32: 0 | G32: 0 | J32: 횡단보도관리사업비 | K32: 674000000 | L32: 687480000 | M32: =L32-K32 -> 13480000
A33: 27 | E33: 0 | F33: 0 | G33: 0 | J33: 지역공원클린사업사업비 | K33: 586380000 | L33: 593120000 | M33: =L33-K33 -> 6740000
... A54: 49 | E54: 0 | F54: 0 | G54: 0 | J54: ESG사업비 | K54: 287776000 | L54: 296240000 | M54: =L54-K54 -> 8464000
A55: 50 | E55: 0 | F55: 0 | G55: 0 | H55: 사업비 | I55: 사업단지원사업비 | J55: 시장형지원사업비 | K55: 10000000 | L55: 17799230 | M55: =L55-K55 -> 7799230
A56: 51 | E56: 0 | F56: 0 | G56: 0 | J56: 기타사업지원사업비 | K56: 18151000 | L56: 15501000 | M56: =L56-K56 -> -2650000
A57: 52 | E57: 0 | F57: 0 | G57: 0 | H57: 사업비 | I57: 일반사업비 | J57: 홍보사업비 | K57: 600000 | L57: 955500 | M57: =L57-K57 -> 355500
A58: 53 | E58: 0 | F58: 0 | G58: 0 | H58: 예비비 및 기타 | I58: 예비비 및 기타 | J58: 예비비 | K58: 266731516 | L58: 228036280 | M58: =L58-K58 -> -38695236
A59: 54 | E59: 0 | F59: 0 | G59: 0 | J59: 반환금 | K59: 94400754 | L59: 94400752 | M59: =L59-K59 -> -2
A60: 합계 | E60: =SUM(E7:E59) -> 13489843000 | F60: =SUM(F7:F59) -> 13394881000 | G60: =SUM(G7:G59) -> -94962000 | H60: 합계 | K60: =SUM(K7:K59) -> 13489843000 | L60: =SUM(L7:L59) -> 13394881000 | M60: =SUM(M7:M59) -> -94962000

Sheet 세입
A1: 부산영도시니어클럽 2025년 2차 추가경정예산서(세입내역서)
I2: (단위 : 원)
A3: 순번 | B3: 구분 | C3: 관 | D3: 항 | E3: 목 | F3: 예산액 | I3: 산출내역
F4: 당초 | G4: 추경 | H4: 증감액
A5: 1 | B5: 세입 | C5: 사업수입 | D5: 사업수입 | E5: 사업수입 | F5: 1668445160 | G5: =1550486040+371 -> 1550486411 | H5: =G5-F5 -> -117958749 | I5: 방아깨비사업수입 19,170,000*12개월, 어울림사업수입 7,500,000*12개월, 주차장사업수입 18,440,000*12개월, 요리조리사업단사업수입 20,833,333*12개월, 영도할매싱싱가게사업단사업수입12,500,000*12개월, 0℃카페사업단사업수입 17,083,333*12개월, 금비사업단사업수입 9,440,000*12개월, 지킴이사업수입 25,907,170*12개월
A6: 2 | C6: 보조금수입 | D6: 보조금수입 | E6: 국고보조금 | F6: 5515527000 | G6: 5525527000 | H6: =G6-F6 -> 10000000 | I6: 선도모델국고 17,000,000.인센티브국고 15,000,000.방아깨비국고 26,700,000*50%.어울림국고 365,790,000*50%.주차장국고 66,750,000*50%.요리조리사업단국고보조금 2,670,000*90명*50%.보육교사 국고보조금770,224,000*50%.담당자국고보조금 571,710,000*50%.공공시설국고 475,170,000*50%.싱싱가게사업단국고보조금 40,050,000*50%.맑은누리국고 269,600,000*50%.카페사업단국고보조금 2,670,000*30명*50%.학교환경관리국고 630,190,000*50%.지역아동국고 507,840,000*50%.기타시설국고 482,448,000*50%.자원순환국고 660,520,000*50%.횡단보도관리국고 687,480,000*50% 금비사업단국고보조금 2,670,000*35명*50%.지역공원국고 593,120,000*50%.푸른바다국고 337,000,000*50%.소방안전국고보조금 67,712,000*50%.장애인시설국고 93,104,000*50%.안전생활국고보조금 988,752,000*50%.마을지킴이국고보조금 338,560,000*50%.학교교통국고보조 778,470,000*50%.교통안전국고 576,270,000*50%.공익증진국고보조금 93,104,000*50%.치안지킴이국고보조금 236,992,000*50%.마을탐방국고 143,888,000*50%.마을지기국고보조금 169,280,000*50% 국고보조금 135,424,000*50%.위기가구관리사업단국고보조금 93,104,000*50.마을건강파트너사업단국고보조금 67,712,000*50%.ESG국고 296,240,000*50%
A7: 3 | E7: 시도보조금 | F7: 3117130500 | G7: 3117130500 | H7: =G7-F7 -> 0 | I7: 기관시도(인건비) 311,917,000,기관시도(운영비) 48,846,000,기관시도(복지) 840,000,기관시도(시간외) 8,764,000,방아깨비시도 26,700,000*25%,어울림시도 365,790,000*25%,주차장시도 66,750,000*25%,요리조리사업단시도보조금 2,670,000*90명*25%,보육교사 시도보조금770,224,000*25%,담당자시도보조금 571,710,000*25%,공공시설시도 475,170,000*25%,싱싱가게사업단시도보조금 40,050,000*25%,맑은누리시도보조금 269,600,000*25%,카페사업단시도보조금 2,670,000*30명*25%,학교환경관리시도 630,190,000*25%,지역아동시도보조금 507,840,000*25%,기타시설시도보조금 482,440,000*25% 자원순환시도 660,520,000*25%,횡단보도관리시도 687,480,000*25%,금비사업단시도보조금 2,670,000*35명*25%,지역공원시도 593,120,000*25%,푸른바다시도 337,000,000*25%,소방안전시도보조금 67,712,000*25%,장애인시설 시도보조금 93,104,000*25%,안전생활시도보조금 988,752,000*25%,마을지킴이국고보조금 338,560,000*25%,학교교통시도보조 778,470,000*25%,교통안전시도 576,270,000*25%,공익증진시도보조금 93,104,000*25%,치안지킴이 시도보조금 236,992,000*25%,마을탐방시도보조금 143,888,000*25%,마을지기시도보조금 169,280,000*25%,우체국시도보조금 135,424,000*25%,위기가구관리사업단시도보조금 93,104,000*25%,마을건강파트너사업단시도보조금 67,712,000*25%,ESG시도 296,240,000*25%
A8: 4 | E8: 시군구보조금 | F8: 2840427500 | G8: 2845427500 | H8: =G8-F8 -> 5000000 | I8: 기관시군구(인건비) 55,044,000,기관시군구(운영비) 8,620,000,방아깨비시군구 26,700,000*25%,어울림시군구 365,790,000*25%,주차장시군구 66,750,000*25%,요리조리사업단시군구보조금 2,670,000*90명*25%,보육교사 시군구보조금770,224,000*25%,,담당자시군구보조금 571,710,,000*25%,공공시설시군구 475,170,000*25%,싱싱가게사업단시군구보조금40,050,000*25%,보금자리사업단시도보조금 35,000,0000*100%,맑은누리시군구 269,600,000*25%,카페사업단시군구보조금 2,670,000*30명*25%,학교환경시군구 630,190,000*25%,지역아동 시군구보조금 507,840,000*25%,기타시설시군구보조금 482,440,000*25%,환경개선시군구보조금 660,520,000*25%,횡단보도시군구보조금 687,480,000*25%,금비사업단시군구보조금 2,670,000*35명*25%,지역공원시군구보조금 593,120,000*25%,푸른바다시군구 337,000,000*25%,소방안전 시군구보조금 16,928,000*25%,장애인시설 시군구보조금 93,104,000*25%,안전생활시군구보조금 988,752,000*25%,마을지킴이 시군구보조금 338,560,000*25%,학교교통시군구보조 778,470,000*25%,교통안전시군구 576,270,000*25%,공익증진시군구 93,104,000*25%,치안지킴이 시군구보조금 236,992,000*25%,마을탐방시군구보조금 143,888,000*25%,마을지기시도보조금 169,280,000*25%,우체국시군구보조금 135,424,000*25%,위기가구관리사업단시군구보조금 93,104,000*25%,마을건강파트너사업단시군구보조금 67,712,000*25%,ESG시군구 296,240,000*25%
A9: 5 | C9: 후원금수입 | D9: 후원금수입 | E9: 지정후원금 | H9: =G9-F9 -> 0
A10: 6 | E10: 비지정후원금 | F10: 3000000 | G10: 6000000 | H10: =G10-F10 -> 3000000 | I10: 비지정후원금 6,000,000
A11: 7 | C11: 전입금 | D11: 전입금 | E11: 법인전입금 | F11: 4000000 | G11: 4000000 | H11: =G11-F11 -> 0 | I11: 법인전입(자) 4,000,000
A12: 8 | E12: 법인전입금(후원금) | H12: =G12-F12 -> 0
A13: 9 | C13: 이월금 | D13: 이월금 | E13: 전년도이월금 | F13: 321593084 | G13: 321593084 | H13: =G13-F13 -> 0 | I13: 국민(후)전년도이월 1,000,071,기관(보) 61,910 기관(보)이자 11,802 복지포인트 16,680 시간외 648,850 법인(자)이월금 931,825,기관(인센)이월금 4,기관(자)이월금 227,684,방아깨비전년도이월금(보-이자) 210 방아깨비전년도이월금(수) 29,773,293,어울림전년도이월금(보-이자) 6,702,어울림전년도이월금(보) 39,165,657,어울림전년도이월금(수) 51,591,135,주차장전년도이월금(보-이자) 1,087,주차장전년도이월금(수입금) 45,254,223,요리조리전년도이월금(보조금) 18,690,000,요리조리전년도이월금(보조금-기타예금이자) 5,702,요리조리전년도이월금(사회보험환급금) 191,850,요리조리전년도이월금(수입금) 37,471,923 보육교사전년도이월금 (보-이자) 11,440,담당자전년도이월금(잡수입) 1,357,824,담당자전년도이월금(보-이자) 13,097,담당자전년도이월금(보) 27,346,060,지킴이사업이월금 6,451,906,공공시설전년도이월금(보-이자) 13,949,전년도이월금(보-이자) 323,싱싱가게전년도이월금(수입금) 5,009,867,보금자리전년도이월금(보조금-기타예금이자) 932,보금자리반환금(보조금-인건비)156,070,맑은누리전년도이월금 (보-이자)6,769 카페전년도이월금(보-이자) 585,카페전년도이월금(수입금) 32,904,546,학교환경 전년도이월금 (보-이자) 12,592,지역아동전년도이월금 (보-이자) 11,304,기타시설전년도이월금 (보-이자) 7,843,자원순환전년도이월금(보-이자) 15,160,횡단보도관리전년도이월금(보-이자) 16,348,금비전년도이월금(보-이자) 2,654,금비전년도이월금(수입금) 16,575,857,지역공원전년도이월금(보-이자)15,704,푸른바다전년도이월금 (보조금-예금이자) 8,401,소방안전전년되월금 (보조금-예금이자) 1,597,장애인시설전년도이월금 (보-이자) 2,014 안전생활전년도이월금(보조금-예금이자) 23,037,안전생활전년도이월금(자부담-기타잡수입) 6,513,490,마을지킴이전년도이월금 (보-이자) 10,997,학교교통전년도이월금(보-이자) 13,611,교통안전전년도이월금(보-이자) 14,299,공익증전년도이월금 (보-이자) 2,163,치안지킴이전년도이월금(보-이자) 6,469,마을탐방전년도이월금 (보-이자) 3,698,서포터즈이월금 3,782,보행정보이월금 2,361,마을지기전년도이월금 (보-이자) 3,654,우체국 전년도이월금 (보-이자) 2,0
A14: 10 | E14: 전년도이월금(후원금) | H14: =G14-F14 -> 0
A15: 11 | C15: 잡수입 | D15: 잡수입 | E15: 불용매각대 | H15: =G15-F15 -> 0
A16: 12 | E16: 기타예금이자수입 | F16: 371806 | G16: 385752 | H16: =G16-F16 -> 13946 | I16: 기관(자)이자수입 2,000,법인(자)이자수입 2,000,기관(인센)이자수입 97,기관(보)이자수입 15,800,국민(후)이자수입 929,방아깨비 이자수입(수) 4,707,방아깨비 이자수입(보) 3,790,어울림이자(보-이자) ,5,641,어울림이자(수-이자) 8,391,주차장이자(보) 3,413,주차장이자(수) 6,777,요리조리이자(보) 6,498,예금이자수입(수입금) 4,077,보육교사도우미이자 (보) 18,560,담당자이자수입 13,019,지킴이이자 2,054,공공시설이자(보) 16,051,싱싱(수)이자수입 3,133,싱싱(보)이자수입 2,677,보금자리이자 1,000,맑은누리이자(보)6,231,카페 기타예금이자수입(보조금) 2,415,카페기타예금이자수입(수입금) 3,454,학교환경 이자(보) 17,408,지역아동이자 (보) 13,696,기타시설지원이(보) 12,157,환경개선이자(보) 15,840,횡단보도관리이자(보) 18,652,금비기타예금이자수입(보조금) 8,346,금비기타예금이자수입(수입금) 5,143,지역공원이자(보) 14,296,푸른바다 가타예금이자수입(보조금) 11,599,소방안전사업기타예금이자수입(보조금) 1,403,장애인시설이자(보) 1,986,안전생활기타예금이자수입(보조금) 30,463,마을지킴이이자(보) 9,003,학교교통이자수입(보) 16,389,교통안전이자 (보) 13,701,공익증이자(보) 1,837,치안지킴이이자수입 (보) 6,531,마을탐방이자수입 (보) 7,302,마을지기이자수입 (보) 4,346,우제국이자(보) 2,940,위기가구관리사업기타예금이자수입(보조금) 10,000,마을건강파트너사업기타예금이자수입(보조금) 10,000,ESG사업기타예금이자수입(보조금) 10,000
A17: 13 | E17: 기타잡수입 | F17: 19347950 | G17: 24330753 | H17: =G17-F17 -> 4982803 | I17: 기관(자)잡수입 실습비 등 3,967,389,기관운영(수)지킴이 잡수입 1,849,290,방아깨비잡수입 2,500,000 어울림잡수입 138,474,주차장잡수입 4,000,000,2024년 요리조리 고용 및 산재 환급금 190,950,1년 미만 퇴직자 퇴직금 159,640,담당자잡수입 2,000,000,카페잡수입 542,000,사회보험환급금 8,983,010
C18: 합계 | F18: =SUM(F5:F17) -> 13489843000 | G18: =SUM(G5:G17) -> 13394881000 | H18: =SUM(H5:H17) -> -94962000

Sheet 세출
A1: 부산영도시니어클럽 2025년 2차 추가경정예산서(세출내역서)
I2: (단위 : 원)
A3: 순번 | B3: 구분 | C3: 관 | D3: 항 | E3: 목 | F3: 예산액 | I3: 산출내역
F4: 당초 | G4: 추경 | H4: 증감액
A5: 1 | B5: 세출 | C5: 사무비 | D5: 인건비 | E5: 급여 | F5: 290363520 | G5: 285909200 | H5: =G5-F5 -> -4454320 | I5: 관장(24/25호봉9월) 5,222,100*8월+5,275,700*4월=62,879,600,과장(13/14호봉2월) 3,613,100*1월+3,699,100*9월+4,088,200*2월=45,081,400,선임복지사(13/14호봉9월) 3,286,200*8월+3,365,100*4월=39,750,000,복지사1(8/9호봉9월) 2,645,000*8월+2,739,600*4월=32,118,400,복지사2(7호봉2월)2,544,400*9월+1,477,400=24,377,000,복지사3(5/6호봉6월) 2,391,600*4월+2,452,800*7월=26,736,000,복지사4(5/6호봉12월) 2,391,600*8월+1,993,000*1월+291,600*2월=21,709,000,복지사5(5호봉) 2,391,600*1월=2,391,600,사무원(7/8호봉6월) 2,518,400*5월+2,610,600*7월=30,866,200
A6: 2 | E6: 제수당 | F6: 42948900 | G6: 51484610 | H6: =G6-F6 -> 8535710 | I6: 담당자시간외수당 301,020+326,090,담당자시간외수당 182,110,명절휴가비 26,853,180,가족수당 9,620,650 시간외수당 8,201,560,선도모델담당자수당 6,000,000
A7: 3 | E7: 퇴직금 및 퇴직적립금 | F7: 27750960 | G7: 29072650 | H7: =G7-F7 -> 1321690 | I7: 담당자시간외수당 퇴직적립금 25,090+27,180,선도모델수당 퇴직적립금 500,030,담당자시간외수당 퇴직적립금 15,180,퇴직금및퇴직적립 28,505,170
A8: 4 | E8: 사회보험부담금 | F8: 35359280 | G8: 33365590 | H8: =G8-F8 -> -1993690 | I8: 선도모델수당 사회보험료 391,900,건강보험 11,454,500 장기요양 1,483,020 국민연금 13,312,860 고용보험 4,371,520,산재보험 2,351,790
A9: 5 | E9: 기타후생경비 | F9: 11840000 | G9: 15840000 | H9: =G9-F9 -> 4000000 | I9: 직원복지포인트 120,000*7명,직원인센티브 15,000,000*1회
A10: 6 | C10: 사무비 | D10: 업무추진비 | E10: 기관운영비 | F10: 640000 | G10: 770000 | H10: =G10-F10 -> 130000 | I10: 기관(운영위원)명절선물 170,000*1회,유관기관 업무 100,000*6회
A11: 7 | E11: 회의비 | F11: 300000 | G11: 300000 | H11: =G11-F11 -> 0 | I11: 운영위원회의비 100,000*3회
A12: 8 | C12: 사무비 | D12: 운영비 | E12: 여비 | F12: 500000 | G12: 1000000 | H12: =G12-F12 -> 500000 | I12: 여비 200,000*5회
A13: 9 | E13: 수용비 및 수수료 | F13: 12119350 | G13: 15191000 | H13: =G13-F13 -> 3071650 | I13: 신문구독료 15,000*12월,정수기관리비 36,000*4회,복사기 임대료 330,000*12회,LH상가관리,임대비 72,000*12월,정품소프트웨어 2,200,000*1회,회계 감사.검증비 550,000*1회,홈페이지 유지보수 1,089,000*1회,전기안전진단비 64,680,직원표창꽃다발 230,000,기타소모품 구입 보5,152,949+자4,400+후500,000,LH114호임대보증금 97,000,퇴직수수료 154,971*1회
A14: 10 | E14: 공공요금 | F14: 3560000 | G14: 3480000 | H14: =G14-F14 -> -80000 | I14: 전화요금 150,000*12월,전기요금 110,000*12월,상하수도요금 60,000*6월
A15: 11 | E15: 제세공과금 | F15: 5740000 | G15: 5615710 | H15: =G15-F15 -> -124290 | I15: 직원상해보험 10,000*28명,어울림 찬조금 100,000*1회,부산시니어 협회비 200,000*12월,전국시니어 협회비 170,000*12월,화재, 영업배상보험 342,000*1회,레이차량보험및자동차세 453,71
A16: 12 | E16: 차량비 | F16: 1000000 | G16: 1000000 | H16: =G16-F16 -> 0 | I16: 차량수리비 등 200,000*5회
A17: 13 | E17: 기타운영비 | F17: 4924000 | G17: 4864000 | H17: =G17-F17 -> -60000 | I17: 직원워크숍 1,652,000,보수교육비 28,000*7명+28,000*19명,내.외부교육비 300,000*1회,신원보증보험가입 20,500*8명+20,000*22명,직원 해외연수비 400,000*2회,야근식대비 10,000*24명*2회,직원회식비 300,000*1회
A18: 14 | C18: 재산조성비 | D18: 시설비 | E18: 시설장비유지비 | F18: 1000000 | G18: 1000000 | H18: =G18-F18 -> 0 | I18: 시설장비유지비 1,000,000*1회
A19: 15 | C19: 사업비 | D19: 사업단사업비 | E19: 방아깨비사업비 | F19: 215802000 | G19: 266158422 | H19: =G19-F19 -> 50356422 | I19: 스타렉스 보험료 1,957,580* 1회,인건비 436,000*10명*12개월,스티커구입 1,000,000*3회,포장상자구입 1,000,000*4회,홍보 750,612*5회,고용/산재 보험료 125,000*12개월,교육참가비 150,000*1회,차량유류비 70,000*35회,사업진행비 2,005,763*12회,문화행사비 60,000*10명,세금(부가세포함) 4,425,515*4회,참깨구입 210,000*30포대*18회,들깨구입 143,818*20포대*8회,담당자처우개선비 750,000*2회,장비구입비, 1,182,000*2회,공공요금 636,805*12회,450,000*4회 = 1,800,000,480,000*8회 = 3,840,000,피복비 125,000*4회,총회/간담회/평가회 식대비 15000*10명*4회
A20: 16 | E20: 어울림사업비 | F20: 478800000 | G20: 473884000 | H20: =G20-F20 -> -4916000 | I20: 문화행사비 50,000*137명*1회,작업장 월세 540,000*12개월,교육비 4,500*137명*4회,인건비 236,502*137명*12개월,인테리어비 2,500,000*1회,우편발송비 2,100,000*12,차량렌트비 외 520,000*12,혜원사보비닐봉투구입 1,800,000*2,공공요금 외 300,000*12,소모품 외 500,000*8,출장비 108,320*1회 홍보비 1,000,000*1회,총회, 간담회, 평가회 17,000*137명*2회,개발원 교육 150,000*1회,가족수당외 823,680*1회,고용,산재보험료 620,000*12개월,전기료 및 인터넷요금 등 270,000*12개월,200,000*12개월 앞치마 14,000*137명,장비구입비 2,400,000*1회
A21: 17 | E21: 주차장관리사업비 | F21: 339225000 | G21: 307093712 | H21: =G21-F21 -> -32131288 | I21: 단말기요금 10,039*4대*12회,문화활동비 22,664*25명*2회,보험 7,348*25명*12회,유류비 58,000*5회,처우개선비 419,400*2회,세금 3,776,160*4회,교육비 4,182*25명*10회,피복비 11,280*25명*2회,기장수수료 200,000*12회,명절선물비 27,500*25명*2회,소모품구입비외 10,000,000*1회,수탁료 15,073,640*10회,회의비 14,000*20명*1회,인건비 383,533원*25명*12회,인센티브 100,000*25명*2회,보험료 116,000*5회
A22: 18 | E22: 요리조리사업비 | F22: 518627000 | G22: 450415127 | H22: =G22-F22 -> -68211873 | I22: 유류비 40,000*11회,부가세 4,659,625*4회, 자동차세 61,500*1회,출장비 50,000*2회,문화활동비 28,000원*75명*3회,참여자상해보험료16,800*90*1회,참여자사회보험료 500,000원*12개월,교육비 4,500원*75명*11회 피복비 22,000원*90명*1회,담당자 처우개선비 314,550*2회,차량보험료 820,000*1회,회의및간담회비 4,500원*80명*1회,인건비367,288원*90명*12개월 (12월 인센티브 200,000원*90 포함),교육참가비 150,000*1회 홍보비 1,000,000원*2회,수입인지세 20,000*8회,잠복결핵검사비 50,000*2회,기장수수료 70,000*12개월 차량 세차, 점검 및 수리비 210,500*1회 ,공인인증서 발급비 4,400*2회,명절 선물비 30,000*101명(참여자90+수요처11)*2회,법인세 조정수수료 40,000*1회,구인광고게재비 418,000*1회,문자발송서비스비 95,540*1회,노무자문료 150,000*4회, 15,000*4회,문구류 구입비 3,960*1회,안전용품구입비 993,700*1회,회계검증비 550,000*1회,가족수당 및 경력수당 150,000*6
A23: 19 | E23: 싱싱가게사업비 | F23: 218585000 | G23: 190063000 | H23: =G23-F23 -> -28522000 | I23: 기장수수료 90,000*12회,소모품(도시락용기외) 800,000*5회,공산품 1,309,330*12회,우편발송비 265,000*2회,차량렌트비 425,000*6회,포스기 대여료 19,500*12회,물품대금 4,500,000*12회,상하수도 요금 95,000*6회,홍보 500,000*3회,출장비 150,000*1회,총회/간담회/평가회 식대비 17,000*15명*2회,교육참가비 150,000*1회,재료구입비 3,022,500*10회,인건비 361,000*15명*12개월,문화활동비 60,000*15회*1회 월세 869,000*8개월,공공요금 410,000*12개월,고용/산재 보험료91,667*12개
A24: 20 | E24: 풀잎0℃카페사업비 | F24: 312838000 | G24: 284738000 | H24: =G24-F24 -> -28100000 | I24: 장비구입비 17,500,000*2회,,재료비 6,500,000*12회,공공요금 870,000*12회,총회/간담회/평가회 식대비 30,000*30명*1회,기장수수료 240,000*12회,포스기 100,000*12회,소모품구입 1,000,000*12회,차량유류비 40,000*23회,부가세 800,000*4회,명절선물비 25,000*30명*2회,기타 250,000*12회,인건비 381,416*27명*12개월,영업배상책임보험 및 생산물배상책임보험 외 450,000*1회,홍보비 1,000,000*3회,팀장수당 40,000*12개월,문화행사비 60,000*30명*1회,고용,산재보험료 300,000*12개월,명절수당 1,258,200×2회,명절퇴직금 104,850×2회,담당자보험부족분 62,900×1회
A25: 21 | E25: 금비사업비 | F25: 213794000 | G25: 212788857 | H25: =G25-F25 -> -1005143 | I25: 부가세 500,000*4회,출장비(교통+일비) 263,620*1회,현수막제작비 200,000*2회,홍보물품제작비 600,000*2회,교육참가비 150,000*1회,문화활동비 30,000*35명*1회,기장수수료 30,000*12회,보건증 3,000*5명*1회 잠복결핵 50,000*2명*1회,급여명세서 수수료 30,000*2회,문구류구입비 207,783*1회,광고게재비480,000*2회,청소용품구입비 200,000*4회,법인세조정수수료 272,154*1회,참여자 명절선물비 30,000*35명*2회,수요처 명절선물비 20,000*35명*2회,안전물품구입비 201,000*5회,마스크구입비 125,000*4회,인건비461,381*35명*12개월,유류비 40,000*6회,워크북제작비 132,000*1회,교육다과비 4,269*35명*5회,상해보험료 16,500*35명*1회,사회보험료 250,000*12개월,참여자 회의비18,000*35명*1회,처우개선비 419,400*2회
A26: 22 | E26: 공공시설봉사사업비 | F26: 471800000 | G26: 475170000 | H26: =G26-F26 -> 3370000 | I26: 인건비 290,000원*141명*11개월, 팀장비 40,000*8명*11회, 혹서기키트 8,500*160개*1회, 교육비 4,500x141명x1회, 사업평가회 12,500*141명*1회 청소용품 337,500*1회, 신규직원 사원증 16,500*1회, 사원증, 명함 104,500*1회, 안전용품(모기기피제)3,000*150개*1회, 청소용품 3,000*30개*1회, 기장수수료 250,000*1회, 문구류 구입비 273,220*1회, 출장비 155,300*1회, 출장비 108,320*1회, 사무용책상 923,500*1회, 문화활동비 45,000*140명*1회, 교육참가비 150,000*1회,전화요금 100,680*1회, 참여자상해보험료 16,500원*140명*1회, 명절수당 1,258,200원*4회, 가족수당 20,000*6회, 가족수당 40,000*2회, 경력수당 100,000*12회, 전담연차수당 100,680*1회
A27: 23 | E27: 맑은누리사업비 | F27: 269600000 | G27: 269600000 | H27: =G27-F27 -> 0 | I27: 참여자상해보험료 16,500*80명*1회,간담회 14,000*80명*1회,사업평가회 13,000*80명*1회,출장비 263,620*1회,문화활동비1,918,000*1회,전화요금 100,000*1회,유류보조완료 40,000*1회,컴퓨터구입1,206,700 지출완료,교육참가비150,000원,참여자교육비175,500원,참여자교육비189,000,활동용품구입비 5,000*80명*1회 문자수수료 100,000*1회,소득신고수수료 250,000*1회,문구료 등 758,180*1회,인건비 290,000*80명*11회 팀장비 40,000*4명*11회,명절수당 1,258,200*2회,명절퇴직금 104,850*2회,가족수당퇴직금 40,000*12월/12월,담당자보험부족분 62,900*1회,경력수당 100,000*3개월,가족수당 40,000*1개월
A28: 24 | E28: 학교환경관리사업비 | F28: 633560000 | G28: 630190000 | H28: =G28-F28 -> -3370000 | I28: 인건비 290,000원*11개월*187명, 팀장비 40,000*10명*10개월-1명, 혹서기키트 1,785,000*1회, 안전조끼 1,920,000*1회, 워크북제작 1,478,400*1, 리플릿 제작비 1,000,000*1회, 11월 사업평가회(1인18,000원)*187명, 소득취득신고수수료 1회 *250,000, 인건비 충당금액 430,000 , 사원증 구입비 16,500*1회, 물품구입비(장갑 외) 600,000*3회, 봉투구입비 74,000*5회, 모기기피제 612,000*1회, 물품구입 540,000*2회, 핫팩 구입비 5,000*187명, 문구류 1,064,090, 출장비 263,620*1회, 문화활동비 22,800 * 188명*1회, 교육참가비150,000*1회, 전화요금 96,670*1회, 상해보험료 16,800×185명×1회, 가족수당(정지윤) 7월~12월 40,000* 7회, 명절수당 1,258,200* 4명 *1회, 경력수당 100,000*1회, 유류비보조 40,000* 6회
A29: 25 | E29: 자원순환사업비 | F29: 674000000 | G29: 660520000 | H29: =G29-F29 -> -13480000 | I29: 인건비 290,000원*196명*11회, 팀장비 40,000*10명*11회, 참여자 조끼 구입 2,160,0000*1회, 참여자 혹서기 키트 구입 2,635,000*1회, 참여자 안전용품(넥쿨러) 구입 1,715,000*1회, 워크북 구입비 4,500*196명*1회, 현수막 50,000*2회, 사업평가회 15,000*196명*1회, 회계감사 검증비 1,290,000*1회, 소득신고 수수료 250,000*2회, 청소용품 구입비 200,000*1회, 모기기피제 615000*1회, 노인일자리 증진대회 2,000,000*1회, 문구류 구입비 231.840원, 출장비 100,373*3회, 수납장 구매 440,000*1개, 문화활동비 23,030*200명*1회, 교육참가비 150,000*1회, 전화요금 90,670*1회, 참여자상해보험료 16,500원*200명*1회, 명절수당 1,258,200*4회, 가족수당 650,000, 미사용연차수당 840,070*1회, 유류비 보조 40,000*5회
A30: 26 | E30: 횡단보도관리사업비 | F30: 674000000 | G30: 687480000 | H30: =G30-F30 -> 13480000 | I30: 인건비 290,000*11개월*204명, 팀장비 40,000*11회*8명, 조끼 구입비 3,078,000*1회, 혹서기 키트 구입비 1,955,000*1회, 모자 구입비 2,758,800*1회, 참여자 교육비 918,000*1회, 리플릿 제작비 1,000,000*1회, 팀장간담회다과비 400,500*1회, 사업평가회 18,000*1회*204명, 참여자 소득수수료 250,000*2회, 깃발 구입비 1,210,000*3회, 사원증 구입비 16,500*1회, 대소봉투 구입비 980,000*1회, 문구류 구입비 1,324,130*1회, 출장비 108,320*1회, 출장교통비 155,300*1회, 문화활동공연비 3,897,540*1회 , 문화활동식대비 784,000*1회, 교육참가비 150,000*1회, 전화요금 91,750*1회 , 참여자상해보험료 16,500*1회*200명 , 명절수당 1,258,200*2회 , 가족수당 40,000*6회, 경력수당 100,000*6개월, 퇴사자미사용연차수당 1,123,760*1회
A31: 27 | E31: 지역공원클린사업사업비 | F31: 586380000 | G31: 593120000 | H31: =G31-F31 -> 6740000 | I31: 인건비290,000*176명*11회, 참여자상해보험료 16,500*174명*1회, 활동조끼 16,100*176명*1회, 혹서기키트 9,280*176명*1회, 마스크 4,000*176명*1회, 현수막 구입비 50,000*2회, 사업평가회 15,000*176명*1회, 팀장비40,000*12명*11회, 핫팩3,000×174명×1회, 청소용품 299,000×3회, 문구류 534,430×1회, 참여자 소득신고 250,000×1회, 사원증 16,500*1회, 발대식 120,000*1회, 모기기피제 570,000*1회, 비품 1,500,000*1회, 문화활동비 22,780*174명*1회, 전화요금 85,520*1회, 출장비 263,620*1회, 유류비 보조 40,000*5회, 교육참가비 150,000*1회, 명절수당 1,258,200×4회, 명절퇴직금 104,850×2회, 가족수당 퇴직금 40,000×1개월, 담당자보험부족분 62,900×1회, 경력수당 100,000×12개월
... A52: 49 | E52: ESG사업비 | F52: 287776000 | G52: 296240000 | H52: =G52-F52 -> 8464000 | I52: 회의비 12,000*35*1회,간식비 3,600*35명*3회,팀장비 40,000*2명*9개월,전화요금 50,000*1회,요양보험료 3,670*35명*10회,산재보험료 7,360*35명*10회,재료비 862,700*1회,문구류 401,350*1회,홍보비 825,000*1회,연차수당 31,710*35명*7개월,고용보험료 5,800*35명*10회,배상책임보험 4,500*34명*1회,인건비 634,000원*35명*10개월,문화활동비 770,000*1회,주휴수당 126,840*35명*10개월,넥쿨러 8,500*33명*1회,비품구입비 1,500,000*1회,건강보험료 28,360*35명*10회
A53: 50 | C53: 사업비 | D53: 사업단지원사업비 | E53: 시장형지원사업비 | F53: 10000000 | G53: 17799230 | H53: =G53-F53 -> 7799230 | I53: 싱싱가게지원사업비 12,700,000*1회,카페지원사업비 99,230+5,000,000
A54: 51 | E54: 기타사업지원사업비 | F54: 18151000 | G54: 15501000 | H54: =G54-F54 -> -2650000 | I54: 기타사업지원사업비 자2,999,959+후1,501,041,선도모델지원사업비 11,000,000
A55: 52 | C55: 사업비 | D55: 일반사업비 | E55: 홍보사업비 | F55: 600000 | G55: 955500 | H55: =G55-F55 -> 355500 | I55: 홍보사업비 955,500*1회
A56: 53 | C56: 예비비 및 기타 | D56: 예비비 및 기타 | E56: 예비비 | F56: 266731516 | G56: 228036280 | H56: =G56-F56 -> -38695236 | I56: 기관(인센)차년도이월 97,기관(보)차년도이월금(보-시간외) 562,440,보조금이자 15,800,기관(자)차년도이월 301,260,방아깨비차년도이월금(보-이자)3,790,방아깨비차년도이월금 22,859,578,어울림차년도이월금(보-이자) 15,641,어울림차년도이월금(수) 33,644,000,주차장차년도이월금(보-이자) 3,413,주차장차년도이월금(수) 30,197,288,요리조리차년도이월금(보조금-기타예금이자) 6,498,요리조리차년도이월금(참여자보험금환급금) 190,950,요리조리차년도이월금(수입금) 38,671,244,요리조리차년도이월금(보조금) 2,670,000*7명,보육교사차년도이월금 (보-이자) 18,560,1년 미만 퇴직자 퇴직금 159,640,담당자차년도이월금(이자) 13,097,담당자차년도이월금(잡) 2,000,000,지킴이차년도이월금(수) 21,364,850,공공시설차년도이월금 (보-이자) 16,051,싱싱가게차년도이월금(보조금-기타예금이자) 2,677,싱싱가게차년도이월금(수입금) 5,000,000,차년도이월금(보조금-기타예금이자) 1,000,맑은누리차년도이월금(보-이자) 6,231,카페차년도이월금(보-이자) 2,415,풀잎0℃카페차년도이월금(수입금) 33,812,000,학교환경 차년도이월금(보-이자) 17,408,지역아동차년도이월금 (보-이자) 13,696,기타시설차년도이월금(보조금-기타예금이자) 12,157 담당자보험부족분 244,000*1회,환경개선차년도이월금(보-이자) 15,840,횡단보도차년도이월금(보-이자) 18,652,금비차년도이월금(보-이자) 8,346,금비차년도이월금(수입금) 10,522,143,지역공원차년도이월금(보-이자) 14,296,푸른바다 차년도이월금(보조금-기타예금이자) 11,599,소방안전차년도이월금 (보-이자) 1,403,장애인시설차년도이월금 (보-이자) 1,986,사회보험부족분 252,680원,안전생활이자(보) 30,463 사회보험환급금 8,983,010,마을지킴이 차년도이월금 (보-이자) 9,003,학교교통차년도이월금 (보-이자) 16,389,교통안전차년도이월금(보-이자) 13,701,공익증진차년도이월금 (보-이자) 1,837,치안지킴이 차년도이월금 (보-이자) 6,531,기타시설지원차년도이월금 (보조금-기타예금이자) 7,302,마을지기차년도이월금(보-이자) 4,346,우체국차년도이월 2,940,위기가구관리사업기타예금이자수입(보조금) 10,000,마을건강파트너사업기타예금이자수입(보조금) 10,000,사회보험 부족분 238,110 *1회,차년도이월 이자 10,000
A57: 54 | E57: 반환금 | F57: 94400754 | G57: 94400752 | H57: =G57-F57 -> -2 | I57: 기관(보) 61,910 기관(보)이자 11,800 복지포인트 16,680 시간외 648,850,기관(인센)반환금 4,방아깨비반환금(보-이자)210,어울림반환금(보-이자) 6,702,어울림반환금(보) 39,165,657,주차장반환금(보-이자) 1,087,요리조리반환금(보조금) 18,690,000,요리조리반환금(보조금-기타예금이자) 5,702,요리조리반환금(자부담) 191,850,보육교사반환금 (보-이자) 11,440,담당자반환금(보) 27,346,060,담당자반환금(보-이자) 13,097,담당자반환금(잡수입) 1,357,824,공공시설반환금(보-이자) 13,949,싱싱가게비반환금(보조금-기타예금이자) 323,보금자리반환금(이자) 932,보금자리반환금(보조금) 156,070,맑은누리반환금(보-이자) 6,769,카페반환금(보-이자) 585,학교환경 반환금 (보-이자) 12,592,지역아동반환금 (보-이자) 11,304 기타시설지원반환금 (보조금-기타예금이자) 7,843,환경개선반환금(보-이자)15,160,횡단보도관리반환금(보-이자) 16,348,금비반환금(보-이자) 2,654,지역공원반환금(보-이자) 15,704,푸른바다반환금(보조금-예금이자) 8,401,소방안전사업반환금 (보-이자) 1,597,장애인시설반환금 (보-이자) 2,014,안전생활전년도이월금(보-이자) 23,037,안전생활전년도이월금(자부담-기타잡수입) 6,513,490,마음지킴이자(보) 10,997 학교교통반환금 (보-이자) 13,611,교통안전반환금(보-이자) 14,299,공익증진반환금 (보-이자) 2,163,치안지킴이반환금(보-이자) 6,469,기타시서지원반환금 (보-이자) 3,698,서포터즈반환금 3,782,보행정보반환금 2,361,마을지기반환금 (보-이자) 3,654,우체국반환금(보-이자) 2,060
A58: 합계 | F58: =SUM(F5:F57) -> 13489843000 | G58: =SUM(G5:G57) -> 13394881000 | H58: =G58-F58 -> -94962000

Sheet 임직원보수일람표
A1: 부산영도시니어클럽 2025년 임․직원보수일람표
K2: ( 단위 : 원)
A3: 순위 | B3: 직종 또는 직위(급) | C3: 성명 | D3: 본봉 | E3: 수당 | I3: 계 | J3: 공제액 | K3: 차감지급액
E4: 명절휴가비 | F4: 가족수당 | G4: 시간외 | H4: 선도모델수당
A5: 1 | B5: 관장 | C5: 김정현 | D5: 62879600 | E5: 6298680 | F5: 1950000 | G5: 0 | H5: 2750000 | I5: =SUM(D5:H5) -> 73878280 | J5: 7381870 | K5: =I5-J5 -> 66496410
A6: 2 | B6: 과장/부장 | C6: 예귀정 | D6: 45081400 | E6: 4387320 | F6: 3600000 | G6: 1648030 | H6: 1800000 | I6: =SUM(D6:H6) -> 56516750 | J6: 5029560 | K6: =I6-J6 -> 51487190
A7: 3 | B7: 선임사회복지사 | C7: 엄경준 | D7: 39750000 | E7: 3990780 | F7: 1740000 | G7: 1495690 | H7: 0 | I7: =SUM(D7:H7) -> 46976470 | J7: 4477620 | K7: =I7-J7 -> 42498850
A8: 4 | B8: 사회복지사 | C8: 이준희 | D8: 32118400 | E8: 3230760 | F8: 240000 | G8: 1210510 | H8: 0 | I8: =SUM(D8:H8) -> 36799670 | J8: 3769850 | K8: =I8-J8 -> 33029820
A9: 5 | B9: 사회복지사 | C9: 이미네 | D9: 26736000 | E9: 1471680 | F9: 220000 | G9: 1083310 | H9: 0 | I9: =SUM(D9:H9) -> 29510990 | J9: 2757080 | K9: =I9-J9 -> 26753910
A10: 6 | B10: 사회복지사 | C10: 권수정 | D10: 21709000 | E10: 2869920 | F10: 0 | G10: 566430 | H10: 850000 | I10: =SUM(D10:H10) -> 25995350 | J10: 2867540 | K10: =I10-J10 -> 23127810
A11: 7 | B11: 사회복지사 | C11: 김선교 | D11: 24377000 | E11: 1526640 | F11: 850650 | G11: 958720 | H11: 0 | I11: =SUM(D11:H11) -> 27713010 | J11: 2759080 | K11: =I11-J11 -> 24953930
A12: 8 | B12: 사무원 | C12: 권수란 | D12: 30866200 | E12: 3077400 | F12: 1020000 | G12: 1153040 | H12: 0 | I12: =SUM(D12:H12) -> 36116640 | J12: 3668010 | K12: =I12-J12 -> 32448630
A13: 9 | B13: 신규(대체인력) | C13: - | D13: 2391600 | G13: 85830 | H13: 0 | I13: =SUM(D13:H13) -> 2477430 | J13: 263080 | K13: =I13-J13 -> 2214350
C14: - | D14: 이 | E14: 하 | G14: 여 | I14: 백 | J14: -
