Workbook

Sheet 예산총칙
A3: 예 산 총 칙
B5: 제1조 사회복지법인 혜원 부산영도시니어클럽의 2022년 예산안 세입 · 세출 예산
B6: 각 \9,409,298,000원(팔십이억구천삼십일만칠천원)으로 한다.
B8: 제2조 1. 세입세출의 명세는 세입 · 세출 예산서와 같다.
B9: 2. 세입의 주요재원은 다음과 같다.
C11: 사업수입 | D11: 1319920000
C12: 보조금수입 | D12: 7776460000
C13: 후원금 | D13: 0
C14: =[1]총괄표!A30 -> 전입금 | D14: =총괄표!F15 -> 5000000
C15: 이월금 | D15: 301831720
C16: 잡수입 | D16: 6086280
C17: 계 | D17: =SUM(D11:E16) -> 9409298000
B19: 3. 세출의 내용은 다음과 같다.
C21: =[1]총괄표!G6 -> 사무비 | D21: =SUM(총괄표!L7:L19) -> 336685513
C22: =[1]총괄표!G27 -> 재산조성비 | D22: 0
C23: =[1]총괄표!G31 -> 사업비 | D23: =SUM(총괄표!L21:L64) -> 8790462844
C24: 잡지출 | D24: 0
C25: 예비비 및 기타 | D25: =SUM(총괄표!L66:L67) -> 282149643
C26: 계 | D26: =SUM(D21:E25) -> 9409298000
B28: 제3조 예산비용이 긴박한 경우 시설의 장이 우선 집행하고 이사회의 결의를 얻도록 한다.
B29: 제4조 예비비는 예산의 3% 이내로 한다.

Sheet 예산변경사유서
A2: 부산영도시니어클럽
A3: 2022년 예산(안)
A5: 부산영도시니어클럽에서는 2021년도 전년도 예산을 8,292,177,000원에서 9,409,298,000원 증가한 1,117,121,000원으로 편성하고자 하며 편성 사유는 아래와 같다.,
A6: -아 래-
A7: 1. 총 평
A8: 2022년 부산영도시니어클럽 예산은 세입의 경우 사업량 증가 및 시장형사업 확대로 보조금과 사업수입이 증가하여 전반적인 수입이 증가였고, 세출의 경우 사업량 증가로 참여자 활동비 지출 등 사업비 지출이 증가하였음
A9: 2. 항목별 편성사유
A10: 세 입 | C10: 세 출
A11: 예산항목 | B11: 편성사유 | C11: 예산항목 | D11: 편성사유
A12: 사업단수입 | B12: 1,118,731,451원에서 1,319,920,000원으로 201,188,549원 증가 ○ 시장형 사업 확대에 따라 사업단 매출 증가 | C12: 사무비 | D12: 328,363,490원에서 336,685,513으로 8,322,023원 증가 ○ 기관운영비 인상으로 사무비 지출 증가
A13: 보조금수입 | B13: 6,765,829,000원에서 7,776,460,000원으로 1,010,631,000원 증가 ○ 사업량 확대 및 노인일자리사업 예산 증가로 보조금 수입 증가ㅣ | C13: 재산조성비 | D13: 해당없음
A14: 후원금 | B14: ○ HF후원사업 미확정으로 후원금 해당없음 | C14: 사업비 | D14: 7,459,304,313원에서 8,790,462,844으로 1,331,158,531원으로 증가 ○ 사업량 확대 및 노인일자리사업 확대에 따라 참여자 활동비 등 사업비 지출 증가
A15: 전입금 | B15: 5,000,000원에서 5,000,000원으로 동일 | C15: 잡지출 | D15: 해당없음
A16: =[2]총괄표!A32 -> 이월금 | B16: 357,205,946원에서 301,831,720원으로 55,374,226원 감소 ○ 반납 보조금 감소로 이월금 감소 | C16: 예비비 및 기타 | D16: 504,509,197원에서 282,149,643원으로 222,359,554원 감소 ○ 위드코로나로 인하여 사업의 원만한 추진으로 반납액 등 감소
A17: =[2]총괄표!A35 -> 잡수입 | B17: 14,910,603원에서 6,086,280원으로 8,824,323원 감소 ○ 시장형사업단 재난지원금 감소로 인하여 잡수입 감소

Sheet 총괄표
A1: 부산영도시니어클럽 2022년 예산서
L2: (단위 : 원)
A4: 순번 | B4: 세입 | H4: 세출
B5: 관 | C5: 항 | D5: 목 | E5: 예산액 | H5: 관 | I5: 항 | J5: 목 | K5: 예산액
E6: 2021년도 | F6: 2022년도 | G6: 증감액 | K6: 2021년도 | L6: 2022년도 | M6: 증감액
A7: 1 | B7: 사업수입 | C7: 사업수입 | D7: 사업수입 | E7: =세입!G5 -> 1118731451 | F7: =세입!H5 -> 1319920000 | G7: =F7-E7 -> 201188549 | H7: 사무비 | I7: 인건비 | J7: 급여 | K7: =세출!F5 -> 224665900 | L7: =세출!G5 -> 235245100 | M7: =L7-K7 -> 10579200
A8: 2 | B8: 보조금수입 | C8: 보조금수입 | D8: 국고보조금 | E8: =세입!G6 -> 3127499500 | F8: =세입!H6 -> 3615392000 | G8: =F8-E8 -> 487892500 | H8: 사무비 | I8: 인건비 | J8: 제수당 | K8: =세출!F6 -> 28393380 | L8: =세출!G6 -> 31556700 | M8: =L8-K8 -> 3163320
A9: 3 | D9: 시도보조금 | E9: =세입!G7 -> 3557272500 | F9: =세입!H7 -> 4080411000 | G9: =F9-E9 -> 523138500 | J9: 퇴직금 및 퇴직적립금 | K9: =세출!F7 -> 24691640 | L9: =세출!G7 -> 23175750 | M9: =L9-K9 -> -1515890
A10: 4 | D10: 시군구보조금 | E10: =세입!G8 -> 81057000 | F10: =세입!H8 -> 80657000 | G10: =F10-E10 -> -400000 | J10: 사회보험부담금 | K10: =세출!F8 -> 24839520 | L10: =세출!G8 -> 27974410 | M10: =L10-K10 -> 3134890
A11: 5 | D11: 기타보조금 | E11: =세입!G9 -> 0 | F11: =세입!H9 -> 0 | G11: =F11-E11 -> 0 | H11: 사무비 | I11: 인건비 | J11: 기타후생경비 | K11: =세출!F9 -> 6248140 | L11: =세출!G9 -> 940000 | M11: =L11-K11 -> -5308140
A12: 6 | B12: 후원금수입 | C12: 후원금수입 | D12: 지정후원금 | E12: =세입!G10 -> 30000000 | F12: =세입!H10 -> 0 | G12: =F12-E12 -> -30000000 | H12: 사무비 | I12: 업무추진비 | J12: 기관운영비 | K12: =세출!F10 -> 160000 | L12: =세출!G10 -> 1700000 | M12: =L12-K12 -> 1540000
A13: 7 | D13: 비지정후원금 | E13: =세입!G11 -> 500000 | F13: =세입!H11 -> 0 | G13: =F13-E13 -> -500000 | H13: 사무비 | I13: 업무추진비 | J13: 회의비 | K13: =세출!F11 -> 268100 | L13: =세출!G11 -> 300000 | M13: =L13-K13 -> 31900
A14: 8 | B14: 전입금 | C14: 전입금 | D14: 법인전입금 | E14: =세입!G12 -> 0 | F14: =세입!H12 -> 0 | G14: =F14-E14 -> 0 | I14: 운영비 | J14: 여비 | K14: =세출!F12 -> 170000 | L14: =세출!G12 -> 900000 | M14: =L14-K14 -> 730000
A15: 9 | D15: 법인전입금(후원금) | E15: =세입!G13 -> 5000000 | F15: =세입!H13 -> 5000000 | G15: =F15-E15 -> 0 | H15: 사무비 | I15: 운영비 | J15: 수용비 및 수수료 | K15: =세출!F13 -> 10103334 | L15: =세출!G13 -> 3743553 | M15: =L15-K15 -> -6359781
A16: 10 | B16: 이월금 | C16: 이월금 | D16: 전년도이월금 | E16: =세입!G14 -> 351640739 | F16: =세입!H14 -> 298498170 | G16: =F16-E16 -> -53142569 | J16: 공공요금 | K16: =세출!F14 -> 3355186 | L16: =세출!G14 -> 5040000 | M16: =L16-K16 -> 1684814
A17: 11 | D17: 전년도이월금(후원금) | E17: =세입!G15 -> 5565207 | F17: =세입!H15 -> 3333550 | G17: =F17-E17 -> -2231657 | J17: 제세공과금 | K17: =세출!F15 -> 4199610 | L17: =세출!G15 -> 4620000 | M17: =L17-K17 -> 420390
A18: 12 | B18: 잡수입 | C18: 잡수입 | D18: 불용품매각대 | E18: =세입!G16 -> 10500 | F18: =세입!H16 -> 0 | G18: =F18-E18 -> -10500 | H18: 사무비 | I18: 운영비 | J18: 차량비 | K18: =세출!F16 -> 438180 | L18: =세출!G16 -> 950000 | M18: =L18-K18 -> 511820
A19: 13 | D19: 기타예금이자수입 | E19: =세입!G17 -> 303776 | F19: =세입!H17 -> 402710 | G19: =F19-E19 -> 98934 | J19: 기타운영비 | K19: =세출!F17 -> 830500 | L19: =세출!G17 -> 540000 | M19: =L19-K19 -> -290500
A20: 14 | D20: 기타잡수입 | E20: =세입!G18 -> 14596327 | F20: =세입!H18 -> 5683570 | G20: =F20-E20 -> -8912757 | H20: 재산조성비 | I20: 시설비 | J20: 자산취득비 | K20: =세출!F19 -> 0 | L20: =세출!G19 -> 0 | M20: =L20-K20 -> 0
A21: 15 | E21: 0 | F21: 0 | G21: =F21-E21 -> 0 | H21: 사업비 | I21: 사업단 사업비 | J21: 영도할매방아깨비사업단사업비 | K21: =세출!F21 -> 207560130 | L21: =세출!G21 -> 212450000 | M21: =L21-K21 -> 4889870
A22: 16 | E22: 0 | F22: 0 | G22: =F22-E22 -> 0 | J22: 영도할매어울림사업단사업비 | K22: =세출!F22 -> 439472020 | L22: =세출!G22 -> 472708000 | M22: =L22-K22 -> 33235980
A23: 17 | E23: 0 | F23: 0 | G23: =F23-E23 -> 0 | J23: 영도할매주차장관리사업단사업비 | K23: =세출!F23 -> 307686480 | L23: =세출!G23 -> 330080466 | M23: =L23-K23 -> 22393986
A24: 18 | E24: 0 | F24: 0 | G24: =F24-E24 -> 0 | J24: 영도할매요리조리사업단사업비 | K24: =세출!F24 -> 77825250 | L24: =세출!G24 -> 94652769 | M24: =L24-K24 -> 16827519
A25: 19 | E25: 0 | F25: 0 | G25: =F25-E25 -> 0 | J25: 영도할매재활용사업단사업비 | K25: =세출!F25 -> 3077236 | L25: =세출!G25 -> 0 | M25: =L25-K25 -> -3077236
A26: 20 | E26: 0 | F26: 0 | G26: =F26-E26 -> 0 | J26: 영도할매급식도우미사업단사업비 | K26: =세출!F26 -> 303400718 | L26: =세출!G26 -> 348800000 | M26: =L26-K26 -> 45399282
A27: 21 | E27: 0 | F27: 0 | G27: =F27-E27 -> 0 | J27: 영도할매보육교사도우미사업단사업비 | K27: =세출!F27 -> 113400000 | L27: =세출!G27 -> 309270000 | M27: =L27-K27 -> 195870000
A28: 22 | E28: 0 | F28: 0 | G28: =F28-E28 -> 0 | J28: 노인일자리담당자사업비 | K28: =세출!F28 -> 301309332 | L28: =세출!G28 -> 307944000 | M28: =L28-K28 -> 6634668
A29: 23 | E29: 0 | F29: 0 | G29: =F29-E29 -> 0 | J29: 영도할매지킴이사업단사업비 | K29: =세출!F29 -> 81998400 | L29: =세출!G29 -> 170370000 | M29: =L29-K29 -> 88371600
A30: 24 | E30: 0 | F30: 0 | G30: =F30-E30 -> 0 | J30: 영도할매공공시설봉사사업단사업비 | K30: =세출!F30 -> 390600000 | L30: =세출!G30 -> 378000000 | M30: =L30-K30 -> -12600000
A31: 25 | E31: 0 | F31: 0 | G31: =F31-E31 -> 0 | J31: 영도할매싱싱가게사업단사업비 | K31: =세출!F31 -> 161751000 | L31: =세출!G31 -> 188446000 | M31: =L31-K31 -> 26695000
A32: 26 | E32: 0 | F32: 0 | G32: =F32-E32 -> 0 | J32: 영도할매실버보금자리사업단사업비 | K32: =세출!F32 -> 30000000 | L32: =세출!G32 -> 30000000 | M32: =L32-K32 -> 0
A33: 27 | E33: 0 | F33: 0 | G33: =F33-E33 -> 0 | J33: 영도할매스쿨존사업단사업비 | K33: =세출!F33 -> 643907 | L33: =세출!G33 -> 0 | M33: =L33-K33 -> -643907
... A42: 36 | E42: 0 | F42: 0 | G42: =F42-E42 -> 0 | J42: 영도할매금비사업단사업비 | K42: =세출!F42 -> 112113300 | L42: =세출!G42 -> 94652769 | M42: =L42-K42 -> -17460531
A43: 37 | E43: 0 | F43: 0 | G43: =F43-E43 -> 0 | J43: 영도할매지역공원클린사업단사업비 | K43: 472500000 | L43: 472500000 | M43: =L43-K43 -> 0
A44: 38 | E44: 0 | F44: 0 | G44: =F44-E44 -> 0 | J44: 영도할매푸른바다사업단사업비 | K44: =세출!F44 -> 359100000 | L44: =세출!G44 -> 346500000 | M44: =L44-K44 -> -12600000
A45: 39 | E45: 0 | F45: 0 | G45: =F45-E45 -> 0 | J45: 영도할매소방안전사업단사업비 | K45: =세출!F45 -> 47580000 | L45: =세출!G45 -> 47580000 | M45: =L45-K45 -> 0
A46: 40 | E46: 0 | F46: 0 | G46: =F46-E46 -> 0 | J46: 영도할매노인시설지원사업단사업비 | K46: =세출!F46 -> 679150 | L46: =세출!G46 -> 0 | M46: =L46-K46 -> -679150
A47: 41 | E47: 0 | F47: 0 | G47: =F47-E47 -> 0 | J47: 영도할매장애인시설지원사업단사업비 | K47: =세출!F47 -> 67295120 | L47: =세출!G47 -> 79300000 | M47: =L47-K47 -> 12004880
A48: 42 | E48: 0 | F48: 0 | G48: =F48-E48 -> 0 | J48: 영도할매청소년시설지원사업단사업비 | K48: =세출!F48 -> 79300000 | L48: =세출!G48 -> 79300000 | M48: =L48-K48 -> 0
A49: 43 | E49: 0 | F49: 0 | G49: =F49-E49 -> 0 | J49: 영도할매안전생활서비스사업단사업비 | K49: =세출!F49 -> 439435850 | L49: =세출!G49 -> 872300000 | M49: =L49-K49 -> 432864150
...

Sheet 세입
A1: 부산영도시니어클럽 2022년 예산서(세입내역서)
J2: (단위 : 원)
A3: 순번 | B3: 순번 | C3: 구분 | D3: 관 | E3: 항 | F3: 목 | G3: 예산액 | K3: 산출내역
G4: 전년도 | H4: 당해년도 | I4: 증감액 | J4: 증감비율
A5: 2 | B5: 1 | C5: 세입 | D5: 사업수입 | E5: 사업수입 | F5: 사업수입 | G5: 1118731451 | H5: 1319920000 | I5: 201188549 | J5: 17.98 | K5: 영도할매방아깨비사업단사업수입15,000,000*12개월 영도할매어울림사업단사업수입 26,318,333*12개월 영도할매주차장사업단사업수입 20,000,000*12개월 영도할매요리조리사업단사업수입,2,770,000원*12개월 / 1,500,000원*12개월 영도할매급식도우미사업단수입 110,000*80명*11월 영도할매지킴이사업 수입금 14,166,666*12개월 영도할매싱싱가게사업단사업수입12,500,000*12개월 영도할매풀잎0℃카페사업단사업수입3,500,000*12개월 영도할매금비사업단사업수입 5,630,000원*12개월 영도할매스쿨존안전지킴이사업단사업수입 110,000*50명*11월
A6: 3 | B6: 2 | D6: 보조금수입 | E6: 보조금수입 | F6: 국고보조금 | G6: 3127499500 | H6: 3615392000 | I6: 487892500 | J6: 15.6 | K6: 영도할매방아깨비사업단국고보조금 2,670,000*12명*50% 영도할매어울림사업단국고보조금 2,670,000*72명*50% 영도할매주차장관리사업단국고보조금 2,670,000*25명*50% 영도할매급식도우미사업단국고보조금 237,600,000*50% 영도할매보육교사도우미사업단국고보조금 309,270,000*50% 노인일자리담당자 국고보조금 1,877,000*12명*13월*50%=146,406,000원 영도할매공공시설봉사사업단국고보조금 378,000,000*50% 영도할매싱싱가게사업단국고보조금 2,670,000*15명*50% 맑은누리사업단국고보조금148,500,000*50%+9,000,000*50% 영도할매풀잎0℃카페사업단국고보조금 2,670,000*10명*50% 학교환경관리사업단국고보조금 415,800,000*50%+25,200,000*50% 영도할매지역아동센터봉사사업단국고보조금 369,900,000*50%+26,600,000*50% 영도할매기타시설지원사업단국고보조금 221,940,000*50%+15,960,000*50% 국고보조금 346,500,000×50% 영도할매횡단보도관리사업단국고보조금475,200,000*50%+28,800,000*50% 영도할매금비사업단국고보조금 2,670,000원*15명*50% 영도할매지역공원클린사업단국고보조금 445,500,000*50%+27,000,000*50% 영도할매푸른바다사업단국고보조금326,700,000*50%+19,800,000*50% 영도할매소방안전사업단국고보조금 47,580,000*50% 장애인시설지원사업단국고보조금 73,980,000*50%+5,320,000*50% 영도할매청소년시설지원사업단국고보조금 79,300,000*50% 영도할매시니어안심생활방역단국고보조금 428,220,000×50% 마을지킴이사업단국고보조금 237,900,000×50% 영도할매시니어컨설턴트사업단 국고보조금 7,930,000*10명*50%=39,650,000 영도할매스쿨존안전지킴이사업단국고보조금 3,150,000*50명*50% 영도할매경로당환경
A7: 4 | B7: 3 | F7: 시도보조금 | G7: 3557272500 | H7: 4080411000 | I7: 523138500 | J7: 14.71 | K7: 기관운영보조금(시도) 247,584,000 복지포인트 100,000 ×7명 = 700,000 시간외수당 19,000 ×2시간 ×6명 ×12개월 =2,736,000 영도할매방아깨비사업단시도보조금 2,670,000*12명*50% 영도할매어울림사업단시도보조금 2,670,000*72명*50% 영도할매주차장관리사업단시도보조금 2,670,000*25명*50% 영도할매급식도우미사업단시도보조금 237,600,000*50% 영도할매보육교사도우미사업단시도보조금 309,270,000*50% 노인일자리담당자 시도보조금 1,877,000*12명*13월*50%=146,406,000원 영도할매공공시설봉사사업단시도보조금 378,000,000*50% 영도할매싱싱가게사업단시도보조금 2,670,000*15명*50% 영도할매맑은누리사업단시도보조금 297,000,000×50%+18,000,000×50% 영도할매옛이야기사업단시도보조금 55,578,000원 영도할매풀잎0℃카페사업단시도보조금 2,670,000*10명*50% 학교환경관리사업단시도보조금 415,800,000*50%+25,200,000*50% 영도할매지역아동센터봉사사업단시도보조금 369,900,000*50%+26,600,000*50% 영도할매기타시설지원사업단시도보조금 221,940,000*50%+15,960,000*50% 시도보조금 346,500,000×50% 영도할매횡단보도관리사업단시도보조금475,200,000*50%+28,800,000*50% 영도할매금비사업단시도보조금 2,670,000원*15명*50% 영도할매지역공원클린사업단시도보조금 445,500,000*50%+27,000,000*50% 영도할매푸른바다사업단시도보조금326,700,000*50%+19,800,000*50% 영도할매소방안전사업단시도보조금 47,580,000*50% 장애인시설지원사업단시도보조금 73,980,000*50%+5,320,000*50% 영도할매청소년시설지원사업단시도보조금 79,300,000*50% 영도할매시니어안심생활방역단시도보조금 428,220,000×50% 마
B8: 4 | F8: 시군구보조금 | G8: 81057000 | H8: 80657000 | I8: -400000 | J8: -0.49 | K8: 기관운영보조금(시군구) 49,016,000+49,016,000*2.3% 보금자리사업단구군보조금 30,000,000×1회
A9: 5 | B9: 5 | F9: 기타보조금 | G9: 0 | H9: 0 | I9: 0 | J9: 0
B10: 6 | D10: 후원금수입 | E10: 후원금수입 | F10: 지정후원금 | G10: 30000000 | H10: 0 | I10: -30000000 | J10: -100
A11: 7 | B11: 7 | F11: 비지정후원금 | G11: 500000 | H11: 0 | I11: -500000 | J11: -100
A12: 8 | B12: 8 | D12: 전입금 | E12: 전입금 | F12: 법인전입금 | G12: 0 | H12: 0 | I12: 0 | J12: 0
A13: 9 | B13: 9 | F13: 법인전입금(후원금) | G13: 5000000 | H13: 5000000 | I13: 0 | J13: 0
A14: 10 | B14: 10 | D14: 이월금 | E14: 이월금 | F14: 전년도이월금 | G14: 351640739 | H14: 298498170 | I14: -53142749 | J14: -15.11 | K14: 기관운영 전년도이월금(보조금) 복지포인트83,300 기관운영 전년도이월금(보조금) 시간외수당 1,027,940 기관운영 전년도이월금(보조금) 퇴사자 상해 보험 34,210 기관운영 전년도이월금(보조금) 예금이자 6,370 +1 기관운영 전년도이월금(자부담) 4,003,888 기관운영 전년도이월금(자부담) 4,390 기관운영 전년도이월금(자부담) 10,500 방아깨비전년도이월금(보조금-기타예금이자) 1,840 방아깨비전년도이월금(수입금) 19,465,652 방아깨비전년도이월금(수입금-기타예금이자) 6,218 어울림전년도이월금(보조금) 24,000,000 어울림전년도이월금(보조금-기타예금이자) 11,141 어울림전년도이월금(수입금) 110,503,902 어울림전년도이월금(수입금-기타예금이자) 9,078 주차장전년도이월금(보조금-기타예금이자) 1,889 주차장전년도이월금(수입금)22,830,466 주차장전년도이월금(수입금-기타예금이자) 4360 요리조리전년도이월금(보조금) 9,800,000 요리조리전년도이월금(보조금-기타예금이자) 2,434 요리조리전년도이월금(수입금) 10,837,371 요리조리전년도이월금(수입금-기타예금이자) 1,379 급식도우미차년도이월금(보조금-기타예금이자) 6,304 급식도우미수입금이월금 3,282 보육교사도우미전년도이월금(보조금-예금이자) 13,980 보조금 반환 6,634,668/이자 7,145 영도할매지킴이사업 전년도 이월금 5,059,600원 공공시설봉사전년도이월금(보조금-예금이자) 8,890 공공시설봉사전년도이월금(보조금-기타예금이자) 8,818 싱싱가게전년도이월금(보조금-기타예금이자) 1,682 싱싱가게전년도이월금(수입금) 5530000 싱싱가게전년도이월금(수입금-기타예금이자) 1,628 실버보금자리사업 전년도이월금(보조금-기타예금이자) 4,661+5,339 스쿨존 2020 보험기관정산 3,010 맑은누리사업전년도이월금(보조금) 9,689 옛이
A15: 11 | B15: 11 | F15: 전년도이월금(후원금) | G15: 5565207 | H15: 3333550 | I15: -2231657 | J15: -40.1 | K15: 법인전입금(후원금) 3,333,550
A16: 12 | B16: 12 | D16: 잡수입 | E16: 잡수입 | F16: 불용품매각대 | G16: 10500 | H16: 0 | I16: -10500 | J16: -100
B17: 13 | F17: 기타예금이자수입 | G17: 303776 | H17: 402710 | I17: 98934 | J17: 32.57 | K17: 기관운영(보-이자) 10,369 기관운영(자-이자) 5,692 방아깨비 기타예금이자수입(보조금) 2,160 방아깨비 기타예금이자수입(수입금) 5,121 어울림기타예금이자수입(보조금) 18,859 어울림기타예금이자수입(수입금) 22,020 주차장기타예금이자수입(보조금) 2,111 주차장 기타예금이자수입(수입금)3,534 요리조리기타예금이자수입(보조금) 4,000 급식도우미 예금이자 10,000 급식도우미 예금이자 수입금 5,000 보육교사도우미사업기타예금이자수입(보조금) 6,020 전담인력 예금이자 6,187 영도할매지킴이사업 기타예금이자수입 13,400원 공공시설봉사기타예금이자수입(보조금) 11,110 싱싱가게 기타예금이자수입(보조금)1,318 싱싱가게 기타예금이자수입(수입금) 4,000 실버보금자리사업기타예금이자수입(보조금) 5,339 법인전입금(후-이자) 4,360 맑은누리사업기타예금이자수입(보조금) 13,311 옛이야기기타예금이자수입(보조금) 3,910 풀잎0℃카페 기타예금이자수입(보조금)1,606 풀잎0℃카페 기타예금이자수입(수입금) 1,840 학교환경관리사업단 예금이자수입(보조금) 18,931 지역아동센터봉사기타예금이자수입(보조금) 15,967 기타시설지원기타예금이자수입(보조금) 18,092 환경개선봉사사업기타예금이자수입(보조금) 13,398 횡단보도관리사업기타예금이자수입(보조금)21,379 금비기타예금이자수입(수입금) 2,550 금비기타예금이자수입(보조금) 2,942 지역공원클린사업단 예금이자수입(보조금) 19,436 푸른바다사업기타예금이자수입(보조금) 10,000 소방안전기타예금이자수입(보조금) 5,440 영도할매장애인시설지원사업단기타예금이자수입(보조금-예금이자) 11,159 영도할매청소년시설지원사업단기타예금이자수입(보조금-예금이자) 11,159 생활방역기타예금이자수입(보조금) 2,000 마을지킴이사업기타예금이자수입(보조금) 12,407 학교교통지킴이사업단기타예금이자수입(보조금) 10,000 영도할매스쿨존안전지킴이사업단기타예금이자수입(보조금) 10
B18: 14 | F18: 기타잡수입 | G18: 14596327 | H18: 5683570 | I18: -8912577 | J18: -61.06 | K18: 방아깨비 기타잡수입 3,500,000 주차장잡수입 500,000 잡수입 1,383,800 영도할매지킴이사업 잡수입 200,000원 국세환급금 외 100,000
B19: 15 | C19: 합계 | G19: 8292177000 | H19: 9409298000 | I19: 1117121000 | J19: 13.47

Sheet 세출
A1: 부산영도시니어클럽 2022년 예산서(세출내역서)
J2: (단위 : 원)
A3: 순번 | B3: 구분 | C3: 관 | D3: 항 | E3: 목 | F3: 예산액 | J3: 산출내역
F4: 전년도 | G4: 당해년도 | H4: 증감액 | I4: 증감비율
A5: 1 | B5: 세출 | C5: 사무비 | D5: 인건비 | E5: 급여 | F5: 224665900 | G5: 235245100 | H5: 10579200 | I5: 4.71 | J5: 관장(21/22호봉 9월) 4,635,400*8월+4,692,800*4월=37,083,200+18,771,200=55,854,400 과장(11/12호봉 8월) 3,144,200*7월+3,237,300*5월=22,009,400+16,186,500=38,195,900 대리(15/16호봉 5월) 3,160,500*1월+3,227,400*8월=3,160,500+25,819,200=28,979,700 선임(9/10호봉 8월) 2,675,600*7월+2,769,400*5월=18,729,200+13,847,000=32,576,200 복지사(4/5호봉 4월) 2,051,200*3월+2,113,700*9월=6,153,600+19,023,300=25,176,900 복지사(2/3호봉 4월) 1,940,600*3월+1,991,500*9월=5,821,800+17,923,500=23,745,300 복지사(3/4호봉 5월) 1,991,500*4월+2,051,200*8월=7,966,000+16,409,600=24,375,600 복지사(5/6호봉호봉 6월) 2,113,700*3월=6,341,100"
A6: 2 | E6: 제수당 | F6: 28393380 | G6: 31556700 | H6: 3163320 | I6: 11.14 | J6: 가족수당 3,960,000 (120,000*12월)*2명+(40,000*12월)*2명+(40,000*3월)*1명 효도휴가비 25,021,740 (5,596,920+3,773,040+3,832,740+3,267,000+2,498,940+2,359,260+2,425,620+1,268,220) 시간외수당 2,574,960 (548,260+415,970+467,600+361,390+340,840+349,880+91,020)"
A7: 3 | E7: 퇴직금 및 퇴직적립금 | F7: 24691640 | G7: 23175750 | H7: -1515890 | I7: -6.14 | J7: 퇴직적립금 255,866,260/12 육아휴직자 퇴직적립금 846,720
A8: 4 | E8: 사회보험부담금 | F8: 24839520 | G8: 27974410 | H8: 3134890 | I8: 12.62 | J8: 건강보험 762,605*12=9,151,270 요양보험 87,849*12=1,054,190 국민연금 1,000,502*12=12,006,030 고용보험 277,915*12=3,334,980 산재보험 202,328*12=2,427,940
A9: 5 | E9: 기타후생경비 | F9: 6248140 | G9: 940000 | H9: -5308140 | I9: -84.96 | J9: 직원 복지포인트비 100,000*7명=700,000 직원 상해보험 240,000*1회=240,000(자)
A10: 6 | D10: 업무추진비 | E10: 기관운영비 | F10: 160000 | G10: 1700000 | H10: 1540000 | I10: 962.5 | J10: 유관기관 업무회의 850,000*2회=1,700,000(자)
A11: 7 | E11: 회의비 | F11: 268100 | G11: 300000 | H11: 31900 | I11: 11.9 | J11: 회의비 100,000*3회
A12: 8 | D12: 운영비 | E12: 여비 | F12: 170000 | G12: 900000 | H12: 730000 | I12: 429.41 | J12: 여비 300,000*3회=900,000
A13: 9 | E13: 수용비 및 수수료 | F13: 10103334 | G13: 3743553 | H13: -6359781 | I13: -62.95 | J13: 신문구독료 15,000*12월=180,000 정수기관리비 60,000*4회=240,000 칼라프린터 및 팩스기 임대료 198,000*4회=245,280 LH상가관리,임대비 50,000*12월=600,000 문구류구입 80,760 급여명세서 문자비 100,000*12월=1,200,000 은행서류발급수수료 50,000*1월=50,000(자) 칼라프린터 및 팩스기 임대표 546,720 퇴직수수료 등 600,793(후)
A14: 10 | E14: 공공요금 | F14: 3355186 | G14: 5040000 | H14: 1684814 | I14: 50.22 | J14: 전기요금 150,000*12월=1,800,000 상하수도요금 40,000*6월=240,000 전화요금 250,000*12월=3,000,000
A15: 11 | E15: 제세공과금 | F15: 4199610 | G15: 4620000 | H15: 420390 | I15: 10.01 | J15: 부산시니어 협회비 100,000*12월=1,200,000 전국시니어 협회비 170,000*12월=2,040,000 화재, 영업배상보험 250,000*1회=250,000 라보차량 보험 800,000*1회=800,000 라보 자동차세 30,000*1회=30,000 어울림한마당 분담금 300,000(후)
A16: 12 | E16: 차량비 | F16: 438180 | G16: 950000 | H16: 511820 | I16: 116.81 | J16: 차량유류비 30,000*5회 차량정비유지비 100,000*6회 차량소모품비 50,000*4회
A17: 13 | E17: 기타운영비 | F17: 830500 | G17: 540000 | H17: -290500 | I17: -34.98 | J17: 야근식대비 100,000*3회=300,000 기관(운영위원) 120,000*2회=240,000
A18: 14 | C18: 재산조성비 | D18: 시설비 | E18: 시설비 | F18: 0 | G18: 0 | H18: 0 | I18: 0
A19: 15 | E19: 자산취득비 | F19: 0 | G19: 0 | H19: 0 | I19: 0
A20: 16 | E20: 시설장비유지비 | F20: 0 | G20: 0 | H20: 0 | I20: 0
A21: 17 | C21: 사업비 | D21: 사업단 사업비 | E21: 영도할매방아깨비사업단 사업비 | F21: 207560130 | G21: 212450000 | H21: 4889870 | I21: 2.36 | J21: 인건비 420,000*12명*12개월 참깨구입 200,000*20포대*20회 들깨구입 160,000*10포대*8회 참깨구입 200,000*20포대*20회 들깨구입 160,000*10포대*8회 시설투자비 1,000,000*1회 장비구입 500,000*2회 교육비 36,000*5회 스티커구입 700,000*5회 포장상자구입 1,000,000*4회 홍보 100,000*5회 스티커구입 700,000*5회 포장상자구입 1,000,000*4회 홍보 100,000*5회 총회/간담회/평가회 식대비 15,000*12명*4회 고용/산재 보험료 120,000*12개월 자가품질검사비및생산물배상책임 175,000*12회 작업장월세450,000*12회 기장수수료 100,000*12회 기계점검 880,000*1회 차량(유류비,보험료 등)115,000*20회 공병,깨통, 소모품외 1,300,000*12회 문화행사비 50,000*12명 위생복외 300,000*1회 우편및택배발송 125,000*20회 부가세외 2,450,000*4회 자가품질검사비및생산물배상책임 175,000*12회 작업장월세450,000*12회 기장수수료 100,000*12회 기계점검 880,000*1회 차량(유류비,보험료 등)115,000*20회 공병,깨통, 소모품외 1,300,000*12회 문화행사비 50,000*12명 위생복외 300,000*1회 우편및택배발송 125,000*20회 부가세외 2,450,000*4회 출장비50,000*3회 공공요금 520,000*12회
A22: 18 | E22: 영도할매어울림사업단 사업비 | F22: 439472020 | G22: 472708000 | H22: 33235980 | I22: 7.56 | J22: 인건비 276,000원*72명*12개월 팀장비 30,000원*4명*12개월 원물구입 15,000,000원*12개월 원물구입 15,000,000원*12개월 시설투자비 1,000,000*1회 교육비 3,000원*72명*4회 홍보비 300,000원*2회 총회, 간담회, 평가회 15,000원*72명*3회 고용,산재보험료 400,000원*12개월 작업장 월세 550,000*12개월 6,600,000 작업장 수도,전기료,정수기 70,000*12개월 840,000 차량비(주유, 주차, 수리 등) 70,000*10회 700,000 명절선물비 20,000*120명*2회 4,800,000 기장수수료 70,000*12개월 840,000 차량렌트비 409,000*12개월 4,908,000 기타(물품비,부가세 및 법인조정수수료등) 15112000 작업장 월세 550,000*12개월 6,600,000 작업장 수도,전기료,정수기 70,000*12개월 840,000 차량비(주유, 주차, 수리 등) 70,000*10회 700,000 명절선물비 20,000*120명*2회 4,800,000 기장수수료 70,000*12개월 840,000 차량렌트비 409,000*12개월 4,908,000 기타(물품비,부가세 및 법인조정수수료등) 15112000 출장비 50,000원*2회 노인일자리담당자 사회보험료 200,000원*6개월 문화행사비 50,000원*120명*1회
A23: 19 | E23: 영도할매주차장관리사업단 사업비 | F23: 307686480 | G23: 330080466 | H23: 22393986 | I23: 7.28 | J23: 인건비 450,000*25명*12개월 교육비 3,000*25명*3회 홍보비 100,000*1회 총회/간담회/평가회 식대비 15,000*25명*4회 고용/산재 보험료 165,000*12개월 명절선물비 20,000*25명*2회 소모품구입비 5,000,000*1회 차량 유류비 40,000*12회 기장수수료 400,000*12회 부가세 6,000,000*1회 전기세 250,000*12회 문화행사비 50,000*25명*1회 문구류구입비외 500,000*1회 주차장수탁료 83,300,000*2회 명절선물비 20,000*25명*2회 소모품구입비 5,000,000*1회 차량 유류비 40,000*12회 기장수수료 400,000*12회 부가세 6,000,000*1회 전기세 250,000*12회 문화행사비 50,000*25명*1회 문구류구입비외 500,000*1회 주차장수탁료 83,300,000*2회 노인일자리담당자 사회보험료 190,000*9회 출장비 50,000*3회 피복비 50,000*25명*1회 노인일자리 담당자 71,846*3
A24: 20 | E24: 영도할매요리조리사업단 사업비 | F24: 77825250 | G24: 94652769 | H24: 16827519 | I24: 21.62 | J24: 청소용품 구입 200,000원*2회 차량비(주유, 주차, 수리 등) 40,000원*8회 명절선물비 20,000원*30명*2회 기장수수료 50,000원*12개월 부가가치세 및 법인조정세 150,000 필요물품 구입비 680,000 청소용품 구입 200,000원*2회 차량비(주유, 주차, 수리 등) 40,000원*8회 명절선물비 20,000원*30명*2회 기장수수료 50,000원*12개월 부가가치세 및 법인조정세 150,000 필요물품 구입비 680,000 문화행사비 50,000원*15명*1회
A25: 21 | E25: 영도할매재활용사업단 사업비 | F25: 3077236 | G25: 0 | H25: -3077236 | I25: -100
A26: 22 | E26: 영도할매급식도우미사업단 사업비 | F26: 303400718 | G26: 348800000 | H26: 45399282 | I26: 14.96 | J26: 인건비 270,000×80명×11개월 인건비 270,000×80명×11개월 피복비 12,000×80명×1회 교육비 3,000×80명×4회 홍보 200,000*1회 참여자소득수수료 250,000×1회 전화요금 75,000×1회 보건증발급비 3,000×80명×2회 문구용품 107,662×1회 출장비40,000*1회 사회보험료 193,960×5회 회의비 15,000×80명×2회 연차수당 71,846*3일 교육참가비 100,000*1회 유류비 40,000×2회 문화활동비 50,000×80명 상해보험료 15,650×80명 팀장비 30,000×7명×11개월
A27: 23 | E27: 영도할매보육교사도우미사업단 사업비 | F27: 113400000 | G27: 309270000 | H27: 195870000 | I27: 172.72 | J27: 인건비 594,000*39명*10개월 주휴 및 연차수당 1,458,000*39명 마스크구입비 200,000*2회 피복비 15,000*39명*1회 홍보비 100,000*1회 회의비 10,000*39명*2회 참여자소득수수료 250,000*1회 보건증발급비 20,000*39명*1회 문구류구입비 118,460*1회 출장비 50,000*1회 노인일자리담당자 사회보험료 190,000*2회 문화활동비 50,000*39명*1회 교육참가비 50,000*1회 배상책임보험료 5,000*39명 교육비 3,000*39명*2회 전화요금 75,000*2회 노인일자리담당자 연차수당 215,540*1회 참여자산재보험료 6,000*39명*10개월 참여자고용보험료 3,000*39명*10개월 참여자건강보험료 25,000*39명*10개월 참여자장기요양보험료 3,000*39명*10개월 유류비 보조 40,000*2회
A28: 24 | E28: 노인일자리담당자 사업비 | F28: 301309332 | G28: 307944000 | H28: 6634668 | I28: 2.2 | J28: 담당자 급여 12명 * 1,877,000*12월=270,288,000원 담당자 퇴직적립금 1,877,000*12명=22,524,000원 노인일자리담당자 성과급 15,132,000
A29: 25 | E29: 영도할매지킴이사업단 사업비 | F29: 81998400 | G29: 170370000 | H29: 88371600 | I29: 107.77 | J29: 참여자 인건비 13,000,000원*12개월 홍보비 350,000원*3회 회의비 15,000*13명*2회 참여자 사회보험료 810,000원*12개월 노무자문수수료 165,000원*12개월 기장수수료 40,000원*12개월 문구류 외 150,000원*5회
A30: 26 | E30: 영도할매공공시설봉사사업단 사업비 | F30: 390600000 | G30: 378000000 | H30: -12600000 | I30: -3.23 | J30: 인건비 270,000*120명*11개월 팀장비 30,000*10명*11개월 피복비 10,000*120명*1회 마스크 410,500*2회 홍보비 100,000*1회 회의비 15,000*120명*2회 전화요금75,000*1회 참여자소득수수료140,000*1회 청소용품250,000*1회 문구용품70,462*1회 출장비 50,000*1회 유류비 40,000*2회 전담인력 사회보험료 190,000*12회 문화활동비 50,000*120명*1회 상해보험료 15,650*120명*1회 교육참가비 100,000*1회 교육물품구입비 3,000*120명*4회 전담인력연차수당 71,846*3회
A31: 27 | E31: 영도할매싱싱가게사업단 사업비 | F31: 161751000 | G31: 188446000 | H31: 26695000 | I31: 16.5 | J31: 인건비 350,000*15명*12개월 과일구입비 2,000,000*12회 야채구입비 2,330,000*12회 과일구입비 2,000,000*12회 야채구입비 2,330,000*12회 홍보 100,000*5회 총회/간담회/평가회 식대비 15,000*15명*4회 고용/산재 보험료 70,000*12개월 영업배상책임보험 및 생산물배상책임보험 외 200,000*1회 기장수수료 100,000*12회 차량(유류비 등)100,000*12회 소모품(도시락용기외)1,171,600*10회 공산품 3,000,000*12회 위생복외 300,000*2회 부가세 500,000*4회 우편발송비 100,000*3회 월세 770,000*12회 차량렌트비 500,000*12회 영업배상책임보험 및 생산물배상책임보험 외 200,000*1회 기장수수료 100,000*12회 차량(유류비 등)100,000*12회 소모품(도시락용기외)1,171,600*10회 공산품 3,000,000*12회 위생복외 300,000*2회 부가세 500,000*4회 우편발송비 100,000*3회 월세 770,000*12회 차량렌트비 500,000*12회 사회보험료150,000*12회 출장비50,000*4회 문화행사 50,000*15명*1회
A32: 28 | E32: 영도할매실버보금자리사업단 사업비 | F32: 30000000 | G32: 30000000 | H32: 0 | I32: 0 | J32: 인건비 350,000×6명×10개월 팀장비 30,000×1명×10개월 피복비 30,000×6명×1회 회의및간담회비 105,000*3회 자재비 110,920*5가구*10개월 수리비 200,000*10가구 유류비 보조 25,000*4회 문화활동비 50,000×6명×1회 교육비 3,000*6명*3회 참여자사회보험료 25,000*10개월
A33: 29 | E33: 영도할매스쿨존사업단 사업비 | F33: 643907 | G33: 0 | H33: -643907 | I33: -100
A34: 30 | E34: 영도할매맑은누리사업단 사업비 | F34: 315000000 | G34: 315000000 | H34: 0 | I34: 0 | J34: 인건비 270,000×100명×11개월 팀장비 20,000×8명×11개월 참여자상해보험료 15,650*100명*1회 참여자 소득수수료 140,000*1회 청소용품구입비 500,000*1회 문구용품 184,462*1회 홍보비 100,000*1회 유류비 40,000×4회 문화활동비 50,000×112명×1회 교육참가비 100,000×1회 출장비 50,000×2회 교육물품구입비 3,000*100명*3회 피복비 20,000×100명×1회 맑은누리 반환금(보조금-기타예금이자) 6,689 회의비 15,000×100명×3회 노인일자리담당자 사회보험료 190,000*6회 전담인력연차수당 71,846×3회
A35: 31 | E35: 영도할매옛이야기사업단 사업비 | F35: 55578000 | G35: 55578000 | H35: 0 | I35: 0 | J35: 인건비 594,000*8명*9개월, 주휴수당 118,800*8명*9개월 교육비 16,000*8명*2회 참여자상해보험료 40,000*10명*1회 간담회 및 평가회 15,000*9명*3회 피복비 40,000*8명*1회 홍보비 150,000*2회 활동물품 구입비 150,000*2회 문구류 구입비 83,400*1회 참여자고용보험 2,400*8명*10개월 192,000 참여자산재보험 5,000*8명*10개월 400,000 참여자건강보험 21,000*8명*10개월 1,680,000 참여자장기요양보험 1,000*8명*10개월 80,000 참여자국민연금 3,000*8명*10개월 240,000
A36: 32 | E36: 영도할매풀잎0℃카페사업단 사업비 | F36: 46944840 | G36: 57461840 | H36: 10517000 | I36: 22.4 | J36: 인건비 290,400*10명*12개월(1인 월 33시간×8,800=290,400원) 커피 외 1,500,000*12회 커피 외 1,500,000*12회 교육비 3,000*8명*5회 인건비 300,000*8명*12개월 총회/간담회/평가회 식대비 15,000*8명*3회 고용/산재 보험료 50,000*12개월 노인일자리담당자 사회보험료190,000*6회 생산물배상책임보험 150,000*1회 기장수수료 100,000*12회 차량(유류비 등) 40,000*8회 소모품구입1,001,840 부가세 200,000*4회 명절선물비 20,000*8명*2회 생산물배상책임보험 150,000*1회 기장수수료 100,000*12회 차량(유류비 등) 40,000*8회 소모품구입1,001,840 부가세 200,000*4회 명절선물비 20,000*8명*2회 출장비 50,000*2회 공공요금160,000*12회 문화행사비 50,000*8명*1회
A37: 33 | E37: 영도할매학교환경관리사업단 사업비 | F37: 371700000 | G37: 441000000 | H37: 69300000 | I37: 18.64 | J37: 인건비 270,000*140명*11개월 간담회 15,000*140명*2회 사업평가회 15,000*140명*1회 참여자소득수수료 140,000*1회 청소용품구입비 750,000*1회 문구용품208,462*1회 담당자연차수당 71,846*3회 유류비 40,000*3회 노인일자리담당자 사회보험료 190,000*6회 문화활동비 50,000*140명*1회 교육참가비 100,000*1회 전화요금 75,000*1회 참여자상해보험료 15,650*140명*1회 홍보비 100,000*1회 교육물품구입비 3,000*140명*3회 피복비 30,000*140명*1회
A38: 34 | E38: 영도할매지역아동센터봉사사업단 사업비 | F38: 356850000 | G38: 396500000 | H38: 39650000 | I38: 11.11 | J38: 인건비 594,000*50명*10개월 주휴수당 118,800*50명*10개월 연차수당 27,000*50명*10개월 참여자산재보험료 6,000*50명*10개월 참여자고용보험료 3,500*50명*10개월 문화활동비 50,000*50명*1회 교육참가비 100,000*1회 전화요금 70,000*3개월 참여자건강보험료 25,500*50명*10개월 참여자장기요양보험료 3,000*50명*10개월 기장수수료 30,000*12회 문구용품 260,000*1회 회의비 15,000*50명*3회 홍보비 200,000*1회 교육진행비 3,000*45명*4회 피복비 20,000*50명*1회 유류비 보조 40,000*3회
A39: 35 | E39: 영도할매기타시설지원사업단 사업비 | F39: 79300000 | G39: 237900000 | H39: 158600000 | I39: 200 | J39: 인건비 594,000*30명*10개월 주휴수당 118,800*30명*10개월 연차수당 27,000*30명*10개월 참여자산재보험료 6,000*30명*10개월 참여자고용보험료 3,500*30명*10개월 문화활동비 30,000*30명*1회 교육참가비 100,000*1회 전화요금 70,000*3개월 참여자건강보험료 25,000*30명*10개월 참여자장기요양보험료 2,900*30명*10개월 현수막제작비 20,000*3개 문구용품 30,000*1회 보건증 발급비 20,000*24명 회의비 15,000*30명*2회 홍보비 100,000*1회 교육진행비 2,000*30명*6회 피복비 25,000*30명*1회 마스크 구입비 : 500*5개(월)*30명*10개월 기관차량 유류비 40,000*4회 배상책임보험료 5,000*30명*1회
A40: 36 | E40: 영도할매환경개선봉사사업단 사업비 | F40: 390600000 | G40: 441000000 | H40: 50400000 | I40: 12.9 | J40: 인건비 270,000×140명×11개월 팀장비 30,000×14명×11개월 회의비 15,000×140명×2회 참여자소득수수료 250,000×1회 전화요금 75,000×1회 청소용품 300,000×1회 문구용품 80,942×1회 노인일자리 담당자 연차수당 71,846×3회 유류비 40,000×5회 사회보험료 193,960×12회 문화활동비 50,000×140명 교육참가비 100,000×1회 상해보험료 15,650×140명 홍보비 200,000*1회 교육비 3,000×140명×4회 피복비 12,000×140명×1회 출장비 40,000×2회
...
