Workbook

Sheet 총괄표
A1: 부산영도시니어클럽 2014년 세입·세출 예산(안) 총괄표
A3: 세 입 | H3: 세 출
A4: 관 | B4: 항 | C4: 목 | D4: 세목 | E4: 예 산 액 | G4: 증감(B)-(A) | H4: 관 | I4: 항 | J4: 목 | K4: 예 산 액 | M4: 증감(B)-(A)
E5: 2013년 3차 예산 (A) | F5: 2014년 예산 (B) | G5: 차이액 (B-A) | K5: 2013년 3차 예산 (A) | L5: 2014년 예산 (B) | M5: 차이액 (B-A)
A6: 총 계 | E6: =E7+E20+E52+E56+E60 -> 1120344000 | F6: =F7+F20+F52+F56+F60 -> 1297773000 | G6: =F6-E6 -> 177429000 | H6: 총 계 | K6: =K7+K27+K48+K51+K23 -> 1120344000 | L6: =L7+L27+L48+L51+L23 -> 1297773000 | M6: =L6-K6 -> 177429000
A7: 사업수입 | E7: =E8 -> 454744000 | F7: =F8 -> 578384000 | G7: =F7-E7 -> 123640000 | H7: 사무비 | K7: =K8+K14+K17+K24 -> 220830090 | L7: =L8+L14+L17 -> 238836350 | M7: =L7-K7 -> 18006260
B8: 사업수입 | E8: =E9 -> 454744000 | F8: =F9 -> 578384000 | G8: =F8-E8 -> 123640000 | I8: 인건비 | K8: =SUM(K9:K13) -> 209205290 | L8: =SUM(L9:L13) -> 218626350 | M8: =L8-K8 -> 9421060
C9: 사업수입 | E9: =SUM(E10:E19) -> 454744000 | F9: =SUM(F10:F19) -> 578384000 | G9: =F9-E9 -> 123640000 | J9: 급여 | K9: =[1]세출!D8 -> 148127000 | L9: =[1]세출!E8 -> 156603000 | M9: =L9-K9 -> 8476000
D10: 영도할매방아깨비사업단사업수입 | E10: =[1]세입!E9 -> 85000000 | F10: =[1]세입!F9 -> 90360000 | G10: =F10-E10 -> 5360000 | J10: 제수당 | K10: =[1]세출!D9 -> 30957500 | L10: =[1]세출!E9 -> 27881400 | M10: =L10-K10 -> -3076100
D11: 영도할매조립사업단사업수입 | E11: =[1]세입!E10 -> 52600000 | F11: =[1]세입!F10 -> 68000000 | G11: =F11-E11 -> 15400000 | J11: 퇴직금 및 퇴직적립금 | K11: =[1]세출!D10 -> 14103470 | L11: =[1]세출!E10 -> 15373700 | M11: =L11-K11 -> 1270230
D12: 영도할매실버뱅크사업단사업수입 | E12: =[1]세입!E11 -> 4500000 | F12: =[1]세입!F11 -> 0 | G12: =F12-E12 -> -4500000 | J12: 사회보험부담금 | K12: =[1]세출!D11 -> 14607320 | L12: =[1]세출!E11 -> 17288250 | M12: =L12-K12 -> 2680930
D13: 영도할매주차장관리사업단사업수입 | E13: =[1]세입!E12 -> 150700000 | F13: =[1]세입!F12 -> 168000000 | G13: =F13-E13 -> 17300000 | J13: 기타후생경비 | K13: =[1]세출!D12 -> 1410000 | L13: =[1]세출!E12 -> 1480000 | M13: =L13-K13 -> 70000
D14: 영도할매어린이집식단관리사업단사업수입 | E14: =[1]세입!E13 -> 49704000 | F14: =[1]세입!F13 -> 52800000 | G14: =F14-E14 -> 3096000 | I14: 업무추진비 | K14: =SUM(K15:K16) -> 414800 | L14: =SUM(L15:L16) -> 1000000 | M14: =L14-K14 -> 585200
D15: 영도할매재활용사업단사업수입 | E15: =[1]세입!E14 -> 24500000 | F15: =[1]세입!F14 -> 28056000 | G15: =F15-E15 -> 3556000 | J15: 기관운영비 | K15: =[1]세출!D14 -> 149800 | L15: =[1]세출!E14 -> 400000 | M15: =L15-K15 -> 250200
D16: 영도할매실버안심택배사업단사업수입 | E16: =[1]세입!E15 -> 11500000 | F16: =[1]세입!F15 -> 0 | G16: =F16-E16 -> -11500000 | J16: 회의비 | K16: =[1]세출!D15 -> 265000 | L16: =[1]세출!E15 -> 600000 | M16: =L16-K16 -> 335000
D17: 영도할매급식도우미사업단사업수입 | E17: =[1]세입!E16 -> 600000 | F17: =[1]세입!F16 -> 1500000 | G17: =F17-E17 -> 900000 | I17: 운영비 | K17: =SUM(K18:K22) -> 11210000 | L17: =SUM(L18:L22) -> 19210000 | M17: =L17-K17 -> 8000000
D18: 영도할매보육교사도우미사업단사업수입 | E18: =[1]세입!E17 -> 1640000 | F18: =[1]세입!F17 -> 1500000 | G18: =F18-E18 -> -140000 | J18: 여비 | K18: =[1]세출!D17 -> 0 | L18: =[1]세출!E17 -> 1000000 | M18: =L18-K18 -> 1000000
D19: 영도할매공공시설관리사업단사업수입 | E19: =[1]세입!E18 -> 74000000 | F19: =[1]세입!F18 -> 168168000 | G19: =F19-E19 -> 94168000 | J19: 수용비 및 수수료 | K19: =[1]세출!D18 -> 7910000 | L19: =[1]세출!E18 -> 12540000 | M19: =L19-K19 -> 4630000
A20: 보조금수입 | E20: =E21 -> 622160000 | F20: =F21 -> 647210000 | G20: =F20-E20 -> 25050000 | J20: 공공요금 | K20: =[1]세출!D19 -> 490000 | L20: =[1]세출!E19 -> 1270000 | M20: =L20-K20 -> 780000
B21: 보조금수입 | E21: =E22+E34+E48+E50 -> 622160000 | F21: =F22+F34+F48+F50 -> 647210000 | G21: =F21-E21 -> 25050000 | J21: 제세공과금 | K21: =[1]세출!D20 -> 2810000 | L21: =[1]세출!E20 -> 3800000 | M21: =L21-K21 -> 990000
C22: 국고보조금 | E22: =SUM(E23:E33) -> 199080000 | F22: =SUM(F23:F33) -> 205005000 | G22: =F22-E22 -> 5925000 | J22: 차량비 | K22: =[1]세출!D21 -> 0 | L22: =[1]세출!E21 -> 600000 | M22: =[1]세출!F21 -> 600000
D23: 영도할매방아깨비사업단국고보조금 | E23: =[1]세입!E22 -> 6000000 | F23: =[1]세입!F22 -> 8000000 | G23: =F23-E23 -> 2000000 | H23: 재산조성비 | K23: =K24 -> 0 | L23: =L24 -> 1500000 | M23: =L23-K23 -> 1500000
D24: 영도할매조립사업단국고보조금 | E24: =[1]세입!E23 -> 31500000 | F24: =[1]세입!F23 -> 31500000 | G24: =F24-E24 -> 0 | I24: 시설비 | K24: =SUM(K25:K26) -> 0 | L24: =SUM(L25:L26) -> 1500000 | M24: =L24-K24 -> 1500000
D25: 영도할매실버뱅크사업단국고보조금 | E25: =[1]세입!E24 -> 1500000 | F25: =[1]세입!F24 -> 1125000 | G25: =F25-E25 -> -375000 | J25: 자산취득비 | K25: =[1]세출!D24 -> 0 | L25: =[1]세출!E24 -> 1000000 | M25: =L25-K25 -> 1000000
D26: 영도할매주차장관리사업단국고보조금 | E26: =[1]세입!E25 -> 20000000 | F26: =[1]세입!F25 -> 20000000 | G26: =F26-E26 -> 0 | J26: 시설장비유지비 | K26: =[1]세출!D25 -> 0 | L26: =[1]세출!E25 -> 500000 | M26: =L26-K26 -> 500000
D27: 영도할매어린이집식단관리사업단국고보조금 | E27: =[1]세입!E26 -> 13500000 | F27: =[1]세입!F26 -> 13500000 | G27: =F27-E27 -> 0 | H27: 사업비 | K27: =K28+K40+K44 -> 847507181 | L27: =L28+L40+L44 -> 1005600614 | M27: =L27-K27 -> 158093433
D28: 영도할매재활용사업단국고보조금 | E28: =[1]세입!E27 -> 15000000 | F28: =[1]세입!F27 -> 17000000 | G28: =F28-E28 -> 2000000 | I28: 사업단사업비 | K28: =SUM(K29:K39) -> 832458781 | L28: =SUM(L29:L39) -> 992200614 | M28: =L28-K28 -> 159741833
D29: 영도할매실버안심택배사업단국고보조금 | E29: =[1]세입!E28 -> 6050000 | F29: =[1]세입!F28 -> 0 | G29: =F29-E29 -> -6050000 | J29: 영도할매방아깨비사업단사업비 | K29: =[1]세출!D28 -> 94567370 | L29: =[1]세출!E28 -> 105390000 | M29: =L29-K29 -> 10822630
D30: 영도할매급식도우미사업단국고보조금 | E30: =[1]세입!E29 -> 48300000 | F30: =[1]세입!F29 -> 57600000 | G30: =F30-E30 -> 9300000 | J30: 영도할매조립사업단사업비 | K30: =[1]세출!D29 -> 113929014 | L30: =[1]세출!E29 -> 130458360 | M30: =L30-K30 -> 16529346
D31: 영도할매보육교사도우미사업단국고보조금 | E31: =[1]세입!E30 -> 23280000 | F31: =[1]세입!F30 -> 23280000 | G31: =F31-E31 -> 0 | J31: 영도할매실버뱅크사업단사업비 | K31: =[1]세출!D30 -> 7500000 | L31: =[1]세출!E30 -> 2266054 | M31: =L31-K31 -> -5233946
D32: 전담인력국고보조금 | E32: =[1]세입!E31 -> 11000000 | F32: =[1]세입!F31 -> 11000000 | G32: =F32-E32 -> 0 | J32: 영도할매주차장관리사업단사업비 | K32: =[1]세출!D31 -> 178511000 | L32: =[1]세출!E31 -> 218535000 | M32: =L32-K32 -> 40024000
D33: 영도할매공공시설관리사업단국고보조금 | E33: =[1]세입!E32 -> 22950000 | F33: =[1]세입!F32 -> 22000000 | G33: =F33-E33 -> -950000 | J33: 영도할매어린이집식단관리사업단사업비 | K33: =[1]세출!D32 -> 73749740 | L33: =[1]세출!E32 -> 77111200 | M33: =L33-K33 -> 3361460
C34: 시도보조금 | E34: =SUM(E35:E47) -> 380530000 | F34: =SUM(F35:F47) -> 399205000 | G34: =F34-E34 -> 18675000 | J34: 영도할매재활용사업단사업비 | K34: =[1]세출!D33 -> 50978260 | L34: =[1]세출!E33 -> 59501800 | M34: =L34-K34 -> 8523540
D35: 기관운영시도보조금 | E35: =[1]세입!E34 -> 174250000 | F35: =[1]세입!F34 -> 187000000 | G35: =F35-E35 -> 12750000 | J35: 영도할매실버안심택배사업단사업비 | K35: =[1]세출!D34 -> 28192403 | L35: =[1]세출!E34 -> 10000 | M35: =L35-K35 -> -28182403
D36: 종사자복지수당시도보조금 | E36: =[1]세입!E35 -> 7200000 | F36: =[1]세입!F35 -> 7200000 | G36: =F36-E36 -> 0 | J36: 영도할매급식도우미사업단사업비 | K36: =[1]세출!D35 -> 97895600 | L36: =[1]세출!E35 -> 116700100 | M36: =L36-K36 -> 18804500
D37: 영도할매방아깨비사업단시도보조금 | E37: =[1]세입!E36 -> 6000000 | F37: =[1]세입!F36 -> 8000000 | G37: =F37-E37 -> 2000000 | J37: 영도할매보육교사도우미사업단사업비 | K37: =[1]세출!D36 -> 48200000 | L37: =[1]세출!E36 -> 48060100 | M37: =L37-K37 -> -139900
D38: 영도할매조립사업단시도보조금 | E38: =[1]세입!E37 -> 31500000 | F38: =[1]세입!F37 -> 31500000 | G38: =F38-E38 -> 0 | J38: 전담인력사업비 | K38: =[1]세출!D37 -> 21036307 | L38: =[1]세출!E37 -> 22000000 | M38: =L38-K38 -> 963693
D39: 영도할매실버뱅크사업단시도보조금 | E39: =[1]세입!E38 -> 1500000 | F39: =[1]세입!F38 -> 1125000 | G39: =F39-E39 -> -375000 | J39: 영도할매공공시설관리사업단사업비 | K39: =[1]세출!D38 -> 117899087 | L39: =[1]세출!E38 -> 212168000 | M39: =L39-K39 -> 94268913
D40: 영도할매주차장관리사업단시도보조금 | E40: =[1]세입!E39 -> 20000000 | F40: =[1]세입!F39 -> 20000000 | G40: =F40-E40 -> 0 | I40: 사업단지원사업비 | K40: =SUM(K41:K43) -> 14372400 | L40: =SUM(L41:L43) -> 10200000 | M40: =L40-K40 -> -4172400
D41: 영도할매어린이집식단관리사업단시도보조금 | E41: =[1]세입!E40 -> 13500000 | F41: =[1]세입!F40 -> 13500000 | G41: =F41-E41 -> 0 | J41: 시장진입형사업단지원사업비 | K41: =[1]세출!D40 -> 14364900 | L41: =[1]세출!E40 -> 10000000 | M41: =L41-K41 -> -4364900
D42: 영도할매재활용사업단시도보조금 | E42: =[1]세입!E41 -> 15000000 | F42: =[1]세입!F41 -> 17000000 | G42: =F42-E42 -> 2000000 | J42: 사회공헌형사업단지원사업비 | K42: =[1]세출!D41 -> 7500 | L42: =[1]세출!E41 -> 100000 | M42: =L42-K42 -> 92500
D43: 영도할매실버안심택배사업단시도보조금 | E43: =[1]세입!E42 -> 6050000 | F43: =[1]세입!F42 -> 0 | G43: =F43-E43 -> -6050000 | J43: 기타사업단지원사업비 | K43: =[1]세출!D42 -> 0 | L43: =[1]세출!E42 -> 100000 | M43: =L43-K43 -> 100000
D44: 영도할매급식도우미사업단시도보조금 | E44: =[1]세입!E43 -> 48300000 | F44: =[1]세입!F43 -> 57600000 | G44: =F44-E44 -> 9300000 | I44: 일반사업비 | K44: =SUM(K45:K47) -> 676000 | L44: =SUM(L45:L47) -> 3200000 | M44: =L44-K44 -> 2524000
D45: 영도할매보육교사도우미사업단시도보조금 | E45: =[1]세입!E44 -> 23280000 | F45: =[1]세입!F44 -> 23280000 | G45: =F45-E45 -> 0 | J45: 기타복지사업비 | K45: =[1]세출!D44 -> 470000 | L45: =[1]세출!E44 -> 600000 | M45: =L45-K45 -> 130000
D46: 전담인력시도보조금 | E46: =[1]세입!E45 -> 11000000 | F46: =[1]세입!F45 -> 11000000 | G46: =F46-E46 -> 0 | J46: 홍보사업비 | K46: =[1]세출!D45 -> 56000 | L46: =[1]세출!E45 -> 600000 | M46: =L46-K46 -> 544000
D47: 영도할매공공시설관리사업단시도보조금 | E47: =[1]세입!E46 -> 22950000 | F47: =[1]세입!F46 -> 22000000 | G47: =F47-E47 -> -950000 | J47: 지역사회사업비 | K47: =[1]세출!D46 -> 150000 | L47: =[1]세출!E46 -> 2000000 | M47: =L47-K47 -> 1850000
C48: 시군구보조금 | E48: =E49 -> 30750000 | F48: =F49 -> 33000000 | G48: =F48-E48 -> 2250000 | H48: 잡지출 | K48: =K49 -> 0 | L48: =L49 -> 100000 | M48: =L48-K48 -> 100000
D49: 기관운영시군구보조금 | E49: =[1]세입!E48 -> 30750000 | F49: =[1]세입!F48 -> 33000000 | G49: =F49-E49 -> 2250000 | I49: 잡지출 | K49: =K50 -> 0 | L49: =L50 -> 100000 | M49: =L49-K49 -> 100000
C50: 기타보조금 | E50: =E51 -> 11800000 | F50: =F51 -> 10000000 | G50: =F50-E50 -> -1800000 | J50: 잡지출 | K50: =[1]세출!D49 -> 0 | L50: =[1]세출!E49 -> 100000 | M50: =L50-K50 -> 100000
D51: 기타보조금 | E51: =[1]세입!E50 -> 11800000 | F51: =[1]세입!F50 -> 10000000 | G51: =F51-E51 -> -1800000 | H51: 예비비 및 기타 | K51: =K52 -> 52006729 | L51: =L52 -> 51736036 | M51: =L51-K51 -> -270693
A52: 전입금 | E52: =SUM(E53) -> 12600000 | F52: =SUM(F53) -> 20000000 | G52: =F52-E52 -> 7400000 | I52: 예비비 및 기타 | K52: =SUM(K53:K55) -> 52006729 | L52: =SUM(L53:L55) -> 51736036 | M52: =L52-K52 -> -270693
B53: 전입금 | E53: =E54 -> 12600000 | F53: =F54 -> 20000000 | G53: =F53-E53 -> 7400000 | J53: 예비비 | K53: =[1]세출!D52 -> 94309 | L53: =[1]세출!E52 -> 100000 | M53: =L53-K53 -> 5691
C54: 법인전입금 | E54: =E55 -> 12600000 | F54: =F55 -> 20000000 | G54: =F54-E54 -> 7400000 | J54: 차년도이월금 | K54: =[1]세출!D53 -> 51227004 | L54: =[1]세출!E53 -> 50401543 | M54: =L54-K54 -> -825461
D55: 법인전입금 | E55: =[1]세입!E54 -> 12600000 | F55: =[1]세입!F54 -> 20000000 | G55: =F55-E55 -> 7400000 | J55: 반환금 | K55: =[1]세출!D54 -> 685416 | L55: =[1]세출!E54 -> 1234493 | M55: =L55-K55 -> 549077
A56: 이월금 | E56: =E57 -> 29336422 | F56: =F57 -> 51227004 | G56: =F56-E56 -> 21890582
B57: 이월금 | E57: =E58 -> 29336422 | F57: =F58 -> 51227004 | G57: =F57-E57 -> 21890582
C58: 전년도이월금 | E58: =E59 -> 29336422 | F58: =F59 -> 51227004 | G58: =F58-E58 -> 21890582
D59: 전년도이월금 | E59: =[1]세입!E58 -> 29336422 | F59: =[1]세입!F58 -> 51227004 | G59: =F59-E59 -> 21890582
A60: 잡수입 | E60: =E61 -> 1503578 | F60: =F61 -> 951996 | G60: =G61 -> -551582
B61: 잡수입 | E61: =E62+E64 -> 1503578 | F61: =F62+F64 -> 951996 | G61: =F61-E61 -> -551582
C62: 기타예금이자수입 | E62: =SUM(E63) -> 300000 | F62: =SUM(F63) -> 257200 | G62: =F62-E62 -> -42800
D63: 기타예금이자수입 | E63: =[1]세입!E62 -> 300000 | F63: =[1]세입!F62 -> 257200 | G63: =F63-E63 -> -42800
C64: 기타잡수입 | E64: =E65 -> 1203578 | F64: =F65 -> 694796 | G64: =F64-E64 -> -508782
D65: 기타잡수입 | E65: =[1]세입!E64 -> 1203578 | F65: =[1]세입!F64 -> 694796 | G65: =F65-E65 -> -508782
