Workbook

Sheet 총괄표
A1: 부산영도시니어클럽 2013년 1차 추경 세입·세출 예산(안) 총괄표
A3: 세 입 | G3: 세 출
A4: 관 | B4: 항 | C4: 목 | D4: 예 산 액 | F4: 증감(B)-(A) | G4: 관 | H4: 항 | I4: 목 | J4: 예 산 액 | L4: 증감(B)-(A)
D5: 2013년 예산안 (A) | E5: 2013년 1차 추경 (B) | F5: 차이액 (B-A) | J5: 2013년 예산안 (A) | K5: 2013년 1차 추경 (B) | L5: 차이액 (B-A)
A6: 총 계 | D6: =D7+D21+D33+D36+D39 -> 1028200000 | E6: =E7+E21+E33+E36+E39 -> 1052000000 | F6: =E6-D6 -> 23800000 | G6: 총 계 | J6: =J7+J23+J27+J48+J51+J54+J57 -> 1028200000 | K6: =K7+K23+K27+K48+K51+K54+K57 -> 1052000000 | L6: =K6-J6 -> 23800000
A7: 보조금수입 | D7: =D8 -> 576970000 | E7: =E8 -> 572560000 | F7: =E7-D7 -> -4410000 | G7: 사무비 | J7: =J8+J14+J17 -> 230832000 | K7: =K8+K14+K17 -> 223031077 | L7: =K7-J7 -> -7800923
B8: 보조금수입 | D8: =SUM(D9:D20) -> 576970000 | E8: =SUM(E9:E20) -> 572560000 | F8: =E8-D8 -> -4410000 | H8: 인건비 | J8: =SUM(J9:J13) -> 204452000 | K8: =SUM(K9:K13) -> 203131077 | L8: =K8-J8 -> -1320923
C9: 기관운영보조금 | D9: =[1]세입!D8 -> 205000000 | E9: =[1]세입!E8 -> 205000000 | F9: =E9-D9 -> 0 | I9: 급여 | J9: =[1]세출!D8 -> 147648000 | K9: =[1]세출!E8 -> 146587000 | L9: =K9-J9 -> -1061000
C10: 종사자복지수당수입 | D10: =[1]세입!D9 -> 7200000 | E10: =[1]세입!E9 -> 7200000 | F10: =E10-D10 -> 0 | I10: 제수당 | J10: =[1]세출!D9 -> 23228000 | K10: =[1]세출!E9 -> 24257500 | L10: =K10-J10 -> 1029500
C11: 영도할매방아깨비사업단보조금 | D11: =[1]세입!D10 -> 16000000 | E11: =[1]세입!E10 -> 12000000 | F11: =E11-D11 -> -4000000 | I11: 퇴직금 및 퇴직적립 | J11: =[1]세출!D10 -> 14240000 | K11: =[1]세출!E10 -> 14237375 | L11: =K11-J11 -> -2625
C12: 영도할매조립사업단보조금 | D12: =[1]세입!D11 -> 45000000 | E12: =[1]세입!E11 -> 45000000 | F12: =E12-D12 -> 0 | I12: 사회보험 | J12: =[1]세출!D11 -> 15636000 | K12: =[1]세출!E11 -> 15749202 | L12: =K12-J12 -> 113202
C13: 영도할매주차장관리사업단보조금 | D13: =[1]세입!D12 -> 44000000 | E13: =[1]세입!E12 -> 40000000 | F13: =E13-D13 -> -4000000 | I13: 기타후생경비 | J13: =[1]세출!D12 -> 3700000 | K13: =[1]세출!E12 -> 2300000 | L13: =K13-J13 -> -1400000
C14: 영도할매어린이집식단관리사업단보조금 | D14: =[1]세입!D13 -> 32000000 | E14: =[1]세입!E13 -> 27000000 | F14: =E14-D14 -> -5000000 | H14: 업무추진비 | J14: =SUM(J15:J16) -> 2400000 | K14: =SUM(K15:K16) -> 1600000 | L14: =K14-J14 -> -800000
C15: 영도할매재활용사업단보조금 | D15: =[1]세입!D14 -> 40000000 | E15: =[1]세입!E14 -> 30000000 | F15: =E15-D15 -> -10000000 | I15: 기관운영비 | J15: =[1]세출!D14 -> 1200000 | K15: =[1]세출!E14 -> 1000000 | L15: =K15-J15 -> -200000
C16: 영도할매실버안심택배사업단보조금 | D16: =[1]세입!D15 -> 40000000 | E16: =[1]세입!E15 -> 58000000 | F16: =E16-D16 -> 18000000 | I16: 회의비 | J16: =[1]세출!D15 -> 1200000 | K16: =[1]세출!E15 -> 600000 | L16: =K16-J16 -> -600000
C17: 영도할매실버뱅크사업단보조금 | D17: =[1]세입!D16 -> 2250000 | E17: =[1]세입!E16 -> 3000000 | F17: =E17-D17 -> 750000 | H17: 운영비 | J17: =SUM(J18:J22) -> 23980000 | K17: =SUM(K18:K22) -> 18300000 | L17: =K17-J17 -> -5680000
C18: 영도할매급식도우미사업단보조금 | D18: =[1]세입!D17 -> 77200000 | E18: =[1]세입!E17 -> 76800000 | F18: =E18-D18 -> -400000 | I18: 여비 | J18: =[1]세출!D17 -> 2500000 | K18: =[1]세출!E17 -> 1000000 | L18: =K18-J18 -> -1500000
C19: 영도할매보육교사도우미사업단보조금 | D19: =[1]세입!D18 -> 46320000 | E19: =[1]세입!E18 -> 46560000 | F19: =E19-D19 -> 240000 | I19: 수용비및수수료 | J19: =[1]세출!D18 -> 12400000 | K19: =[1]세출!E18 -> 12000000 | L19: =K19-J19 -> -400000
C20: 전담인력보조금 | D20: =[1]세입!D19 -> 22000000 | E20: =[1]세입!E19 -> 22000000 | F20: =E20-D20 -> 0 | I20: 공공요금 | J20: =[1]세출!D19 -> 2880000 | K20: =[1]세출!E19 -> 800000 | L20: =K20-J20 -> -2080000
A21: 사업단수입 | D21: =D22 -> 376580000 | E21: =E22 -> 418000000 | F21: =E21-D21 -> 41420000 | I21: 제세공과금 | J21: =[1]세출!D20 -> 5000000 | K21: =[1]세출!E20 -> 4000000 | L21: =K21-J21 -> -1000000
B22: 사업단수입 | D22: =SUM(D23:D32) -> 376580000 | E22: =SUM(E23:E32) -> 418000000 | F22: =E22-D22 -> 41420000 | I22: 차량비 | J22: =[1]세출!D21 -> 1200000 | K22: =[1]세출!E21 -> 500000 | L22: =K22-J22 -> -700000
C23: 영도할매방아깨비사업단수입 | D23: =[1]세입!D22 -> 86400000 | E23: =[1]세입!E22 -> 74400000 | F23: =E23-D23 -> -12000000 | G23: 재산조성비 | J23: =J24 -> 5500000 | K23: =K24 -> 1300000 | L23: =K23-J23 -> -4200000
C24: 영도할매조립사업단수입 | D24: =[1]세입!D23 -> 46800000 | E24: =[1]세입!E23 -> 48000000 | F24: =E24-D24 -> 1200000 | H24: 시설비 | J24: =SUM(J25:J26) -> 5500000 | K24: =SUM(K25:K26) -> 1300000 | L24: =K24-J24 -> -4200000
C25: 영도할매주차장관리사업단수입 | D25: =[1]세입!D24 -> 134400000 | E25: =[1]세입!E24 -> 172000000 | F25: =E25-D25 -> 37600000 | I25: 자산취득비 | J25: =[1]세출!D24 -> 3000000 | K25: =[1]세출!E24 -> 1000000 | L25: =K25-J25 -> -2000000
C26: 영도할매어린이집식단관리사업단수입 | D26: =[1]세입!D25 -> 37200000 | E26: =[1]세입!E25 -> 44400000 | F26: =E26-D26 -> 7200000 | I26: 시설장비유지비 | J26: =[1]세출!D25 -> 2500000 | K26: =[1]세출!E25 -> 300000 | L26: =K26-J26 -> -2200000
C27: 영도할매재활용사업단수입 | D27: =[1]세입!D26 -> 24000000 | E27: =[1]세입!E26 -> 24000000 | F27: =E27-D27 -> 0 | G27: 사업비 | J27: =J28+J32+J36 -> 718620000 | K27: =K28+K32+K36 -> 756555600 | L27: =K27-J27 -> 37935600
C28: 영도할매실버안심택배사업단수입 | D28: =[1]세입!D27 -> 17280000 | E28: =[1]세입!E27 -> 39200000 | F28: =E28-D28 -> 21920000 | H28: 사업단지원비 | J28: =SUM(J29:J31) -> 4500000 | K28: =SUM(K29:K31) -> 3000000 | L28: =K28-J28 -> -1500000
C29: 영도할매실버뱅크사업단수입 | D29: =[1]세입!D28 -> 24000000 | E29: =[1]세입!E28 -> 10000000 | F29: =E29-D29 -> -14000000 | I29: 시장형사업단지원비 | J29: =[1]세출!D28 -> 3000000 | K29: =[1]세출!E28 -> 2900000 | L29: =K29-J29 -> -100000
C30: 영도할매급식도우미사업단수입 | D30: =[1]세입!D29 -> 2000000 | E30: =[1]세입!E29 -> 2000000 | F30: =E30-D30 -> 0 | I30: 기타사업단지원비 | J30: =[1]세출!D29 -> 1000000 | K30: =[1]세출!E29 -> 0 | L30: =K30-J30 -> -1000000
C31: 영도할매보육교사도우미사업단수입 | D31: =[1]세입!D30 -> 1500000 | E31: =[1]세입!E30 -> 1500000 | F31: =E31-D31 -> 0 | I31: 사회공헌형사업단지원비 | J31: =[1]세출!D30 -> 500000 | K31: =[1]세출!E30 -> 100000 | L31: =K31-J31 -> -400000
C32: 기타사업단수입 | D32: =[1]세입!D31 -> 3000000 | E32: =[1]세입!E31 -> 2500000 | F32: =E32-D32 -> -500000 | H32: 일반사업비 | J32: =SUM(J33:J35) -> 4300000 | K32: =SUM(K33:K35) -> 2500000 | L32: =K32-J32 -> -1800000
A33: 전입금 | D33: =SUM(D34) -> 30000000 | E33: =SUM(E34) -> 30000000 | F33: =E33-D33 -> 0 | I33: 기타복지사업비 | J33: =[1]세출!D32 -> 2300000 | K33: =[1]세출!E32 -> 1000000 | L33: =K33-J33 -> -1300000
B34: 전입금 | D34: =SUM(D35) -> 30000000 | E34: =SUM(E35) -> 30000000 | F34: =E34-D34 -> 0 | I34: 홍보사업비 | J34: =[1]세출!D33 -> 1000000 | K34: =[1]세출!E33 -> 500000 | L34: =K34-J34 -> -500000
C35: 법인전입금 | D35: =[1]세입!D34 -> 30000000 | E35: =[1]세입!E34 -> 30000000 | F35: =E35-D35 -> 0 | I35: 지역사회사업비 | J35: =[1]세출!D34 -> 1000000 | K35: =[1]세출!E34 -> 1000000 | L35: =K35-J35 -> 0
A36: 이월금 | D36: =D37 -> 44250000 | E36: =E37 -> 29336422 | F36: =E36-D36 -> -14913578 | H36: 사업단사업비 | J36: =SUM(J37:J47) -> 709820000 | K36: =SUM(K37:K47) -> 751055600 | L36: =K36-J36 -> 41235600
B37: 이월금 | D37: =SUM(D38:D38) -> 44250000 | E37: =SUM(E38:E38) -> 29336422 | F37: =E37-D37 -> -14913578 | I37: 영도할매방아깨비사업단 | J37: =[1]세출!D36 -> 95000000 | K37: =[1]세출!E36 -> 80000000 | L37: =K37-J37 -> -15000000
C38: 전년도이월금 | D38: =[1]세입!D37 -> 44250000 | E38: =[1]세입!E37 -> 29336422 | F38: =E38-D38 -> -14913578 | I38: 영도할매조립사업단 | J38: =[1]세출!D37 -> 92000000 | K38: =[1]세출!E37 -> 92000000 | L38: =K38-J38 -> 0
A39: 잡수입 | D39: =D40 -> 400000 | E39: =E40 -> 2103578 | F39: =F40 -> 1703578 | I39: 영도할매주차장관리사업단 | J39: =[1]세출!D38 -> 163400000 | K39: =[1]세출!E38 -> 200000000 | L39: =K39-J39 -> 36600000
B40: 잡수입 | D40: =SUM(D41:D42) -> 400000 | E40: =SUM(E41:E42) -> 2103578 | F40: =E40-D40 -> 1703578 | I40: 영도할매어린이집식단관리사업단 | J40: =[1]세출!D39 -> 68100000 | K40: =[1]세출!E39 -> 68000000 | L40: =K40-J40 -> -100000
C41: 기타예금이자수입 | D41: =[1]세입!D40 -> 200000 | E41: =[1]세입!E40 -> 300000 | F41: =E41-D41 -> 100000 | I41: 영도할매재활용사업단 | J41: =[1]세출!D40 -> 58000000 | K41: =[1]세출!E40 -> 48000000 | L41: =K41-J41 -> -10000000
C42: 기타잡수입 | D42: =[1]세입!D41 -> 200000 | E42: =[1]세입!E41 -> 1803578 | F42: =E42-D42 -> 1603578 | I42: 영도할매실버안심택배사업단 | J42: =[1]세출!D41 -> 55000000 | K42: =[1]세출!E41 -> 98000000 | L42: =K42-J42 -> 43000000
I43: 영도할매실버뱅크사업단 | J43: =[1]세출!D42 -> 26300000 | K43: =[1]세출!E42 -> 13000000 | L43: =K43-J43 -> -13300000
I44: 영도할매급식도우미사업단 | J44: =[1]세출!D43 -> 79200000 | K44: =[1]세출!E43 -> 79495600 | L44: =K44-J44 -> 295600
I45: 영도할매보육교사도우미사업단 | J45: =[1]세출!D44 -> 47820000 | K45: =[1]세출!E44 -> 48060000 | L45: =K45-J45 -> 240000
I46: 기타사업단 | J46: =[1]세출!D45 -> 3000000 | K46: =[1]세출!E45 -> 2500000 | L46: =K46-J46 -> -500000
I47: 전담인력사업비 | J47: =[1]세출!D46 -> 22000000 | K47: =[1]세출!E46 -> 22000000 | L47: =K47-J47 -> 0
G48: 반환금 | J48: =J49 -> 1000000 | K48: =K49 -> 685416 | L48: =L49 -> -314584
H49: 반환금 | J49: =J50 -> 1000000 | K49: =K50 -> 685416 | L49: =K49-J49 -> -314584
I50: 보조금잔액반환금 | J50: =[1]세출!D49 -> 1000000 | K50: 685416 | L50: =K50-J50 -> -314584
G51: 잡지출 | J51: =J52 -> 500000 | K51: =K52 -> 100000 | L51: =K51-J51 -> -400000
H52: 잡지출 | J52: =J53 -> 500000 | K52: =K53 -> 100000 | L52: =K52-J52 -> -400000
I53: 잡지출 | J53: =[1]세출!D52 -> 500000 | K53: 100000 | L53: =K53-J53 -> -400000
G54: 이월금 | J54: =J55 -> 71080000 | K54: =K55 -> 70174527 | L54: =K54-J54 -> -905473
H55: 이월금 | J55: =J56 -> 71080000 | K55: =K56 -> 70174527 | L55: =K55-J55 -> -905473
I56: 이월금 | J56: =[1]세출!D55 -> 71080000 | K56: =[1]세출!E55 -> 70174527 | L56: =K56-J56 -> -905473
G57: 예비비 | J57: =J58 -> 668000 | K57: =K58 -> 153380 | L57: =K57-J57 -> -514620
H58: 예비비 | J58: =J59 -> 668000 | K58: =K59 -> 153380 | L58: =K58-J58 -> -514620
I59: 예비비 | J59: =[1]세출!D58 -> 668000 | K59: 153380 | L59: =K59-J59 -> -514620
