Workbook

Sheet 총괄표
A1: 부산영도시니어클럽 2021년 2차 추경 예산서
L2: (단위 : 원)
A4: 순번 | B4: 세입 | H4: 세출
B5: 관 | C5: 항 | D5: 목 | E5: 예산액 | H5: 관 | I5: 항 | J5: 목 | K5: 예산액
E6: 1차 추경 | F6: 2차 추경 | G6: 증감액 | K6: 1차 추경 | L6: 2차 추경 | M6: 증감액
A7: 1 | B7: 사업수입 | C7: 사업수입 | D7: 사업수입 | E7: 1483587400 | F7: =[1]세입!G5 -> 1364193020 | G7: =F7-E7 -> -119394380 | H7: 사무비 | I7: 인건비 | J7: 급여 | K7: 225492200 | L7: =[1]세출!G5 -> 225467500 | M7: -24700
A8: 2 | B8: 보조금수입 | C8: 보조금수입 | D8: 국고보조금 | E8: 3075182000 | F8: =[1]세입!G6 -> 3060182000 | G8: =F8-E8 -> -15000000 | H8: 사무비 | I8: 인건비 | J8: 제수당 | K8: 29341320 | L8: =[1]세출!G6 -> 28657320 | M8: -684000
A9: 3 | D9: 시도보조금 | E9: 3357173000 | F9: =[1]세입!G7 -> 3391251000 | G9: =F9-E9 -> 34078000 | J9: 퇴직금 및 퇴직적립금 | K9: 24373010 | L9: =[1]세출!G7 -> 24563950 | M9: 19940
A10: 4 | D10: 시군구보조금 | E10: 80657000 | F10: =[1]세입!G8 -> 80657000 | G10: =F10-E10 -> 0 | J10: 사회보험부담금 | K10: 21264080 | L10: =[1]세출!G8 -> 22264080 | M10: 1000000
A11: 5 | D11: 기타보조금 | E11: 0 | F11: =[1]세입!G9 -> 0 | G11: =F11-E11 -> 0 | H11: 사무비 | I11: 인건비 | J11: 기타후생경비 | K11: 15940000 | L11: =[1]세출!G9 -> 9852000 | M11: -6088000
A12: 6 | B12: 후원금수입 | C12: 후원금수입 | D12: 지정후원금 | E12: 100000000 | F12: =[1]세입!G10 -> 30000000 | G12: =F12-E12 -> -70000000 | H12: 사무비 | I12: 업무추진비 | J12: 기관운영비 | K12: 1940000 | L12: =[1]세출!G10 -> 1740000 | M12: -200000
A13: 7 | B13: 전입금 | C13: 전입금 | D13: 법인전입금(후원금) | E13: 5000000 | F13: =[1]세입!G11 -> 5000000 | G13: =F13-E13 -> 0 | H13: 사무비 | I13: 업무추진비 | J13: 회의비 | K13: 400000 | L13: =[1]세출!G11 -> 400000 | M13: 0
A14: 8 | B14: 이월금 | C14: 이월금 | D14: 전년도이월금 | E14: 351640739 | F14: =[1]세입!G12 -> 351640739 | G14: =F14-E14 -> 0 | I14: 운영비 | J14: 여비 | K14: 1800000 | L14: =[1]세출!G12 -> 1800000 | M14: 0
A15: 9 | D15: 전년도이월금(후원금) | E15: 5565207 | F15: =[1]세입!G13 -> 5565207 | G15: =F15-E15 -> 0 | H15: 사무비 | I15: 운영비 | J15: 수용비 및 수수료 | K15: 15591500 | L15: =[1]세출!G13 -> 15915260 | M15: 494760
A16: 10 | B16: 잡수입 | C16: 잡수입 | D16: 불용품매각대 | E16: 0 | F16: =[1]세입!G14 -> 0 | G16: =F16-E16 -> 0 | J16: 공공요금 | K16: 5040000 | L16: =[1]세출!G14 -> 5040000 | M16: 0
A17: 11 | D17: 기타예금이자수입 | E17: 286013 | F17: =[1]세입!G15 -> 328034 | G17: =F17-E17 -> 42021 | J17: 제세공과금 | K17: 4915890 | L17: =[1]세출!G15 -> 4915890 | M17: 0
A18: 12 | D18: 기타잡수입 | E18: 108641 | F18: =[1]세입!G16 -> 1500000 | G18: =F18-E18 -> 1391359 | H18: 사무비 | I18: 운영비 | J18: 차량비 | K18: 950000 | L18: =[1]세출!G16 -> 950000 | M18: 0
A19: 13 | E19: 0 | F19: 0 | G19: =F19-E19 -> 0 | J19: 기타운영비 | K19: 3000000 | L19: =[1]세출!G17 -> 0 | M19: -3000000
A20: 14 | E20: 0 | F20: 0 | G20: =F20-E20 -> 0 | H20: 재산조성비 | I20: 시설비 | J20: 자산취득비 | K20: 0 | L20: =[1]세출!G18 -> 0 | M20: 0
A21: 15 | E21: 0 | F21: 0 | G21: =F21-E21 -> 0 | H21: 사업비 | I21: 사업단 사업비 | J21: 영도할매방아깨비사업단사업비 | K21: 189698271 | L21: =[1]세출!G19 -> 190790000 | M21: =L21-K21 -> 1091729
A22: 16 | E22: 0 | F22: 0 | G22: =F22-E22 -> 0 | J22: 영도할매어울림사업단사업비 | K22: 807806000 | L22: =[1]세출!G20 -> 792655000 | M22: =L22-K22 -> -15151000
A23: 17 | E23: 0 | F23: 0 | G23: =F23-E23 -> 0 | J23: 영도할매주차장관리사업단사업비 | K23: 283413038 | L23: =[1]세출!G21 -> 280019000 | M23: =L23-K23 -> -3394038
A24: 18 | E24: 0 | F24: 0 | G24: =F24-E24 -> 0 | J24: 영도할매요리조리사업단사업비 | K24: 119378330 | L24: =[1]세출!G22 -> 103534070 | M24: =L24-K24 -> -15844260
A25: 19 | E25: 0 | F25: 0 | G25: =F25-E25 -> 0 | J25: 영도할매재활용사업단사업비 | K25: 3077236 | L25: =[1]세출!G23 -> 3077236 | M25: =L25-K25 -> 0
A26: 20 | E26: 0 | F26: 0 | G26: =F26-E26 -> 0 | J26: 영도할매급식도우미사업단사업비 | K26: 298400718 | L26: =[1]세출!G24 -> 306181000 | M26: =L26-K26 -> 7780282
A27: 21 | E27: 0 | F27: 0 | G27: =F27-E27 -> 0 | J27: 영도할매보육교사도우미사업단사업비 | K27: 315000000 | L27: =[1]세출!G25 -> 151200000 | M27: =L27-K27 -> -163800000
A28: 22 | E28: 0 | F28: 0 | G28: =F28-E28 -> 0 | J28: 노인일자리담당자사업비 | K28: 307944000 | L28: =[1]세출!G26 -> 307944000 | M28: =L28-K28 -> 0
A29: 23 | E29: 0 | F29: 0 | G29: =F29-E29 -> 0 | J29: 영도할매지킴이사업단사업비 | K29: 204695388 | L29: =[1]세출!G27 -> 108930000 | M29: =L29-K29 -> -95765388
A30: 24 | E30: 0 | F30: 0 | G30: =F30-E30 -> 0 | J30: 영도할매공공시설봉사사업단사업비 | K30: 315000000 | L30: =[1]세출!G28 -> 390600000 | M30: =L30-K30 -> 75600000
A31: 25 | E31: 0 | F31: 0 | G31: =F31-E31 -> 0 | J31: 영도할매싱싱가게사업단사업비 | K31: 164108345 | L31: =[1]세출!G29 -> 147592694 | M31: =L31-K31 -> -16515651
A32: 26 | E32: 0 | F32: 0 | G32: =F32-E32 -> 0 | J32: 영도할매실버보금자리사업단사업비 | K32: 30000000 | L32: =[1]세출!G30 -> 30000000 | M32: =L32-K32 -> 0
A33: 27 | E33: 0 | F33: 0 | G33: =F33-E33 -> 0 | J33: 영도할매스쿨존사업단사업비 | K33: 643907 | L33: =[1]세출!G31 -> 643907 | M33: =L33-K33 -> 0
... A55: 49 | E55: 0 | F55: 0 | G55: =F55-E55 -> 0 | J55: 영도할매소비자안전사업단사업비 | K55: 0 | L55: =[1]세출!G53 -> 27755000 | M55: =L55-K55 -> 27755000
A56: 50 | E56: 0 | F56: 0 | G56: =F56-E56 -> 0 | I56: 사업단지원 사업비 | J56: 시장진입형사업단지원사업비 | K56: 12000000 | L56: =[1]세출!G54 -> 10668000 | M56: =L56-K56 -> -1332000
A57: 51 | E57: 0 | F57: 0 | G57: =F57-E57 -> 0 | J57: 기타사업단지원사업비 | K57: 500000 | L57: =[1]세출!G55 -> 500000 | M57: =L57-K57 -> 0
A58: 52 | E58: 0 | F58: 0 | G58: =F58-E58 -> 0 | I58: 일반 사업비 | J58: 기타복지사업비 | K58: 2000000 | L58: =[1]세출!G56 -> 2000000 | M58: =L58-K58 -> 0
A59: 53 | E59: 0 | F59: 0 | G59: =F59-E59 -> 0 | J59: 홍보사업비 | K59: 7000000 | L59: =[1]세출!G57 -> 8000000 | M59: =L59-K59 -> 1000000
A60: 54 | E60: 0 | F60: 0 | G60: =F60-E60 -> 0 | J60: 지역사회사업비 | K60: 500000 | L60: =[1]세출!G58 -> 500000 | M60: =L60-K60 -> 0
A61: 55 | E61: 0 | F61: 0 | G61: =F61-E61 -> 0 | H61: 잡지출 | I61: 잡지출 | J61: 잡지출 | K61: 0 | L61: =[1]세출!G59 -> 0 | M61: =L61-K61 -> 0
A62: 56 | E62: 0 | F62: 0 | G62: =F62-E62 -> 0 | H62: 예비비 및 기타 | I62: 예비비 및 기타 | J62: 예비비 | K62: 88247257 | L62: =[1]세출!G60 -> 107749452 | M62: =L62-K62 -> 19502195
A63: 57 | E63: 0 | F63: 0 | G63: =F63-E63 -> 0 | J63: 반환금 | K63: 202731641 | L63: =[1]세출!G61 -> 202731641 | M63: =L63-K63 -> 0
A64: 합계 | E64: =SUM(E7:E63) -> 8459200000 | F64: =SUM(F7:F63) -> 8290317000 | G64: =SUM(G7:G63) -> -168883000 | H64: 합계 | K64: =SUM(K7:K63) -> 8459200000 | L64: =SUM(L7:L63) -> 8290317000 | M64: =SUM(M7:M63) -> -168883000
